{"text_format":"1","workbook":"xlsx","n_sheets":44,"sheets":["PORTADA","ÍNDICE","Cartera de Patentes","Gráfico Cartera de Patentes","EvaluaciónPatente1","InformePatente1","EvaluaciónPatente2","InformePatente2","EvaluaciónPatente3","InformePatente3","EvaluaciónPatente4","InformePatente4","EvaluaciónPatente5","InformePatente5","EvaluaciónPatente6","InformePatente6","EvaluaciónPatente7","InformePatente7","EvaluaciónPatente8","InformePatente8","EvaluaciónPatente9","InformePatente9","EvaluaciónPatente10","InformePatente10","EvaluaciónPatente11","InformePatente11","EvaluaciónPatente12","InformePatente12","EvaluaciónPatente13","InformePatente13","EvaluaciónPatente14","InformePatente14","EvaluaciónPatente15","InformePatente15","EvaluaciónPatente16","InformePatente16","EvaluaciónPatente17","InformePatente17","EvaluaciónPatente18","InformePatente18","EvaluaciónPatente19","InformePatente19","EvaluaciónPatente20","InformePatente20"],"not_rendered":{"charts":22,"images":4,"macros":1,"external_links":0,"defined_names":22,"comments":0,"pivot_tables":0},"unopened":[],"bounds":{"document_bytes":16777216,"sheet_cells":100000,"rows_first":2000,"rows_last":500,"rows_between":2000,"halvings":0,"cell_chars":16384,"cell_head_chars":4096},"cells_cut":0,"cells_raw":0,"read":"whole","date_system":"1900"}

{"sheet":"PORTADA","index":0,"n_rows":55,"n_cols":1,"rows_kept":55,"cut":false,"hidden":false,"merged":[]}
[]
[]
[]
[]
[]
[]
[]
[]
[]
[]
["DESCRIPCIÓN Y UTILIDAD"]
[]
["Esta herramienta complementa el contenido de la publicación \"Metodología para la evaluación del potencial comercial de tecnologías protegidas mediante patente\" y proporciona un soporte adicional al procedimiento descrito con una doble utilidad:"]
["- Facilitar el registro de las evaluaciones realizadas, una vez realizado el proceso de caracterización de la tecnología patentada."]
["- Proporcionar información de conjunto sobre el potencial de la cartera de patentes."]
[]
[]
["INSTRUCCIONES DE USO"]
[]
["REGISTRO DE LA EVALUACIÓN DE PATENTES"]
[]
["Previo a la utilización de esta herramienta:"]
[]
["1. Seleccionar la tecnología patentada objeto de evaluación."]
["2. Completar, utilizando el formulario incluido en el Anexo I, la fase de “Caracterización de la tecnología patentada”."]
["3. Completar, utilizando el formulario incluido en el Anexo II, la fase de “Evaluación”."]
["4. Completar, utilizando el formulario incluido en el Anexo III, la fase de “Elaboración del informe”. "]
[]
["Introducción de datos sobre la primera tecnología patentada "]
[]
["Partiendo de los formularios indicados en el punto anterior ya debidamente cubiertos:"]
[]
["1. Seleccionar la hoja Evaluación de la Patente 1, marcar con una \"x\" la opción elegida para cada criterio y añadir las conclusiones más relevantes incluidas en el formulario correspondiente (Anexo II)."]
["2. Seleccionar la hoja Informe Patente 1 -ubicada al lado de Evaluación- y volcar en la sección 3 los datos más relevantes incluidos en el formulario correspondiente (Anexo III)."]
[]
["Una vez finalizada la cobertura, el Informe se puede guardar en versión Excel (en este mismo documento o en otro), en versión PDF o imprimirse. Este archivo está protegido para su correcto funcionamiento pero sin ningún tipo de clave, de modo que los resultados también se pueden utilizar para la elaboración de otros informes."]
[]
["Introducción de datos sobre las siguientes tecnologías patentadas"]
[]
["1. Consultar la hoja Cartera de Patentes cuál fue la última tecnología patentada introducida (ver código en la columna ID)."]
["2. Seleccionar la hoja Evaluación Patente que corresponda para la nueva evaluación. Por ejemplo: si hay 3 tecnologías patentadas cargadas se seleccionará la Evaluación Patente 4. Tener en cuenta que si los datos se introducen sobre un informe ya cargado éste sustituirá al existente."]
["3. Seleccionar la hoja Informe Patente que corresponda y cargar los datos. Por ejemplo, si se cargó la Evaluación Patente 4, se cargará el Informe Patente 4."]
[]
["Actualización de datos de evaluaciones previas"]
[]
["Si se realizan actuaciones sobre evaluaciones previas, no es necesario cargar una nueva evaluación ya que se pueden modificar los datos de evaluaciones previas. Para esto se identificará el código de tecnología patentada en la hoja Cartera de Patentes (Columna ID) y a continuación se incluirán las modificaciones en las hojas Evaluación Patente e Informe Patente correspondientes."]
[]
[]
["VISIÓN DE CONJUNTO SOBRE LA CARTERA DE PATENTES"]
[]
["Las hojas CARTERA DE PATENTES Y GRÁFICO CARTERA DE PATENTES proporcionan una visión de conjunto sobre las características de las tecnologías patentadas evaluadas de cara a avanzar en el proceso de su posible comercialización. "]
[]
["- CARTERA DE PATENTES: incluye el listado de tecnologías patentadas. Éstas se podrán ordenar o filtrar según cualquiera de los criterios y subcriterios utilizados para su caracterización o del porcentaje alcanzado en cada criterio. Más allá se puede filtrar por el promedio de los porcentajes alcanzados para cada tecnología patentada."]
[]
["- GRÁFICO CARTERA DE PATENTES: se incluyen dos gráficos, uno de tipo radial que permite comparar los resultados de los principales parámetros evaluados para cada una de las tecnologías patentadas de la cartera, y otro gráfico de barras, que muestra el resultado global ponderado para cada una de las tecnologías patentadas. La ponderación se distribuye de la siguiente manera: un 25% para los criterios legales, un 25% para los criterios tecnológicos y un 50% para los criterios de mercado."]

{"sheet":"ÍNDICE","index":1,"n_rows":76,"n_cols":3,"rows_kept":76,"cut":false,"hidden":false,"merged":[]}
[]
[]
[]
[]
[]
[]
[]
[]
[]
[]
["  "]
[null,"ÍNDICE"]
[null,"Portada"]
[null,"0. Cartera Patentes"]
[null,"0.1 Cartera de Patentes"]
[null,"0.2 Gráficos"]
[null,"1 Patente 1:",{"$f":"IF(COUNTA(EvaluaciónPatente1!$F$11)>0,EvaluaciónPatente1!$F$11,\"\")","v":""}]
[null,"1.1 Evaluación Patente 1"]
[null,"1.2 Informe Patente 1"]
[null,"2. Patente 2:",{"$f":"IF(COUNTA(EvaluaciónPatente2!$F$11)>0,EvaluaciónPatente2!$F$11,\"\")","v":""}]
[null,"2.1 Evaluación Patente 2"]
[null,"2.2 Informe Patente 2"]
[null,"3. Patente 3:",{"$f":"IF(COUNTA(EvaluaciónPatente3!$F$11)>0,EvaluaciónPatente3!$F$11,\"\")","v":""}]
[null,"3.1 Evaluación Patente 3"]
[null,"3.2 Informe Patente 3"]
[null,"4. Patente 4:",{"$f":"IF(COUNTA(EvaluaciónPatente4!$F$11)>0,EvaluaciónPatente4!$F$11,\"\")","v":""}]
[null,"4.1 Evaluación Patente 4"]
[null,"4.2 Informe Patente 4"]
[null,"5. Patente 5:",{"$f":"IF(COUNTA(EvaluaciónPatente5!$F$11)>0,EvaluaciónPatente5!$F$11,\"\")","v":""}]
[null,"5.1 Evaluación Patente 5"]
[null,"5.2 Informe Patente 5"]
[null,"6. Patente 6:",{"$f":"IF(COUNTA(EvaluaciónPatente6!$F$11)>0,EvaluaciónPatente6!$F$11,\"\")","v":""}]
[null,"6.1 Evaluación Patente 6"]
[null,"6.2 Informe Patente 6"]
[null,"7. Patente 7:",{"$f":"IF(COUNTA(EvaluaciónPatente7!$F$11)>0,EvaluaciónPatente7!$F$11,\"\")","v":""}]
[null,"7.1 Evaluación Patente 7"]
[null,"7.2 Informe Patente 7"]
[null,"8. Patente 8:",{"$f":"IF(COUNTA(EvaluaciónPatente8!$F$11)>0,EvaluaciónPatente8!$F$11,\"\")","v":""}]
[null,"8.1 Evaluación Patente 8"]
[null,"8.2 Informe Patente 8"]
[null,"9. Patente 9:",{"$f":"IF(COUNTA(EvaluaciónPatente9!$F$11)>0,EvaluaciónPatente9!$F$11,\"\")","v":""}]
[null,"9.1 Evaluación Patente 9"]
[null,"9.2 Informe Patente 9"]
[null,"10. Patente 10:",{"$f":"IF(COUNTA(EvaluaciónPatente10!$F$11)>0,EvaluaciónPatente10!$F$11,\"\")","v":""}]
[null,"10.1 Evaluación Patente 10"]
[null,"10.2 Informe Patente 10"]
[null,"11. Patente 11:",{"$f":"IF(COUNTA(EvaluaciónPatente11!$F$11)>0,EvaluaciónPatente11!$F$11,\"\")","v":""}]
[null,"11.1 Evaluación Patente 11"]
[null,"11.2 Informe Patente 11"]
[null,"12. Patente 12:",{"$f":"IF(COUNTA(EvaluaciónPatente12!$F$11)>0,EvaluaciónPatente12!$F$11,\"\")","v":""}]
[null,"12.1 Evaluación Patente 12"]
[null,"12.2 Informe Patente 12"]
[null,"13. Patente 13:",{"$f":"IF(COUNTA(EvaluaciónPatente13!$F$11)>0,EvaluaciónPatente13!$F$11,\"\")","v":""}]
[null,"13.1 Evaluación Patente 13"]
[null,"13.2 Informe Patente 13"]
[null,"14. Patente 14:",{"$f":"IF(COUNTA(EvaluaciónPatente14!$F$11)>0,EvaluaciónPatente14!$F$11,\"\")","v":""}]
[null,"14.1 Evaluación Patente 14"]
[null,"14.2 Informe Patente 14"]
[null,"15. Patente 15:",{"$f":"IF(COUNTA(EvaluaciónPatente15!$F$11)>0,EvaluaciónPatente15!$F$11,\"\")","v":""}]
[null,"15.1 Evaluación Patente 15"]
[null,"15.2 Informe Patente 15"]
[null,"16. Patente 16:",{"$f":"IF(COUNTA(EvaluaciónPatente16!$F$11)>0,EvaluaciónPatente16!$F$11,\"\")","v":""}]
[null,"16.1 Evaluación Patente 16"]
[null,"16.2 Informe Patente 16"]
[null,"17. Patente 17:",{"$f":"IF(COUNTA(EvaluaciónPatente17!$F$11)>0,EvaluaciónPatente17!$F$11,\"\")","v":""}]
[null,"17.1 Evaluación Patente 17"]
[null,"17.2 Informe Patente 17"]
[null,"18. Patente 18:",{"$f":"IF(COUNTA(EvaluaciónPatente18!$F$11)>0,EvaluaciónPatente18!$F$11,\"\")","v":""}]
[null,"18.1 Evaluación Patente 18"]
[null,"18.2 Informe Patente 18"]
[null,"19. Patente 19:",{"$f":"IF(COUNTA(EvaluaciónPatente19!$F$11)>0,EvaluaciónPatente19!$F$11,\"\")","v":""}]
[null,"19.1 Evaluación Patente 19"]
[null,"19.2 Informe Patente 19"]
[null,"20. Patente 20:",{"$f":"IF(COUNTA(EvaluaciónPatente20!$F$11)>0,EvaluaciónPatente20!$F$11,\"\")","v":""}]
[null,"20.1 Evaluación Patente 20"]
[null,"20.2 Informe Patente 20"]

{"sheet":"Cartera de Patentes","index":2,"n_rows":27,"n_cols":26,"rows_kept":27,"cut":false,"hidden":false,"merged":[]}
[]
[]
[]
[]
[]
[]
["ID","Fecha de evaluación de la tecnología","Denominación de la tecnología patentada","1. Criterios legales","1.1 Estado legal ","1.2  Alcance territorial ","1.3 Fuerza de la protección","1.4 Duración de la protección","1.5 Alcance de la protección","1.6 (In)dependencia","2. Criterios tecnológicos  ","2.1 Capacidad de detección","2.2 Capacidad de imitación","2.3 Estado de desarrollo (TRL)","2.4 Proceso de producción / competencias ","3. Criterios de mercado","3.1 Compromiso con la comercialización","3.2 Mercado potencial / Aplicaciones ","3.3 Evolución del mercado","3.4 Esperanza de vida en el mercado ","3.5 Entorno competitivo ","3.6 Permisos y estándares de mercado ","3.7  Ventajas competitivas","3.8 Plazo de comercialización","3.9 Oportunidades comerciales y feedback","TÉRMINO MEDIO"]
[1,{"$f":"EvaluaciónPatente1!$F$13","v":"00:00:00"},{"$f":"IF(COUNTA(EvaluaciónPatente1!$F$11)>0,EvaluaciónPatente1!$F$11,\"\")","v":""},{"$f":"IF(COUNT(G8:J8)>0,(('Cartera de Patentes'!G8+'Cartera de Patentes'!H8+'Cartera de Patentes'!I8+'Cartera de Patentes'!J8)/8),\"\")","v":""},{"$f":"IF(InformePatente1!$J$23<>\"\",InformePatente1!$J$23,\"\")","v":""},{"$f":"IF(InformePatente1!$J$24<>\"\",InformePatente1!$J$24,\"\")","v":""},{"$f":"IF(InformePatente1!$J$25<>\"\",InformePatente1!$J$25,\"\")","v":""},{"$f":"IF(InformePatente1!$J$26<>\"\",InformePatente1!$J$26,\"\")","v":""},{"$f":"IF(InformePatente1!$J$27<>\"\",InformePatente1!$J$27,\"\")","v":""},{"$f":"IF(InformePatente1!$J$28<>\"\",InformePatente1!$J$28,\"\")","v":""},{"$f":"IF(COUNT(L8:O8)>0,(('Cartera de Patentes'!L8+'Cartera de Patentes'!M8+'Cartera de Patentes'!N8+'Cartera de Patentes'!O8)/8),\"\")","v":""},{"$f":"IF(InformePatente1!$J$29<>\"\",InformePatente1!$J$29,\"\")","v":""},{"$f":"IF(InformePatente1!$J$30<>\"\",InformePatente1!$J$30,\"\")","v":""},{"$f":"IF(InformePatente1!$J$31<>\"\",InformePatente1!$J$31,\"\")","v":""},{"$f":"IF(InformePatente1!$J$32<>\"\",InformePatente1!$J$32,\"\")","v":""},{"$f":"IF(COUNT(Q8:Y8)>0,(('Cartera de Patentes'!Q8+'Cartera de Patentes'!R8+'Cartera de Patentes'!S8+'Cartera de Patentes'!T8+'Cartera de Patentes'!U8+'Cartera de Patentes'!V8+'Cartera de Patentes'!W8+'Cartera de Patentes'!X8+'Cartera de Patentes'!Y8)/18),\"\")","v":""},{"$f":"IF(InformePatente1!$J$43<>\"\",InformePatente1!$J$43,\"\")","v":""},{"$f":"IF(InformePatente1!$J$44<>\"\",InformePatente1!$J$44,\"\")","v":""},{"$f":"IF(InformePatente1!$J$45<>\"\",InformePatente1!$J$45,\"\")","v":""},{"$f":"IF(InformePatente1!$J$46<>\"\",InformePatente1!$J$46,\"\")","v":""},{"$f":"IF(InformePatente1!$J$47<>\"\",InformePatente1!$J$47,\"\")","v":""},{"$f":"IF(InformePatente1!$J$48<>\"\",InformePatente1!$J$48,\"\")","v":""},{"$f":"IF(InformePatente1!$J$49<>\"\",InformePatente1!$J$49,\"\")","v":""},{"$f":"IF(InformePatente1!$J$50<>\"\",InformePatente1!$J$50,\"\")","v":""},{"$f":"IF(InformePatente1!$J$51<>\"\",InformePatente1!$J$51,\"\")","v":""},{"$f":"IF(COUNT(K8,P8,D8)>0,AVERAGE(K8,P8,D8),\"\")","v":""}]
[2,{"$f":"EvaluaciónPatente2!$F$13","v":"00:00:00"},{"$f":"IF(COUNTA(EvaluaciónPatente2!$F$11)>0,EvaluaciónPatente2!$F$11,\"\")","v":""},{"$f":"IF(COUNT(G9:J9)>0,(('Cartera de Patentes'!G9+'Cartera de Patentes'!H9+'Cartera de Patentes'!I9+'Cartera de Patentes'!J9)/8),\"\")","v":""},{"$f":"IF(InformePatente2!$J$23<>\"\",InformePatente2!$J$23,\"\")","v":""},{"$f":"IF(InformePatente2!$J$24<>\"\",InformePatente2!$J$24,\"\")","v":""},{"$f":"IF(InformePatente2!$J$25<>\"\",InformePatente2!$J$25,\"\")","v":""},{"$f":"IF(InformePatente2!$J$26<>\"\",InformePatente2!$J$26,\"\")","v":""},{"$f":"IF(InformePatente2!$J$27<>\"\",InformePatente2!$J$27,\"\")","v":""},{"$f":"IF(InformePatente2!$J$28<>\"\",InformePatente2!$J$28,\"\")","v":""},{"$f":"IF(COUNT(L9:O9)>0,(('Cartera de Patentes'!L9+'Cartera de Patentes'!M9+'Cartera de Patentes'!N9+'Cartera de Patentes'!O9)/8),\"\")","v":""},{"$f":"IF(InformePatente2!$J$29<>\"\",InformePatente2!$J$29,\"\")","v":""},{"$f":"IF(InformePatente2!$J$30<>\"\",InformePatente2!$J$30,\"\")","v":""},{"$f":"IF(InformePatente2!$J$31<>\"\",InformePatente2!$J$31,\"\")","v":""},{"$f":"IF(InformePatente2!$J$32<>\"\",InformePatente2!$J$32,\"\")","v":""},{"$f":"IF(COUNT(Q9:Y9)>0,(('Cartera de Patentes'!Q9+'Cartera de Patentes'!R9+'Cartera de Patentes'!S9+'Cartera de Patentes'!T9+'Cartera de Patentes'!U9+'Cartera de Patentes'!V9+'Cartera de Patentes'!W9+'Cartera de Patentes'!X9+'Cartera de Patentes'!Y9)/18),\"\")","v":""},{"$f":"IF(InformePatente2!$J$43<>\"\",InformePatente2!$J$43,\"\")","v":""},{"$f":"IF(InformePatente2!$J$44<>\"\",InformePatente2!$J$44,\"\")","v":""},{"$f":"IF(InformePatente2!$J$45<>\"\",InformePatente2!$J$45,\"\")","v":""},{"$f":"IF(InformePatente2!$J$46<>\"\",InformePatente2!$J$46,\"\")","v":""},{"$f":"IF(InformePatente2!$J$47<>\"\",InformePatente2!$J$47,\"\")","v":""},{"$f":"IF(InformePatente2!$J$48<>\"\",InformePatente2!$J$48,\"\")","v":""},{"$f":"IF(InformePatente2!$J$49<>\"\",InformePatente2!$J$49,\"\")","v":""},{"$f":"IF(InformePatente2!$J$50<>\"\",InformePatente2!$J$50,\"\")","v":""},{"$f":"IF(InformePatente2!$J$51<>\"\",InformePatente2!$J$51,\"\")","v":""},{"$f":"IF(COUNT(K9,P9,D9)>0,AVERAGE(K9,P9,D9),\"\")","v":""}]
[3,{"$f":"EvaluaciónPatente3!$F$13","v":"00:00:00"},{"$f":"IF(COUNTA(EvaluaciónPatente3!$F$11)>0,EvaluaciónPatente3!$F$11,\"\")","v":""},{"$f":"IF(COUNT(G10:J10)>0,(('Cartera de Patentes'!G10+'Cartera de Patentes'!H10+'Cartera de Patentes'!I10+'Cartera de Patentes'!J10)/8),\"\")","v":""},{"$f":"IF(InformePatente3!$J$23<>\"\",InformePatente3!$J$23,\"\")","v":""},{"$f":"IF(InformePatente3!$J$24<>\"\",InformePatente3!$J$24,\"\")","v":""},{"$f":"IF(InformePatente3!$J$25<>\"\",InformePatente3!$J$25,\"\")","v":""},{"$f":"IF(InformePatente3!$J$26<>\"\",InformePatente3!$J$26,\"\")","v":""},{"$f":"IF(InformePatente3!$J$27<>\"\",InformePatente3!$J$27,\"\")","v":""},{"$f":"IF(InformePatente3!$J$28<>\"\",InformePatente3!$J$28,\"\")","v":""},{"$f":"IF(COUNT(L10:O10)>0,(('Cartera de Patentes'!L10+'Cartera de Patentes'!M10+'Cartera de Patentes'!N10+'Cartera de Patentes'!O10)/8),\"\")","v":""},{"$f":"IF(InformePatente3!$J$29<>\"\",InformePatente3!$J$29,\"\")","v":""},{"$f":"IF(InformePatente3!$J$30<>\"\",InformePatente3!$J$30,\"\")","v":""},{"$f":"IF(InformePatente3!$J$31<>\"\",InformePatente3!$J$31,\"\")","v":""},{"$f":"IF(InformePatente3!$J$32<>\"\",InformePatente3!$J$32,\"\")","v":""},{"$f":"IF(COUNT(Q10:Y10)>0,(('Cartera de Patentes'!Q10+'Cartera de Patentes'!R10+'Cartera de Patentes'!S10+'Cartera de Patentes'!T10+'Cartera de Patentes'!U10+'Cartera de Patentes'!V10+'Cartera de Patentes'!W10+'Cartera de Patentes'!X10+'Cartera de Patentes'!Y10)/18),\"\")","v":""},{"$f":"IF(InformePatente3!$J$43<>\"\",InformePatente3!$J$43,\"\")","v":""},{"$f":"IF(InformePatente3!$J$44<>\"\",InformePatente3!$J$44,\"\")","v":""},{"$f":"IF(InformePatente3!$J$45<>\"\",InformePatente3!$J$45,\"\")","v":""},{"$f":"IF(InformePatente3!$J$46<>\"\",InformePatente3!$J$46,\"\")","v":""},{"$f":"IF(InformePatente3!$J$47<>\"\",InformePatente3!$J$47,\"\")","v":""},{"$f":"IF(InformePatente3!$J$48<>\"\",InformePatente3!$J$48,\"\")","v":""},{"$f":"IF(InformePatente3!$J$49<>\"\",InformePatente3!$J$49,\"\")","v":""},{"$f":"IF(InformePatente3!$J$50<>\"\",InformePatente3!$J$50,\"\")","v":""},{"$f":"IF(InformePatente3!$J$51<>\"\",InformePatente3!$J$51,\"\")","v":""},""]
[4,{"$f":"EvaluaciónPatente4!$F$13","v":"00:00:00"},{"$f":"IF(COUNTA(EvaluaciónPatente4!$F$11)>0,EvaluaciónPatente4!$F$11,\"\")","v":""},{"$f":"IF(COUNT(G11:J11)>0,(('Cartera de Patentes'!G11+'Cartera de Patentes'!H11+'Cartera de Patentes'!I11+'Cartera de Patentes'!J11)/8),\"\")","v":""},{"$f":"IF(InformePatente4!$J$23<>\"\",InformePatente4!$J$23,\"\")","v":""},{"$f":"IF(InformePatente4!$J$24<>\"\",InformePatente4!$J$24,\"\")","v":""},{"$f":"IF(InformePatente4!$J$25<>\"\",InformePatente4!$J$25,\"\")","v":""},{"$f":"IF(InformePatente4!$J$26<>\"\",InformePatente4!$J$26,\"\")","v":""},{"$f":"IF(InformePatente4!$J$27<>\"\",InformePatente4!$J$27,\"\")","v":""},{"$f":"IF(InformePatente4!$J$28<>\"\",InformePatente4!$J$28,\"\")","v":""},{"$f":"IF(COUNT(L11:O11)>0,(('Cartera de Patentes'!L11+'Cartera de Patentes'!M11+'Cartera de Patentes'!N11+'Cartera de Patentes'!O11)/8),\"\")","v":""},{"$f":"IF(InformePatente4!$J$29<>\"\",InformePatente4!$J$29,\"\")","v":""},{"$f":"IF(InformePatente4!$J$30<>\"\",InformePatente4!$J$30,\"\")","v":""},{"$f":"IF(InformePatente4!$J$31<>\"\",InformePatente4!$J$31,\"\")","v":""},{"$f":"IF(InformePatente4!$J$32<>\"\",InformePatente4!$J$32,\"\")","v":""},{"$f":"IF(COUNT(Q11:Y11)>0,(('Cartera de Patentes'!Q11+'Cartera de Patentes'!R11+'Cartera de Patentes'!S11+'Cartera de Patentes'!T11+'Cartera de Patentes'!U11+'Cartera de Patentes'!V11+'Cartera de Patentes'!W11+'Cartera de Patentes'!X11+'Cartera de Patentes'!Y11)/18),\"\")","v":""},{"$f":"IF(InformePatente4!$J$43<>\"\",InformePatente4!$J$43,\"\")","v":""},{"$f":"IF(InformePatente4!$J$44<>\"\",InformePatente4!$J$44,\"\")","v":""},{"$f":"IF(InformePatente4!$J$45<>\"\",InformePatente4!$J$45,\"\")","v":""},{"$f":"IF(InformePatente4!$J$46<>\"\",InformePatente4!$J$46,\"\")","v":""},{"$f":"IF(InformePatente4!$J$47<>\"\",InformePatente4!$J$47,\"\")","v":""},{"$f":"IF(InformePatente4!$J$48<>\"\",InformePatente4!$J$48,\"\")","v":""},{"$f":"IF(InformePatente4!$J$49<>\"\",InformePatente4!$J$49,\"\")","v":""},{"$f":"IF(InformePatente4!$J$50<>\"\",InformePatente4!$J$50,\"\")","v":""},{"$f":"IF(InformePatente4!$J$51<>\"\",InformePatente4!$J$51,\"\")","v":""},""]
[5,{"$f":"EvaluaciónPatente5!$F$13","v":"00:00:00"},{"$f":"IF(COUNTA(EvaluaciónPatente5!$F$11)>0,EvaluaciónPatente5!$F$11,\"\")","v":""},{"$f":"IF(COUNT(G12:J12)>0,(('Cartera de Patentes'!G12+'Cartera de Patentes'!H12+'Cartera de Patentes'!I12+'Cartera de Patentes'!J12)/8),\"\")","v":""},{"$f":"IF(InformePatente5!$J$23<>\"\",InformePatente5!$J$23,\"\")","v":""},{"$f":"IF(InformePatente5!$J$24<>\"\",InformePatente5!$J$24,\"\")","v":""},{"$f":"IF(InformePatente5!$J$25<>\"\",InformePatente5!$J$25,\"\")","v":""},{"$f":"IF(InformePatente5!$J$26<>\"\",InformePatente5!$J$26,\"\")","v":""},{"$f":"IF(InformePatente5!$J$27<>\"\",InformePatente5!$J$27,\"\")","v":""},{"$f":"IF(InformePatente5!$J$28<>\"\",InformePatente5!$J$28,\"\")","v":""},{"$f":"IF(COUNT(L12:O12)>0,(('Cartera de Patentes'!L12+'Cartera de Patentes'!M12+'Cartera de Patentes'!N12+'Cartera de Patentes'!O12)/8),\"\")","v":""},{"$f":"IF(InformePatente5!$J$29<>\"\",InformePatente5!$J$29,\"\")","v":""},{"$f":"IF(InformePatente5!$J$30<>\"\",InformePatente5!$J$30,\"\")","v":""},{"$f":"IF(InformePatente5!$J$31<>\"\",InformePatente5!$J$31,\"\")","v":""},{"$f":"IF(InformePatente5!$J$32<>\"\",InformePatente5!$J$32,\"\")","v":""},{"$f":"IF(COUNT(Q12:Y12)>0,(('Cartera de Patentes'!Q12+'Cartera de Patentes'!R12+'Cartera de Patentes'!S12+'Cartera de Patentes'!T12+'Cartera de Patentes'!U12+'Cartera de Patentes'!V12+'Cartera de Patentes'!W12+'Cartera de Patentes'!X12+'Cartera de Patentes'!Y12)/18),\"\")","v":""},{"$f":"IF(InformePatente5!$J$43<>\"\",InformePatente5!$J$43,\"\")","v":""},{"$f":"IF(InformePatente5!$J$44<>\"\",InformePatente5!$J$44,\"\")","v":""},{"$f":"IF(InformePatente5!$J$45<>\"\",InformePatente5!$J$45,\"\")","v":""},{"$f":"IF(InformePatente5!$J$46<>\"\",InformePatente5!$J$46,\"\")","v":""},{"$f":"IF(InformePatente5!$J$47<>\"\",InformePatente5!$J$47,\"\")","v":""},{"$f":"IF(InformePatente5!$J$48<>\"\",InformePatente5!$J$48,\"\")","v":""},{"$f":"IF(InformePatente5!$J$49<>\"\",InformePatente5!$J$49,\"\")","v":""},{"$f":"IF(InformePatente5!$J$50<>\"\",InformePatente5!$J$50,\"\")","v":""},{"$f":"IF(InformePatente5!$J$51<>\"\",InformePatente5!$J$51,\"\")","v":""},""]
[6,{"$f":"EvaluaciónPatente6!$F$13","v":"00:00:00"},{"$f":"IF(COUNTA(EvaluaciónPatente6!$F$11)>0,EvaluaciónPatente6!$F$11,\"\")","v":""},{"$f":"IF(COUNT(G13:J13)>0,(('Cartera de Patentes'!G13+'Cartera de Patentes'!H13+'Cartera de Patentes'!I13+'Cartera de Patentes'!J13)/8),\"\")","v":""},{"$f":"IF(InformePatente6!$J$23<>\"\",InformePatente6!$J$23,\"\")","v":""},{"$f":"IF(InformePatente6!$J$24<>\"\",InformePatente6!$J$24,\"\")","v":""},{"$f":"IF(InformePatente6!$J$25<>\"\",InformePatente6!$J$25,\"\")","v":""},{"$f":"IF(InformePatente6!$J$26<>\"\",InformePatente6!$J$26,\"\")","v":""},{"$f":"IF(InformePatente6!$J$27<>\"\",InformePatente6!$J$27,\"\")","v":""},{"$f":"IF(InformePatente6!$J$28<>\"\",InformePatente6!$J$28,\"\")","v":""},{"$f":"IF(COUNT(L13:O13)>0,(('Cartera de Patentes'!L13+'Cartera de Patentes'!M13+'Cartera de Patentes'!N13+'Cartera de Patentes'!O13)/8),\"\")","v":""},{"$f":"IF(InformePatente6!$J$29<>\"\",InformePatente6!$J$29,\"\")","v":""},{"$f":"IF(InformePatente6!$J$30<>\"\",InformePatente6!$J$30,\"\")","v":""},{"$f":"IF(InformePatente6!$J$31<>\"\",InformePatente6!$J$31,\"\")","v":""},{"$f":"IF(InformePatente6!$J$32<>\"\",InformePatente6!$J$32,\"\")","v":""},{"$f":"IF(COUNT(Q13:Y13)>0,(('Cartera de Patentes'!Q13+'Cartera de Patentes'!R13+'Cartera de Patentes'!S13+'Cartera de Patentes'!T13+'Cartera de Patentes'!U13+'Cartera de Patentes'!V13+'Cartera de Patentes'!W13+'Cartera de Patentes'!X13+'Cartera de Patentes'!Y13)/18),\"\")","v":""},{"$f":"IF(InformePatente6!$J$43<>\"\",InformePatente6!$J$43,\"\")","v":""},{"$f":"IF(InformePatente6!$J$44<>\"\",InformePatente6!$J$44,\"\")","v":""},{"$f":"IF(InformePatente6!$J$45<>\"\",InformePatente6!$J$45,\"\")","v":""},{"$f":"IF(InformePatente6!$J$46<>\"\",InformePatente6!$J$46,\"\")","v":""},{"$f":"IF(InformePatente6!$J$47<>\"\",InformePatente6!$J$47,\"\")","v":""},{"$f":"IF(InformePatente6!$J$48<>\"\",InformePatente6!$J$48,\"\")","v":""},{"$f":"IF(InformePatente6!$J$49<>\"\",InformePatente6!$J$49,\"\")","v":""},{"$f":"IF(InformePatente6!$J$50<>\"\",InformePatente6!$J$50,\"\")","v":""},{"$f":"IF(InformePatente6!$J$51<>\"\",InformePatente6!$J$51,\"\")","v":""},""]
[7,{"$f":"EvaluaciónPatente7!$F$13","v":"00:00:00"},{"$f":"IF(COUNTA(EvaluaciónPatente7!$F$11)>0,EvaluaciónPatente7!$F$11,\"\")","v":""},{"$f":"IF(COUNT(G14:J14)>0,(('Cartera de Patentes'!G14+'Cartera de Patentes'!H14+'Cartera de Patentes'!I14+'Cartera de Patentes'!J14)/8),\"\")","v":""},{"$f":"IF(InformePatente7!$J$23<>\"\",InformePatente7!$J$23,\"\")","v":""},{"$f":"IF(InformePatente7!$J$24<>\"\",InformePatente7!$J$24,\"\")","v":""},{"$f":"IF(InformePatente7!$J$25<>\"\",InformePatente7!$J$25,\"\")","v":""},{"$f":"IF(InformePatente7!$J$26<>\"\",InformePatente7!$J$26,\"\")","v":""},{"$f":"IF(InformePatente7!$J$27<>\"\",InformePatente7!$J$27,\"\")","v":""},{"$f":"IF(InformePatente7!$J$28<>\"\",InformePatente7!$J$28,\"\")","v":""},{"$f":"IF(COUNT(L14:O14)>0,(('Cartera de Patentes'!L14+'Cartera de Patentes'!M14+'Cartera de Patentes'!N14+'Cartera de Patentes'!O14)/8),\"\")","v":""},{"$f":"IF(InformePatente7!$J$29<>\"\",InformePatente7!$J$29,\"\")","v":""},{"$f":"IF(InformePatente7!$J$30<>\"\",InformePatente7!$J$30,\"\")","v":""},{"$f":"IF(InformePatente7!$J$31<>\"\",InformePatente7!$J$31,\"\")","v":""},{"$f":"IF(InformePatente7!$J$32<>\"\",InformePatente7!$J$32,\"\")","v":""},{"$f":"IF(COUNT(Q14:Y14)>0,(('Cartera de Patentes'!Q14+'Cartera de Patentes'!R14+'Cartera de Patentes'!S14+'Cartera de Patentes'!T14+'Cartera de Patentes'!U14+'Cartera de Patentes'!V14+'Cartera de Patentes'!W14+'Cartera de Patentes'!X14+'Cartera de Patentes'!Y14)/18),\"\")","v":""},{"$f":"IF(InformePatente7!$J$43<>\"\",InformePatente7!$J$43,\"\")","v":""},{"$f":"IF(InformePatente7!$J$44<>\"\",InformePatente7!$J$44,\"\")","v":""},{"$f":"IF(InformePatente7!$J$45<>\"\",InformePatente7!$J$45,\"\")","v":""},{"$f":"IF(InformePatente7!$J$46<>\"\",InformePatente7!$J$46,\"\")","v":""},{"$f":"IF(InformePatente7!$J$47<>\"\",InformePatente7!$J$47,\"\")","v":""},{"$f":"IF(InformePatente7!$J$48<>\"\",InformePatente7!$J$48,\"\")","v":""},{"$f":"IF(InformePatente7!$J$49<>\"\",InformePatente7!$J$49,\"\")","v":""},{"$f":"IF(InformePatente7!$J$50<>\"\",InformePatente7!$J$50,\"\")","v":""},{"$f":"IF(InformePatente7!$J$51<>\"\",InformePatente7!$J$51,\"\")","v":""},""]
[8,{"$f":"EvaluaciónPatente8!$F$13","v":"00:00:00"},{"$f":"IF(COUNTA(EvaluaciónPatente8!$F$11)>0,EvaluaciónPatente8!$F$11,\"\")","v":""},{"$f":"IF(COUNT(G15:J15)>0,(('Cartera de Patentes'!G15+'Cartera de Patentes'!H15+'Cartera de Patentes'!I15+'Cartera de Patentes'!J15)/8),\"\")","v":""},{"$f":"IF(InformePatente8!$J$23<>\"\",InformePatente8!$J$23,\"\")","v":""},{"$f":"IF(InformePatente8!$J$24<>\"\",InformePatente8!$J$24,\"\")","v":""},{"$f":"IF(InformePatente8!$J$25<>\"\",InformePatente8!$J$25,\"\")","v":""},{"$f":"IF(InformePatente8!$J$26<>\"\",InformePatente8!$J$26,\"\")","v":""},{"$f":"IF(InformePatente8!$J$27<>\"\",InformePatente8!$J$27,\"\")","v":""},{"$f":"IF(InformePatente8!$J$28<>\"\",InformePatente8!$J$28,\"\")","v":""},{"$f":"IF(COUNT(L15:O15)>0,(('Cartera de Patentes'!L15+'Cartera de Patentes'!M15+'Cartera de Patentes'!N15+'Cartera de Patentes'!O15)/8),\"\")","v":""},{"$f":"IF(InformePatente8!$J$29<>\"\",InformePatente8!$J$29,\"\")","v":""},{"$f":"IF(InformePatente8!$J$30<>\"\",InformePatente8!$J$30,\"\")","v":""},{"$f":"IF(InformePatente8!$J$31<>\"\",InformePatente8!$J$31,\"\")","v":""},{"$f":"IF(InformePatente8!$J$32<>\"\",InformePatente8!$J$32,\"\")","v":""},{"$f":"IF(COUNT(Q15:Y15)>0,(('Cartera de Patentes'!Q15+'Cartera de Patentes'!R15+'Cartera de Patentes'!S15+'Cartera de Patentes'!T15+'Cartera de Patentes'!U15+'Cartera de Patentes'!V15+'Cartera de Patentes'!W15+'Cartera de Patentes'!X15+'Cartera de Patentes'!Y15)/18),\"\")","v":""},{"$f":"IF(InformePatente8!$J$43<>\"\",InformePatente8!$J$43,\"\")","v":""},{"$f":"IF(InformePatente8!$J$44<>\"\",InformePatente8!$J$44,\"\")","v":""},{"$f":"IF(InformePatente8!$J$45<>\"\",InformePatente8!$J$45,\"\")","v":""},{"$f":"IF(InformePatente8!$J$46<>\"\",InformePatente8!$J$46,\"\")","v":""},{"$f":"IF(InformePatente8!$J$47<>\"\",InformePatente8!$J$47,\"\")","v":""},{"$f":"IF(InformePatente8!$J$48<>\"\",InformePatente8!$J$48,\"\")","v":""},{"$f":"IF(InformePatente8!$J$49<>\"\",InformePatente8!$J$49,\"\")","v":""},{"$f":"IF(InformePatente8!$J$50<>\"\",InformePatente8!$J$50,\"\")","v":""},{"$f":"IF(InformePatente8!$J$51<>\"\",InformePatente8!$J$51,\"\")","v":""},""]
[9,{"$f":"EvaluaciónPatente9!$F$13","v":"00:00:00"},{"$f":"IF(COUNTA(EvaluaciónPatente9!$F$11)>0,EvaluaciónPatente9!$F$11,\"\")","v":""},{"$f":"IF(COUNT(G16:J16)>0,(('Cartera de Patentes'!G16+'Cartera de Patentes'!H16+'Cartera de Patentes'!I16+'Cartera de Patentes'!J16)/8),\"\")","v":""},{"$f":"IF(InformePatente9!$J$23<>\"\",InformePatente9!$J$23,\"\")","v":""},{"$f":"IF(InformePatente9!$J$24<>\"\",InformePatente9!$J$24,\"\")","v":""},{"$f":"IF(InformePatente9!$J$25<>\"\",InformePatente9!$J$25,\"\")","v":""},{"$f":"IF(InformePatente9!$J$26<>\"\",InformePatente9!$J$26,\"\")","v":""},{"$f":"IF(InformePatente9!$J$27<>\"\",InformePatente9!$J$27,\"\")","v":""},{"$f":"IF(InformePatente9!$J$28<>\"\",InformePatente9!$J$28,\"\")","v":""},{"$f":"IF(COUNT(L16:O16)>0,(('Cartera de Patentes'!L16+'Cartera de Patentes'!M16+'Cartera de Patentes'!N16+'Cartera de Patentes'!O16)/8),\"\")","v":""},{"$f":"IF(InformePatente9!$J$29<>\"\",InformePatente9!$J$29,\"\")","v":""},{"$f":"IF(InformePatente9!$J$30<>\"\",InformePatente9!$J$30,\"\")","v":""},{"$f":"IF(InformePatente9!$J$31<>\"\",InformePatente9!$J$31,\"\")","v":""},{"$f":"IF(InformePatente9!$J$32<>\"\",InformePatente9!$J$32,\"\")","v":""},{"$f":"IF(COUNT(Q16:Y16)>0,(('Cartera de Patentes'!Q16+'Cartera de Patentes'!R16+'Cartera de Patentes'!S16+'Cartera de Patentes'!T16+'Cartera de Patentes'!U16+'Cartera de Patentes'!V16+'Cartera de Patentes'!W16+'Cartera de Patentes'!X16+'Cartera de Patentes'!Y16)/18),\"\")","v":""},{"$f":"IF(InformePatente9!$J$43<>\"\",InformePatente9!$J$43,\"\")","v":""},{"$f":"IF(InformePatente9!$J$44<>\"\",InformePatente9!$J$44,\"\")","v":""},{"$f":"IF(InformePatente9!$J$45<>\"\",InformePatente9!$J$45,\"\")","v":""},{"$f":"IF(InformePatente9!$J$46<>\"\",InformePatente9!$J$46,\"\")","v":""},{"$f":"IF(InformePatente9!$J$47<>\"\",InformePatente9!$J$47,\"\")","v":""},{"$f":"IF(InformePatente9!$J$48<>\"\",InformePatente9!$J$48,\"\")","v":""},{"$f":"IF(InformePatente9!$J$49<>\"\",InformePatente9!$J$49,\"\")","v":""},{"$f":"IF(InformePatente9!$J$50<>\"\",InformePatente9!$J$50,\"\")","v":""},{"$f":"IF(InformePatente9!$J$51<>\"\",InformePatente9!$J$51,\"\")","v":""},""]
[10,{"$f":"EvaluaciónPatente10!$F$13","v":"00:00:00"},{"$f":"IF(COUNTA(EvaluaciónPatente10!$F$11)>0,EvaluaciónPatente10!$F$11,\"\")","v":""},{"$f":"IF(COUNT(G17:J17)>0,(('Cartera de Patentes'!G17+'Cartera de Patentes'!H17+'Cartera de Patentes'!I17+'Cartera de Patentes'!J17)/8),\"\")","v":""},{"$f":"IF(InformePatente10!$J$23<>\"\",InformePatente10!$J$23,\"\")","v":""},{"$f":"IF(InformePatente10!$J$24<>\"\",InformePatente10!$J$24,\"\")","v":""},{"$f":"IF(InformePatente10!$J$25<>\"\",InformePatente10!$J$25,\"\")","v":""},{"$f":"IF(InformePatente10!$J$26<>\"\",InformePatente10!$J$26,\"\")","v":""},{"$f":"IF(InformePatente10!$J$27<>\"\",InformePatente10!$J$27,\"\")","v":""},{"$f":"IF(InformePatente10!$J$28<>\"\",InformePatente10!$J$28,\"\")","v":""},{"$f":"IF(COUNT(L17:O17)>0,(('Cartera de Patentes'!L17+'Cartera de Patentes'!M17+'Cartera de Patentes'!N17+'Cartera de Patentes'!O17)/8),\"\")","v":""},{"$f":"IF(InformePatente10!$J$29<>\"\",InformePatente10!$J$29,\"\")","v":""},{"$f":"IF(InformePatente10!$J$30<>\"\",InformePatente10!$J$30,\"\")","v":""},{"$f":"IF(InformePatente10!$J$31<>\"\",InformePatente10!$J$31,\"\")","v":""},{"$f":"IF(InformePatente10!$J$32<>\"\",InformePatente10!$J$32,\"\")","v":""},{"$f":"IF(COUNT(Q17:Y17)>0,(('Cartera de Patentes'!Q17+'Cartera de Patentes'!R17+'Cartera de Patentes'!S17+'Cartera de Patentes'!T17+'Cartera de Patentes'!U17+'Cartera de Patentes'!V17+'Cartera de Patentes'!W17+'Cartera de Patentes'!X17+'Cartera de Patentes'!Y17)/18),\"\")","v":""},{"$f":"IF(InformePatente10!$J$43<>\"\",InformePatente10!$J$43,\"\")","v":""},{"$f":"IF(InformePatente10!$J$44<>\"\",InformePatente10!$J$44,\"\")","v":""},{"$f":"IF(InformePatente10!$J$45<>\"\",InformePatente10!$J$45,\"\")","v":""},{"$f":"IF(InformePatente10!$J$46<>\"\",InformePatente10!$J$46,\"\")","v":""},{"$f":"IF(InformePatente10!$J$47<>\"\",InformePatente10!$J$47,\"\")","v":""},{"$f":"IF(InformePatente10!$J$48<>\"\",InformePatente10!$J$48,\"\")","v":""},{"$f":"IF(InformePatente10!$J$49<>\"\",InformePatente10!$J$49,\"\")","v":""},{"$f":"IF(InformePatente10!$J$50<>\"\",InformePatente10!$J$50,\"\")","v":""},{"$f":"IF(InformePatente10!$J$51<>\"\",InformePatente10!$J$51,\"\")","v":""},""]
[11,{"$f":"EvaluaciónPatente11!$F$13","v":"00:00:00"},{"$f":"IF(COUNTA(EvaluaciónPatente11!$F$11)>0,EvaluaciónPatente11!$F$11,\"\")","v":""},{"$f":"IF(COUNT(G18:J18)>0,(('Cartera de Patentes'!G18+'Cartera de Patentes'!H18+'Cartera de Patentes'!I18+'Cartera de Patentes'!J18)/8),\"\")","v":""},{"$f":"IF(InformePatente11!$J$23<>\"\",InformePatente11!$J$23,\"\")","v":""},{"$f":"IF(InformePatente11!$J$24<>\"\",InformePatente11!$J$24,\"\")","v":""},{"$f":"IF(InformePatente11!$J$25<>\"\",InformePatente11!$J$25,\"\")","v":""},{"$f":"IF(InformePatente11!$J$26<>\"\",InformePatente11!$J$26,\"\")","v":""},{"$f":"IF(InformePatente11!$J$27<>\"\",InformePatente11!$J$27,\"\")","v":""},{"$f":"IF(InformePatente11!$J$28<>\"\",InformePatente11!$J$28,\"\")","v":""},{"$f":"IF(COUNT(L18:O18)>0,(('Cartera de Patentes'!L18+'Cartera de Patentes'!M18+'Cartera de Patentes'!N18+'Cartera de Patentes'!O18)/8),\"\")","v":""},{"$f":"IF(InformePatente11!$J$29<>\"\",InformePatente11!$J$29,\"\")","v":""},{"$f":"IF(InformePatente11!$J$30<>\"\",InformePatente11!$J$30,\"\")","v":""},{"$f":"IF(InformePatente11!$J$31<>\"\",InformePatente11!$J$31,\"\")","v":""},{"$f":"IF(InformePatente11!$J$32<>\"\",InformePatente11!$J$32,\"\")","v":""},{"$f":"IF(COUNT(Q18:Y18)>0,(('Cartera de Patentes'!Q18+'Cartera de Patentes'!R18+'Cartera de Patentes'!S18+'Cartera de Patentes'!T18+'Cartera de Patentes'!U18+'Cartera de Patentes'!V18+'Cartera de Patentes'!W18+'Cartera de Patentes'!X18+'Cartera de Patentes'!Y18)/18),\"\")","v":""},{"$f":"IF(InformePatente11!$J$43<>\"\",InformePatente11!$J$43,\"\")","v":""},{"$f":"IF(InformePatente11!$J$44<>\"\",InformePatente11!$J$44,\"\")","v":""},{"$f":"IF(InformePatente11!$J$45<>\"\",InformePatente11!$J$45,\"\")","v":""},{"$f":"IF(InformePatente11!$J$46<>\"\",InformePatente11!$J$46,\"\")","v":""},{"$f":"IF(InformePatente11!$J$47<>\"\",InformePatente11!$J$47,\"\")","v":""},{"$f":"IF(InformePatente11!$J$48<>\"\",InformePatente11!$J$48,\"\")","v":""},{"$f":"IF(InformePatente11!$J$49<>\"\",InformePatente11!$J$49,\"\")","v":""},{"$f":"IF(InformePatente11!$J$50<>\"\",InformePatente11!$J$50,\"\")","v":""},{"$f":"IF(InformePatente11!$J$51<>\"\",InformePatente11!$J$51,\"\")","v":""},""]
[12,{"$f":"EvaluaciónPatente12!$F$13","v":"00:00:00"},{"$f":"IF(COUNTA(EvaluaciónPatente12!$F$11)>0,EvaluaciónPatente12!$F$11,\"\")","v":""},{"$f":"IF(COUNT(G19:J19)>0,(('Cartera de Patentes'!G19+'Cartera de Patentes'!H19+'Cartera de Patentes'!I19+'Cartera de Patentes'!J19)/8),\"\")","v":""},{"$f":"IF(InformePatente12!$J$23<>\"\",InformePatente12!$J$23,\"\")","v":""},{"$f":"IF(InformePatente12!$J$24<>\"\",InformePatente12!$J$24,\"\")","v":""},{"$f":"IF(InformePatente12!$J$25<>\"\",InformePatente12!$J$25,\"\")","v":""},{"$f":"IF(InformePatente12!$J$26<>\"\",InformePatente12!$J$26,\"\")","v":""},{"$f":"IF(InformePatente12!$J$27<>\"\",InformePatente12!$J$27,\"\")","v":""},{"$f":"IF(InformePatente12!$J$28<>\"\",InformePatente12!$J$28,\"\")","v":""},{"$f":"IF(COUNT(L19:O19)>0,(('Cartera de Patentes'!L19+'Cartera de Patentes'!M19+'Cartera de Patentes'!N19+'Cartera de Patentes'!O19)/8),\"\")","v":""},{"$f":"IF(InformePatente12!$J$29<>\"\",InformePatente12!$J$29,\"\")","v":""},{"$f":"IF(InformePatente12!$J$30<>\"\",InformePatente12!$J$30,\"\")","v":""},{"$f":"IF(InformePatente12!$J$31<>\"\",InformePatente12!$J$31,\"\")","v":""},{"$f":"IF(InformePatente12!$J$32<>\"\",InformePatente12!$J$32,\"\")","v":""},{"$f":"IF(COUNT(Q19:Y19)>0,(('Cartera de Patentes'!Q19+'Cartera de Patentes'!R19+'Cartera de Patentes'!S19+'Cartera de Patentes'!T19+'Cartera de Patentes'!U19+'Cartera de Patentes'!V19+'Cartera de Patentes'!W19+'Cartera de Patentes'!X19+'Cartera de Patentes'!Y19)/18),\"\")","v":""},{"$f":"IF(InformePatente12!$J$43<>\"\",InformePatente12!$J$43,\"\")","v":""},{"$f":"IF(InformePatente12!$J$44<>\"\",InformePatente12!$J$44,\"\")","v":""},{"$f":"IF(InformePatente12!$J$45<>\"\",InformePatente12!$J$45,\"\")","v":""},{"$f":"IF(InformePatente12!$J$46<>\"\",InformePatente12!$J$46,\"\")","v":""},{"$f":"IF(InformePatente12!$J$47<>\"\",InformePatente12!$J$47,\"\")","v":""},{"$f":"IF(InformePatente12!$J$48<>\"\",InformePatente12!$J$48,\"\")","v":""},{"$f":"IF(InformePatente12!$J$49<>\"\",InformePatente12!$J$49,\"\")","v":""},{"$f":"IF(InformePatente12!$J$50<>\"\",InformePatente12!$J$50,\"\")","v":""},{"$f":"IF(InformePatente12!$J$51<>\"\",InformePatente12!$J$51,\"\")","v":""},""]
[13,{"$f":"EvaluaciónPatente13!$F$13","v":"00:00:00"},{"$f":"IF(COUNTA(EvaluaciónPatente13!$F$11)>0,EvaluaciónPatente13!$F$11,\"\")","v":""},{"$f":"IF(COUNT(G20:J20)>0,(('Cartera de Patentes'!G20+'Cartera de Patentes'!H20+'Cartera de Patentes'!I20+'Cartera de Patentes'!J20)/8),\"\")","v":""},{"$f":"IF(InformePatente13!$J$23<>\"\",InformePatente13!$J$23,\"\")","v":""},{"$f":"IF(InformePatente13!$J$24<>\"\",InformePatente13!$J$24,\"\")","v":""},{"$f":"IF(InformePatente13!$J$25<>\"\",InformePatente13!$J$25,\"\")","v":""},{"$f":"IF(InformePatente13!$J$26<>\"\",InformePatente13!$J$26,\"\")","v":""},{"$f":"IF(InformePatente13!$J$27<>\"\",InformePatente13!$J$27,\"\")","v":""},{"$f":"IF(InformePatente13!$J$28<>\"\",InformePatente13!$J$28,\"\")","v":""},{"$f":"IF(COUNT(L20:O20)>0,(('Cartera de Patentes'!L20+'Cartera de Patentes'!M20+'Cartera de Patentes'!N20+'Cartera de Patentes'!O20)/8),\"\")","v":""},{"$f":"IF(InformePatente13!$J$29<>\"\",InformePatente13!$J$29,\"\")","v":""},{"$f":"IF(InformePatente13!$J$30<>\"\",InformePatente13!$J$30,\"\")","v":""},{"$f":"IF(InformePatente13!$J$31<>\"\",InformePatente13!$J$31,\"\")","v":""},{"$f":"IF(InformePatente13!$J$32<>\"\",InformePatente13!$J$32,\"\")","v":""},{"$f":"IF(COUNT(Q20:Y20)>0,(('Cartera de Patentes'!Q20+'Cartera de Patentes'!R20+'Cartera de Patentes'!S20+'Cartera de Patentes'!T20+'Cartera de Patentes'!U20+'Cartera de Patentes'!V20+'Cartera de Patentes'!W20+'Cartera de Patentes'!X20+'Cartera de Patentes'!Y20)/18),\"\")","v":""},{"$f":"IF(InformePatente13!$J$43<>\"\",InformePatente13!$J$43,\"\")","v":""},{"$f":"IF(InformePatente13!$J$44<>\"\",InformePatente13!$J$44,\"\")","v":""},{"$f":"IF(InformePatente13!$J$45<>\"\",InformePatente13!$J$45,\"\")","v":""},{"$f":"IF(InformePatente13!$J$46<>\"\",InformePatente13!$J$46,\"\")","v":""},{"$f":"IF(InformePatente13!$J$47<>\"\",InformePatente13!$J$47,\"\")","v":""},{"$f":"IF(InformePatente13!$J$48<>\"\",InformePatente13!$J$48,\"\")","v":""},{"$f":"IF(InformePatente13!$J$49<>\"\",InformePatente13!$J$49,\"\")","v":""},{"$f":"IF(InformePatente13!$J$50<>\"\",InformePatente13!$J$50,\"\")","v":""},{"$f":"IF(InformePatente13!$J$51<>\"\",InformePatente13!$J$51,\"\")","v":""},""]
[14,{"$f":"EvaluaciónPatente14!$F$13","v":"00:00:00"},{"$f":"IF(COUNTA(EvaluaciónPatente14!$F$11)>0,EvaluaciónPatente14!$F$11,\"\")","v":""},{"$f":"IF(COUNT(G21:J21)>0,(('Cartera de Patentes'!G21+'Cartera de Patentes'!H21+'Cartera de Patentes'!I21+'Cartera de Patentes'!J21)/8),\"\")","v":""},{"$f":"IF(InformePatente14!$J$23<>\"\",InformePatente14!$J$23,\"\")","v":""},{"$f":"IF(InformePatente14!$J$24<>\"\",InformePatente14!$J$24,\"\")","v":""},{"$f":"IF(InformePatente14!$J$25<>\"\",InformePatente14!$J$25,\"\")","v":""},{"$f":"IF(InformePatente14!$J$26<>\"\",InformePatente14!$J$26,\"\")","v":""},{"$f":"IF(InformePatente14!$J$27<>\"\",InformePatente14!$J$27,\"\")","v":""},{"$f":"IF(InformePatente14!$J$28<>\"\",InformePatente14!$J$28,\"\")","v":""},{"$f":"IF(COUNT(L21:O21)>0,(('Cartera de Patentes'!L21+'Cartera de Patentes'!M21+'Cartera de Patentes'!N21+'Cartera de Patentes'!O21)/8),\"\")","v":""},{"$f":"IF(InformePatente14!$J$29<>\"\",InformePatente14!$J$29,\"\")","v":""},{"$f":"IF(InformePatente14!$J$30<>\"\",InformePatente14!$J$30,\"\")","v":""},{"$f":"IF(InformePatente14!$J$31<>\"\",InformePatente14!$J$31,\"\")","v":""},{"$f":"IF(InformePatente14!$J$32<>\"\",InformePatente14!$J$32,\"\")","v":""},{"$f":"IF(COUNT(Q21:Y21)>0,(('Cartera de Patentes'!Q21+'Cartera de Patentes'!R21+'Cartera de Patentes'!S21+'Cartera de Patentes'!T21+'Cartera de Patentes'!U21+'Cartera de Patentes'!V21+'Cartera de Patentes'!W21+'Cartera de Patentes'!X21+'Cartera de Patentes'!Y21)/18),\"\")","v":""},{"$f":"IF(InformePatente14!$J$43<>\"\",InformePatente14!$J$43,\"\")","v":""},{"$f":"IF(InformePatente14!$J$44<>\"\",InformePatente14!$J$44,\"\")","v":""},{"$f":"IF(InformePatente14!$J$45<>\"\",InformePatente14!$J$45,\"\")","v":""},{"$f":"IF(InformePatente14!$J$46<>\"\",InformePatente14!$J$46,\"\")","v":""},{"$f":"IF(InformePatente14!$J$47<>\"\",InformePatente14!$J$47,\"\")","v":""},{"$f":"IF(InformePatente14!$J$48<>\"\",InformePatente14!$J$48,\"\")","v":""},{"$f":"IF(InformePatente14!$J$49<>\"\",InformePatente14!$J$49,\"\")","v":""},{"$f":"IF(InformePatente14!$J$50<>\"\",InformePatente14!$J$50,\"\")","v":""},{"$f":"IF(InformePatente14!$J$51<>\"\",InformePatente14!$J$51,\"\")","v":""},""]
[15,{"$f":"EvaluaciónPatente15!$F$13","v":"00:00:00"},{"$f":"IF(COUNTA(EvaluaciónPatente15!$F$11)>0,EvaluaciónPatente15!$F$11,\"\")","v":""},{"$f":"IF(COUNT(G22:J22)>0,(('Cartera de Patentes'!G22+'Cartera de Patentes'!H22+'Cartera de Patentes'!I22+'Cartera de Patentes'!J22)/8),\"\")","v":""},{"$f":"IF(InformePatente15!$J$23<>\"\",InformePatente15!$J$23,\"\")","v":""},{"$f":"IF(InformePatente15!$J$24<>\"\",InformePatente15!$J$24,\"\")","v":""},{"$f":"IF(InformePatente15!$J$25<>\"\",InformePatente15!$J$25,\"\")","v":""},{"$f":"IF(InformePatente15!$J$26<>\"\",InformePatente15!$J$26,\"\")","v":""},{"$f":"IF(InformePatente15!$J$27<>\"\",InformePatente15!$J$27,\"\")","v":""},{"$f":"IF(InformePatente15!$J$28<>\"\",InformePatente15!$J$28,\"\")","v":""},{"$f":"IF(COUNT(L22:O22)>0,(('Cartera de Patentes'!L22+'Cartera de Patentes'!M22+'Cartera de Patentes'!N22+'Cartera de Patentes'!O22)/8),\"\")","v":""},{"$f":"IF(InformePatente15!$J$29<>\"\",InformePatente15!$J$29,\"\")","v":""},{"$f":"IF(InformePatente15!$J$30<>\"\",InformePatente15!$J$30,\"\")","v":""},{"$f":"IF(InformePatente15!$J$31<>\"\",InformePatente15!$J$31,\"\")","v":""},{"$f":"IF(InformePatente15!$J$32<>\"\",InformePatente15!$J$32,\"\")","v":""},{"$f":"IF(COUNT(Q22:Y22)>0,(('Cartera de Patentes'!Q22+'Cartera de Patentes'!R22+'Cartera de Patentes'!S22+'Cartera de Patentes'!T22+'Cartera de Patentes'!U22+'Cartera de Patentes'!V22+'Cartera de Patentes'!W22+'Cartera de Patentes'!X22+'Cartera de Patentes'!Y22)/18),\"\")","v":""},{"$f":"IF(InformePatente15!$J$43<>\"\",InformePatente15!$J$43,\"\")","v":""},{"$f":"IF(InformePatente15!$J$44<>\"\",InformePatente15!$J$44,\"\")","v":""},{"$f":"IF(InformePatente15!$J$45<>\"\",InformePatente15!$J$45,\"\")","v":""},{"$f":"IF(InformePatente15!$J$46<>\"\",InformePatente15!$J$46,\"\")","v":""},{"$f":"IF(InformePatente15!$J$47<>\"\",InformePatente15!$J$47,\"\")","v":""},{"$f":"IF(InformePatente15!$J$48<>\"\",InformePatente15!$J$48,\"\")","v":""},{"$f":"IF(InformePatente15!$J$49<>\"\",InformePatente15!$J$49,\"\")","v":""},{"$f":"IF(InformePatente15!$J$50<>\"\",InformePatente15!$J$50,\"\")","v":""},{"$f":"IF(InformePatente15!$J$51<>\"\",InformePatente15!$J$51,\"\")","v":""},""]
[16,{"$f":"EvaluaciónPatente16!$F$13","v":"00:00:00"},{"$f":"IF(COUNTA(EvaluaciónPatente16!$F$11)>0,EvaluaciónPatente16!$F$11,\"\")","v":""},{"$f":"IF(COUNT(G23:J23)>0,(('Cartera de Patentes'!G23+'Cartera de Patentes'!H23+'Cartera de Patentes'!I23+'Cartera de Patentes'!J23)/8),\"\")","v":""},{"$f":"IF(InformePatente16!$J$23<>\"\",InformePatente16!$J$23,\"\")","v":""},{"$f":"IF(InformePatente16!$J$24<>\"\",InformePatente16!$J$24,\"\")","v":""},{"$f":"IF(InformePatente16!$J$25<>\"\",InformePatente16!$J$25,\"\")","v":""},{"$f":"IF(InformePatente16!$J$26<>\"\",InformePatente16!$J$26,\"\")","v":""},{"$f":"IF(InformePatente16!$J$27<>\"\",InformePatente16!$J$27,\"\")","v":""},{"$f":"IF(InformePatente16!$J$28<>\"\",InformePatente16!$J$28,\"\")","v":""},{"$f":"IF(COUNT(L23:O23)>0,(('Cartera de Patentes'!L23+'Cartera de Patentes'!M23+'Cartera de Patentes'!N23+'Cartera de Patentes'!O23)/8),\"\")","v":""},{"$f":"IF(InformePatente16!$J$29<>\"\",InformePatente16!$J$29,\"\")","v":""},{"$f":"IF(InformePatente16!$J$30<>\"\",InformePatente16!$J$30,\"\")","v":""},{"$f":"IF(InformePatente16!$J$31<>\"\",InformePatente16!$J$31,\"\")","v":""},{"$f":"IF(InformePatente16!$J$32<>\"\",InformePatente16!$J$32,\"\")","v":""},{"$f":"IF(COUNT(Q23:Y23)>0,(('Cartera de Patentes'!Q23+'Cartera de Patentes'!R23+'Cartera de Patentes'!S23+'Cartera de Patentes'!T23+'Cartera de Patentes'!U23+'Cartera de Patentes'!V23+'Cartera de Patentes'!W23+'Cartera de Patentes'!X23+'Cartera de Patentes'!Y23)/18),\"\")","v":""},{"$f":"IF(InformePatente16!$J$43<>\"\",InformePatente16!$J$43,\"\")","v":""},{"$f":"IF(InformePatente16!$J$44<>\"\",InformePatente16!$J$44,\"\")","v":""},{"$f":"IF(InformePatente16!$J$45<>\"\",InformePatente16!$J$45,\"\")","v":""},{"$f":"IF(InformePatente16!$J$46<>\"\",InformePatente16!$J$46,\"\")","v":""},{"$f":"IF(InformePatente16!$J$47<>\"\",InformePatente16!$J$47,\"\")","v":""},{"$f":"IF(InformePatente16!$J$48<>\"\",InformePatente16!$J$48,\"\")","v":""},{"$f":"IF(InformePatente16!$J$49<>\"\",InformePatente16!$J$49,\"\")","v":""},{"$f":"IF(InformePatente16!$J$50<>\"\",InformePatente16!$J$50,\"\")","v":""},{"$f":"IF(InformePatente16!$J$51<>\"\",InformePatente16!$J$51,\"\")","v":""},""]
[17,{"$f":"EvaluaciónPatente17!$F$13","v":"00:00:00"},{"$f":"IF(COUNTA(EvaluaciónPatente17!$F$11)>0,EvaluaciónPatente17!$F$11,\"\")","v":""},{"$f":"IF(COUNT(G24:J24)>0,(('Cartera de Patentes'!G24+'Cartera de Patentes'!H24+'Cartera de Patentes'!I24+'Cartera de Patentes'!J24)/8),\"\")","v":""},{"$f":"IF(InformePatente17!$J$23<>\"\",InformePatente17!$J$23,\"\")","v":""},{"$f":"IF(InformePatente17!$J$24<>\"\",InformePatente17!$J$24,\"\")","v":""},{"$f":"IF(InformePatente17!$J$25<>\"\",InformePatente17!$J$25,\"\")","v":""},{"$f":"IF(InformePatente17!$J$26<>\"\",InformePatente17!$J$26,\"\")","v":""},{"$f":"IF(InformePatente17!$J$27<>\"\",InformePatente17!$J$27,\"\")","v":""},{"$f":"IF(InformePatente17!$J$28<>\"\",InformePatente17!$J$28,\"\")","v":""},{"$f":"IF(COUNT(L24:O24)>0,(('Cartera de Patentes'!L24+'Cartera de Patentes'!M24+'Cartera de Patentes'!N24+'Cartera de Patentes'!O24)/8),\"\")","v":""},{"$f":"IF(InformePatente17!$J$29<>\"\",InformePatente17!$J$29,\"\")","v":""},{"$f":"IF(InformePatente17!$J$30<>\"\",InformePatente17!$J$30,\"\")","v":""},{"$f":"IF(InformePatente17!$J$31<>\"\",InformePatente17!$J$31,\"\")","v":""},{"$f":"IF(InformePatente17!$J$32<>\"\",InformePatente17!$J$32,\"\")","v":""},{"$f":"IF(COUNT(Q24:Y24)>0,(('Cartera de Patentes'!Q24+'Cartera de Patentes'!R24+'Cartera de Patentes'!S24+'Cartera de Patentes'!T24+'Cartera de Patentes'!U24+'Cartera de Patentes'!V24+'Cartera de Patentes'!W24+'Cartera de Patentes'!X24+'Cartera de Patentes'!Y24)/18),\"\")","v":""},{"$f":"IF(InformePatente17!$J$43<>\"\",InformePatente17!$J$43,\"\")","v":""},{"$f":"IF(InformePatente17!$J$44<>\"\",InformePatente17!$J$44,\"\")","v":""},{"$f":"IF(InformePatente17!$J$45<>\"\",InformePatente17!$J$45,\"\")","v":""},{"$f":"IF(InformePatente17!$J$46<>\"\",InformePatente17!$J$46,\"\")","v":""},{"$f":"IF(InformePatente17!$J$47<>\"\",InformePatente17!$J$47,\"\")","v":""},{"$f":"IF(InformePatente17!$J$48<>\"\",InformePatente17!$J$48,\"\")","v":""},{"$f":"IF(InformePatente17!$J$49<>\"\",InformePatente17!$J$49,\"\")","v":""},{"$f":"IF(InformePatente17!$J$50<>\"\",InformePatente17!$J$50,\"\")","v":""},{"$f":"IF(InformePatente17!$J$51<>\"\",InformePatente17!$J$51,\"\")","v":""},""]
[18,{"$f":"EvaluaciónPatente18!$F$13","v":"00:00:00"},{"$f":"IF(COUNTA(EvaluaciónPatente18!$F$11)>0,EvaluaciónPatente18!$F$11,\"\")","v":""},{"$f":"IF(COUNT(G25:J25)>0,(('Cartera de Patentes'!G25+'Cartera de Patentes'!H25+'Cartera de Patentes'!I25+'Cartera de Patentes'!J25)/8),\"\")","v":""},{"$f":"IF(InformePatente18!$J$23<>\"\",InformePatente18!$J$23,\"\")","v":""},{"$f":"IF(InformePatente18!$J$24<>\"\",InformePatente18!$J$24,\"\")","v":""},{"$f":"IF(InformePatente18!$J$25<>\"\",InformePatente18!$J$25,\"\")","v":""},{"$f":"IF(InformePatente18!$J$26<>\"\",InformePatente18!$J$26,\"\")","v":""},{"$f":"IF(InformePatente18!$J$27<>\"\",InformePatente18!$J$27,\"\")","v":""},{"$f":"IF(InformePatente18!$J$28<>\"\",InformePatente18!$J$28,\"\")","v":""},{"$f":"IF(COUNT(L25:O25)>0,(('Cartera de Patentes'!L25+'Cartera de Patentes'!M25+'Cartera de Patentes'!N25+'Cartera de Patentes'!O25)/8),\"\")","v":""},{"$f":"IF(InformePatente18!$J$29<>\"\",InformePatente18!$J$29,\"\")","v":""},{"$f":"IF(InformePatente18!$J$30<>\"\",InformePatente18!$J$30,\"\")","v":""},{"$f":"IF(InformePatente18!$J$31<>\"\",InformePatente18!$J$31,\"\")","v":""},{"$f":"IF(InformePatente18!$J$32<>\"\",InformePatente18!$J$32,\"\")","v":""},{"$f":"IF(COUNT(Q25:Y25)>0,(('Cartera de Patentes'!Q25+'Cartera de Patentes'!R25+'Cartera de Patentes'!S25+'Cartera de Patentes'!T25+'Cartera de Patentes'!U25+'Cartera de Patentes'!V25+'Cartera de Patentes'!W25+'Cartera de Patentes'!X25+'Cartera de Patentes'!Y25)/18),\"\")","v":""},{"$f":"IF(InformePatente18!$J$43<>\"\",InformePatente18!$J$43,\"\")","v":""},{"$f":"IF(InformePatente18!$J$44<>\"\",InformePatente18!$J$44,\"\")","v":""},{"$f":"IF(InformePatente18!$J$45<>\"\",InformePatente18!$J$45,\"\")","v":""},{"$f":"IF(InformePatente18!$J$46<>\"\",InformePatente18!$J$46,\"\")","v":""},{"$f":"IF(InformePatente18!$J$47<>\"\",InformePatente18!$J$47,\"\")","v":""},{"$f":"IF(InformePatente18!$J$48<>\"\",InformePatente18!$J$48,\"\")","v":""},{"$f":"IF(InformePatente18!$J$49<>\"\",InformePatente18!$J$49,\"\")","v":""},{"$f":"IF(InformePatente18!$J$50<>\"\",InformePatente18!$J$50,\"\")","v":""},{"$f":"IF(InformePatente18!$J$51<>\"\",InformePatente18!$J$51,\"\")","v":""},""]
[19,{"$f":"EvaluaciónPatente19!$F$13","v":"00:00:00"},{"$f":"IF(COUNTA(EvaluaciónPatente19!$F$11)>0,EvaluaciónPatente19!$F$11,\"\")","v":""},{"$f":"IF(COUNT(G26:J26)>0,(('Cartera de Patentes'!G26+'Cartera de Patentes'!H26+'Cartera de Patentes'!I26+'Cartera de Patentes'!J26)/8),\"\")","v":""},{"$f":"IF(InformePatente19!$J$23<>\"\",InformePatente19!$J$23,\"\")","v":""},{"$f":"IF(InformePatente19!$J$24<>\"\",InformePatente19!$J$24,\"\")","v":""},{"$f":"IF(InformePatente19!$J$25<>\"\",InformePatente19!$J$25,\"\")","v":""},{"$f":"IF(InformePatente19!$J$26<>\"\",InformePatente19!$J$26,\"\")","v":""},{"$f":"IF(InformePatente19!$J$27<>\"\",InformePatente19!$J$27,\"\")","v":""},{"$f":"IF(InformePatente19!$J$28<>\"\",InformePatente19!$J$28,\"\")","v":""},{"$f":"IF(COUNT(L26:O26)>0,(('Cartera de Patentes'!L26+'Cartera de Patentes'!M26+'Cartera de Patentes'!N26+'Cartera de Patentes'!O26)/8),\"\")","v":""},{"$f":"IF(InformePatente19!$J$29<>\"\",InformePatente19!$J$29,\"\")","v":""},{"$f":"IF(InformePatente19!$J$30<>\"\",InformePatente19!$J$30,\"\")","v":""},{"$f":"IF(InformePatente19!$J$31<>\"\",InformePatente19!$J$31,\"\")","v":""},{"$f":"IF(InformePatente19!$J$32<>\"\",InformePatente19!$J$32,\"\")","v":""},{"$f":"IF(COUNT(Q26:Y26)>0,(('Cartera de Patentes'!Q26+'Cartera de Patentes'!R26+'Cartera de Patentes'!S26+'Cartera de Patentes'!T26+'Cartera de Patentes'!U26+'Cartera de Patentes'!V26+'Cartera de Patentes'!W26+'Cartera de Patentes'!X26+'Cartera de Patentes'!Y26)/18),\"\")","v":""},{"$f":"IF(InformePatente19!$J$43<>\"\",InformePatente19!$J$43,\"\")","v":""},{"$f":"IF(InformePatente19!$J$44<>\"\",InformePatente19!$J$44,\"\")","v":""},{"$f":"IF(InformePatente19!$J$45<>\"\",InformePatente19!$J$45,\"\")","v":""},{"$f":"IF(InformePatente19!$J$46<>\"\",InformePatente19!$J$46,\"\")","v":""},{"$f":"IF(InformePatente19!$J$47<>\"\",InformePatente19!$J$47,\"\")","v":""},{"$f":"IF(InformePatente19!$J$48<>\"\",InformePatente19!$J$48,\"\")","v":""},{"$f":"IF(InformePatente19!$J$49<>\"\",InformePatente19!$J$49,\"\")","v":""},{"$f":"IF(InformePatente19!$J$50<>\"\",InformePatente19!$J$50,\"\")","v":""},{"$f":"IF(InformePatente19!$J$51<>\"\",InformePatente19!$J$51,\"\")","v":""},""]
[20,{"$f":"EvaluaciónPatente20!$F$13","v":"00:00:00"},{"$f":"IF(COUNTA(EvaluaciónPatente20!$F$11)>0,EvaluaciónPatente20!$F$11,\"\")","v":""},{"$f":"IF(COUNT(G27:J27)>0,(('Cartera de Patentes'!G27+'Cartera de Patentes'!H27+'Cartera de Patentes'!I27+'Cartera de Patentes'!J27)/8),\"\")","v":""},{"$f":"IF(InformePatente20!$J$23<>\"\",InformePatente20!$J$23,\"\")","v":""},{"$f":"IF(InformePatente20!$J$24<>\"\",InformePatente20!$J$24,\"\")","v":""},{"$f":"IF(InformePatente20!$J$25<>\"\",InformePatente20!$J$25,\"\")","v":""},{"$f":"IF(InformePatente20!$J$26<>\"\",InformePatente20!$J$26,\"\")","v":""},{"$f":"IF(InformePatente20!$J$27<>\"\",InformePatente20!$J$27,\"\")","v":""},{"$f":"IF(InformePatente20!$J$28<>\"\",InformePatente20!$J$28,\"\")","v":""},{"$f":"IF(COUNT(L27:O27)>0,(('Cartera de Patentes'!L27+'Cartera de Patentes'!M27+'Cartera de Patentes'!N27+'Cartera de Patentes'!O27)/8),\"\")","v":""},{"$f":"IF(InformePatente20!$J$29<>\"\",InformePatente20!$J$29,\"\")","v":""},{"$f":"IF(InformePatente20!$J$30<>\"\",InformePatente20!$J$30,\"\")","v":""},{"$f":"IF(InformePatente20!$J$31<>\"\",InformePatente20!$J$31,\"\")","v":""},{"$f":"IF(InformePatente20!$J$32<>\"\",InformePatente20!$J$32,\"\")","v":""},{"$f":"IF(COUNT(Q27:Y27)>0,(('Cartera de Patentes'!Q27+'Cartera de Patentes'!R27+'Cartera de Patentes'!S27+'Cartera de Patentes'!T27+'Cartera de Patentes'!U27+'Cartera de Patentes'!V27+'Cartera de Patentes'!W27+'Cartera de Patentes'!X27+'Cartera de Patentes'!Y27)/18),\"\")","v":""},{"$f":"IF(InformePatente20!$J$43<>\"\",InformePatente20!$J$43,\"\")","v":""},{"$f":"IF(InformePatente20!$J$44<>\"\",InformePatente20!$J$44,\"\")","v":""},{"$f":"IF(InformePatente20!$J$45<>\"\",InformePatente20!$J$45,\"\")","v":""},{"$f":"IF(InformePatente20!$J$46<>\"\",InformePatente20!$J$46,\"\")","v":""},{"$f":"IF(InformePatente20!$J$47<>\"\",InformePatente20!$J$47,\"\")","v":""},{"$f":"IF(InformePatente20!$J$48<>\"\",InformePatente20!$J$48,\"\")","v":""},{"$f":"IF(InformePatente20!$J$49<>\"\",InformePatente20!$J$49,\"\")","v":""},{"$f":"IF(InformePatente20!$J$50<>\"\",InformePatente20!$J$50,\"\")","v":""},{"$f":"IF(InformePatente20!$J$51<>\"\",InformePatente20!$J$51,\"\")","v":""},""]

{"sheet":"Gráfico Cartera de Patentes","index":3,"n_rows":68,"n_cols":21,"rows_kept":68,"cut":false,"hidden":false,"merged":[]}
[]
[]
[]
[]
[]
[]
[]
[]
[]
[]
[]
[null,null,null,null,null,null,null,null,null,null,null,null,null,null,null,null,"Denominación patente","Criterios legales","Criterios tecnológicos   ","Criterios de mercado","TÉRMINO MEDIO"]
[null,null,null,null,null,null,null,null,null,null,null,null,null,null,null,"Patente 1",{"$f":"'Cartera de Patentes'!C8","v":""},{"$f":"'Cartera de Patentes'!D8","v":""},{"$f":"'Cartera de Patentes'!K8","v":""},{"$f":"'Cartera de Patentes'!P8","v":""},{"$f":"'Cartera de Patentes'!Z8","v":""}]
[null,null,null,null,null,null,null,null,null,null,null,null,null,null,null,"Patente 2",{"$f":"'Cartera de Patentes'!C9","v":""},{"$f":"'Cartera de Patentes'!D9","v":""},{"$f":"'Cartera de Patentes'!K9","v":""},{"$f":"'Cartera de Patentes'!P9","v":""},{"$f":"'Cartera de Patentes'!Z9","v":""}]
[null,null,null,null,null,null,null,null,null,null,null,null,null,null,null,"Patente 3",{"$f":"'Cartera de Patentes'!C10","v":""},{"$f":"'Cartera de Patentes'!D10","v":""},{"$f":"'Cartera de Patentes'!K10","v":""},{"$f":"'Cartera de Patentes'!P10","v":""},{"$f":"'Cartera de Patentes'!Z10","v":""}]
[null,null,null,null,null,null,null,null,null,null,null,null,null,null,null,"Patente 4",{"$f":"'Cartera de Patentes'!C11","v":""},{"$f":"'Cartera de Patentes'!D11","v":""},{"$f":"'Cartera de Patentes'!K11","v":""},{"$f":"'Cartera de Patentes'!P11","v":""},{"$f":"'Cartera de Patentes'!Z11","v":""}]
[null,null,null,null,null,null,null,null,null,null,null,null,null,null,null,"Patente 5",{"$f":"'Cartera de Patentes'!C12","v":""},{"$f":"'Cartera de Patentes'!D12","v":""},{"$f":"'Cartera de Patentes'!K12","v":""},{"$f":"'Cartera de Patentes'!P12","v":""},{"$f":"'Cartera de Patentes'!Z12","v":""}]
[null,null,null,null,null,null,null,null,null,null,null,null,null,null,null,"Patente 6",{"$f":"'Cartera de Patentes'!C13","v":""},{"$f":"'Cartera de Patentes'!D13","v":""},{"$f":"'Cartera de Patentes'!K13","v":""},{"$f":"'Cartera de Patentes'!P13","v":""},{"$f":"'Cartera de Patentes'!Z13","v":""}]
[null,null,null,null,null,null,null,null,null,null,null,null,null,null,null,"Patente 7",{"$f":"'Cartera de Patentes'!C14","v":""},{"$f":"'Cartera de Patentes'!D14","v":""},{"$f":"'Cartera de Patentes'!K14","v":""},{"$f":"'Cartera de Patentes'!P14","v":""},{"$f":"'Cartera de Patentes'!Z14","v":""}]
[null,null,null,null,null,null,null,null,null,null,null,null,null,null,null,"Patente 8",{"$f":"'Cartera de Patentes'!C15","v":""},{"$f":"'Cartera de Patentes'!D15","v":""},{"$f":"'Cartera de Patentes'!K15","v":""},{"$f":"'Cartera de Patentes'!P15","v":""},{"$f":"'Cartera de Patentes'!Z15","v":""}]
[null,null,null,null,null,null,null,null,null,null,null,null,null,null,null,"Patente 9",{"$f":"'Cartera de Patentes'!C16","v":""},{"$f":"'Cartera de Patentes'!D16","v":""},{"$f":"'Cartera de Patentes'!K16","v":""},{"$f":"'Cartera de Patentes'!P16","v":""},{"$f":"'Cartera de Patentes'!Z16","v":""}]
[null,null,null,null,null,null,null,null,null,null,null,null,null,null,null,"Patente 10",{"$f":"'Cartera de Patentes'!C17","v":""},{"$f":"'Cartera de Patentes'!D17","v":""},{"$f":"'Cartera de Patentes'!K17","v":""},{"$f":"'Cartera de Patentes'!P17","v":""},{"$f":"'Cartera de Patentes'!Z17","v":""}]
[null,null,null,null,null,null,null,null,null,null,null,null,null,null,null,"Patente 11",{"$f":"'Cartera de Patentes'!C18","v":""},{"$f":"'Cartera de Patentes'!D18","v":""},{"$f":"'Cartera de Patentes'!K18","v":""},{"$f":"'Cartera de Patentes'!P18","v":""},{"$f":"'Cartera de Patentes'!Z18","v":""}]
[null,null,null,null,null,null,null,null,null,null,null,null,null,null,null,"Patente 12",{"$f":"'Cartera de Patentes'!C19","v":""},{"$f":"'Cartera de Patentes'!D19","v":""},{"$f":"'Cartera de Patentes'!K19","v":""},{"$f":"'Cartera de Patentes'!P19","v":""},{"$f":"'Cartera de Patentes'!Z19","v":""}]
[null,null,null,null,null,null,null,null,null,null,null,null,null,null,null,"Patente 13",{"$f":"'Cartera de Patentes'!C20","v":""},{"$f":"'Cartera de Patentes'!D20","v":""},{"$f":"'Cartera de Patentes'!K20","v":""},{"$f":"'Cartera de Patentes'!P20","v":""},{"$f":"'Cartera de Patentes'!Z20","v":""}]
[null,null,null,null,null,null,null,null,null,null,null,null,null,null,null,"Patente 14",{"$f":"'Cartera de Patentes'!C21","v":""},{"$f":"'Cartera de Patentes'!D21","v":""},{"$f":"'Cartera de Patentes'!K21","v":""},{"$f":"'Cartera de Patentes'!P21","v":""},{"$f":"'Cartera de Patentes'!Z21","v":""}]
[null,null,null,null,null,null,null,null,null,null,null,null,null,null,null,"Patente 15",{"$f":"'Cartera de Patentes'!C22","v":""},{"$f":"'Cartera de Patentes'!D22","v":""},{"$f":"'Cartera de Patentes'!K22","v":""},{"$f":"'Cartera de Patentes'!P22","v":""},{"$f":"'Cartera de Patentes'!Z22","v":""}]
[null,null,null,null,null,null,null,null,null,null,null,null,null,null,null,"Patente 16",{"$f":"'Cartera de Patentes'!C23","v":""},{"$f":"'Cartera de Patentes'!D23","v":""},{"$f":"'Cartera de Patentes'!K23","v":""},{"$f":"'Cartera de Patentes'!P23","v":""},{"$f":"'Cartera de Patentes'!Z23","v":""}]
[null,null,null,null,null,null,null,null,null,null,null,null,null,null,null,"Patente 17",{"$f":"'Cartera de Patentes'!C24","v":""},{"$f":"'Cartera de Patentes'!D24","v":""},{"$f":"'Cartera de Patentes'!K24","v":""},{"$f":"'Cartera de Patentes'!P24","v":""},{"$f":"'Cartera de Patentes'!Z24","v":""}]
[null,null,null,null,null,null,null,null,null,null,null,null,null,null,null,"Patente 18",{"$f":"'Cartera de Patentes'!C25","v":""},{"$f":"'Cartera de Patentes'!D25","v":""},{"$f":"'Cartera de Patentes'!K25","v":""},{"$f":"'Cartera de Patentes'!P25","v":""},{"$f":"'Cartera de Patentes'!Z25","v":""}]
[null,null,null,null,null,null,null,null,null,null,null,null,null,null,null,"Patente 19",{"$f":"'Cartera de Patentes'!C26","v":""},{"$f":"'Cartera de Patentes'!D26","v":""},{"$f":"'Cartera de Patentes'!K26","v":""},{"$f":"'Cartera de Patentes'!P26","v":""},{"$f":"'Cartera de Patentes'!Z26","v":""}]
[null,null,null,null,null,null,null,null,null,null,null,null,null,null,null,"Patente 20",{"$f":"'Cartera de Patentes'!C27","v":""},{"$f":"'Cartera de Patentes'!D27","v":""},{"$f":"'Cartera de Patentes'!K27","v":""},{"$f":"'Cartera de Patentes'!P27","v":""},{"$f":"'Cartera de Patentes'!Z27","v":""}]
[]
[]
[]
[]
[]
[]
[]
[]
[]
[]
[null,null,null,null,null,null,null,null,null,null,null,null,null,null,null,null,"Denominación patente","Criterios legales 25%","Criterios tecnológicos 25%  ","Criterios de mercado 50%","TERMO MEDIO"]
[null,null,null,null,null,null,null,null,null,null,null,null,null,null,null,null,"Patente 1",{"$f":"IF(COUNT('Cartera de Patentes'!D8)>0,'Cartera de Patentes'!D8,\"\")","v":""},{"$f":"IF(COUNT('Cartera de Patentes'!K8)>0,'Cartera de Patentes'!K8,\"\")","v":""},{"$f":"IF(COUNT('Cartera de Patentes'!P8)>0,'Cartera de Patentes'!P8,\"\")","v":""},{"$f":"IF(COUNT('Cartera de Patentes'!Z8)>0,(('Cartera de Patentes'!G8+'Cartera de Patentes'!H8+'Cartera de Patentes'!I8+'Cartera de Patentes'!J8)*0.25)+((('Cartera de Patentes'!L8+'Cartera de Patentes'!M8+'Cartera de Patentes'!N8+'Cartera de Patentes'!O8)*0.25)+('Cartera de Patentes'!Q8+'Cartera de Patentes'!R8+'Cartera de Patentes'!S8+'Cartera de Patentes'!T8+'Cartera de Patentes'!U8+'Cartera de Patentes'!V8+'Cartera de Patentes'!W8+'Cartera de Patentes'!X8+'Cartera de Patentes'!Y8)*0.5),-99999999)","v":-99999999}]
[null,null,null,null,null,null,null,null,null,null,null,null,null,null,null,null,"Patente 2",{"$f":"IF(COUNT('Cartera de Patentes'!D9)>0,'Cartera de Patentes'!D9,\"\")","v":""},{"$f":"IF(COUNT('Cartera de Patentes'!K9)>0,'Cartera de Patentes'!K9,\"\")","v":""},{"$f":"IF(COUNT('Cartera de Patentes'!P9)>0,'Cartera de Patentes'!P9,\"\")","v":""},{"$f":"IF(COUNT('Cartera de Patentes'!Z9)>0,(('Cartera de Patentes'!G9+'Cartera de Patentes'!H9+'Cartera de Patentes'!I9+'Cartera de Patentes'!J9)*0.25)+((('Cartera de Patentes'!L9+'Cartera de Patentes'!M9+'Cartera de Patentes'!N9+'Cartera de Patentes'!O9)*0.25)+('Cartera de Patentes'!Q9+'Cartera de Patentes'!R9+'Cartera de Patentes'!S9+'Cartera de Patentes'!T9+'Cartera de Patentes'!U9+'Cartera de Patentes'!V9+'Cartera de Patentes'!W9+'Cartera de Patentes'!X9+'Cartera de Patentes'!Y9)*0.5),-99999999)","v":-99999999}]
[null,null,null,null,null,null,null,null,null,null,null,null,null,null,null,null,"Patente 3",{"$f":"IF(COUNT('Cartera de Patentes'!D10)>0,'Cartera de Patentes'!D10,\"\")","v":""},{"$f":"IF(COUNT('Cartera de Patentes'!K10)>0,'Cartera de Patentes'!K10,\"\")","v":""},{"$f":"IF(COUNT('Cartera de Patentes'!P10)>0,'Cartera de Patentes'!P10,\"\")","v":""},{"$f":"IF(COUNT('Cartera de Patentes'!Z10)>0,(('Cartera de Patentes'!G10+'Cartera de Patentes'!H10+'Cartera de Patentes'!I10+'Cartera de Patentes'!J10)*0.25)+((('Cartera de Patentes'!L10+'Cartera de Patentes'!M10+'Cartera de Patentes'!N10+'Cartera de Patentes'!O10)*0.25)+('Cartera de Patentes'!Q10+'Cartera de Patentes'!R10+'Cartera de Patentes'!S10+'Cartera de Patentes'!T10+'Cartera de Patentes'!U10+'Cartera de Patentes'!V10+'Cartera de Patentes'!W10+'Cartera de Patentes'!X10+'Cartera de Patentes'!Y10)*0.5),-99999999)","v":-99999999}]
[null,null,null,null,null,null,null,null,null,null,null,null,null,null,null,null,"Patente 4",{"$f":"IF(COUNT('Cartera de Patentes'!D11)>0,'Cartera de Patentes'!D11,\"\")","v":""},{"$f":"IF(COUNT('Cartera de Patentes'!K11)>0,'Cartera de Patentes'!K11,\"\")","v":""},{"$f":"IF(COUNT('Cartera de Patentes'!P11)>0,'Cartera de Patentes'!P11,\"\")","v":""},{"$f":"IF(COUNT('Cartera de Patentes'!Z11)>0,(('Cartera de Patentes'!G11+'Cartera de Patentes'!H11+'Cartera de Patentes'!I11+'Cartera de Patentes'!J11)*0.25)+((('Cartera de Patentes'!L11+'Cartera de Patentes'!M11+'Cartera de Patentes'!N11+'Cartera de Patentes'!O11)*0.25)+('Cartera de Patentes'!Q11+'Cartera de Patentes'!R11+'Cartera de Patentes'!S11+'Cartera de Patentes'!T11+'Cartera de Patentes'!U11+'Cartera de Patentes'!V11+'Cartera de Patentes'!W11+'Cartera de Patentes'!X11+'Cartera de Patentes'!Y11)*0.5),-99999999)","v":-99999999}]
[null,null,null,null,null,null,null,null,null,null,null,null,null,null,null,null,"Patente 5",{"$f":"IF(COUNT('Cartera de Patentes'!D12)>0,'Cartera de Patentes'!D12,\"\")","v":""},{"$f":"IF(COUNT('Cartera de Patentes'!K12)>0,'Cartera de Patentes'!K12,\"\")","v":""},{"$f":"IF(COUNT('Cartera de Patentes'!P12)>0,'Cartera de Patentes'!P12,\"\")","v":""},{"$f":"IF(COUNT('Cartera de Patentes'!Z12)>0,(('Cartera de Patentes'!G12+'Cartera de Patentes'!H12+'Cartera de Patentes'!I12+'Cartera de Patentes'!J12)*0.25)+((('Cartera de Patentes'!L12+'Cartera de Patentes'!M12+'Cartera de Patentes'!N12+'Cartera de Patentes'!O12)*0.25)+('Cartera de Patentes'!Q12+'Cartera de Patentes'!R12+'Cartera de Patentes'!S12+'Cartera de Patentes'!T12+'Cartera de Patentes'!U12+'Cartera de Patentes'!V12+'Cartera de Patentes'!W12+'Cartera de Patentes'!X12+'Cartera de Patentes'!Y12)*0.5),-99999999)","v":-99999999}]
[null,null,null,null,null,null,null,null,null,null,null,null,null,null,null,null,"Patente 6",{"$f":"IF(COUNT('Cartera de Patentes'!D13)>0,'Cartera de Patentes'!D13,\"\")","v":""},{"$f":"IF(COUNT('Cartera de Patentes'!K13)>0,'Cartera de Patentes'!K13,\"\")","v":""},{"$f":"IF(COUNT('Cartera de Patentes'!P13)>0,'Cartera de Patentes'!P13,\"\")","v":""},{"$f":"IF(COUNT('Cartera de Patentes'!Z13)>0,(('Cartera de Patentes'!G13+'Cartera de Patentes'!H13+'Cartera de Patentes'!I13+'Cartera de Patentes'!J13)*0.25)+((('Cartera de Patentes'!L13+'Cartera de Patentes'!M13+'Cartera de Patentes'!N13+'Cartera de Patentes'!O13)*0.25)+('Cartera de Patentes'!Q13+'Cartera de Patentes'!R13+'Cartera de Patentes'!S13+'Cartera de Patentes'!T13+'Cartera de Patentes'!U13+'Cartera de Patentes'!V13+'Cartera de Patentes'!W13+'Cartera de Patentes'!X13+'Cartera de Patentes'!Y13)*0.5),-99999999)","v":-99999999}]
[null,null,null,null,null,null,null,null,null,null,null,null,null,null,null,null,"Patente 7",{"$f":"IF(COUNT('Cartera de Patentes'!D14)>0,'Cartera de Patentes'!D14,\"\")","v":""},{"$f":"IF(COUNT('Cartera de Patentes'!K14)>0,'Cartera de Patentes'!K14,\"\")","v":""},{"$f":"IF(COUNT('Cartera de Patentes'!P14)>0,'Cartera de Patentes'!P14,\"\")","v":""},{"$f":"IF(COUNT('Cartera de Patentes'!Z14)>0,(('Cartera de Patentes'!G14+'Cartera de Patentes'!H14+'Cartera de Patentes'!I14+'Cartera de Patentes'!J14)*0.25)+((('Cartera de Patentes'!L14+'Cartera de Patentes'!M14+'Cartera de Patentes'!N14+'Cartera de Patentes'!O14)*0.25)+('Cartera de Patentes'!Q14+'Cartera de Patentes'!R14+'Cartera de Patentes'!S14+'Cartera de Patentes'!T14+'Cartera de Patentes'!U14+'Cartera de Patentes'!V14+'Cartera de Patentes'!W14+'Cartera de Patentes'!X14+'Cartera de Patentes'!Y14)*0.5),-99999999)","v":-99999999}]
[null,null,null,null,null,null,null,null,null,null,null,null,null,null,null,null,"Patente 8",{"$f":"IF(COUNT('Cartera de Patentes'!D15)>0,'Cartera de Patentes'!D15,\"\")","v":""},{"$f":"IF(COUNT('Cartera de Patentes'!K15)>0,'Cartera de Patentes'!K15,\"\")","v":""},{"$f":"IF(COUNT('Cartera de Patentes'!P15)>0,'Cartera de Patentes'!P15,\"\")","v":""},{"$f":"IF(COUNT('Cartera de Patentes'!Z15)>0,(('Cartera de Patentes'!G15+'Cartera de Patentes'!H15+'Cartera de Patentes'!I15+'Cartera de Patentes'!J15)*0.25)+((('Cartera de Patentes'!L15+'Cartera de Patentes'!M15+'Cartera de Patentes'!N15+'Cartera de Patentes'!O15)*0.25)+('Cartera de Patentes'!Q15+'Cartera de Patentes'!R15+'Cartera de Patentes'!S15+'Cartera de Patentes'!T15+'Cartera de Patentes'!U15+'Cartera de Patentes'!V15+'Cartera de Patentes'!W15+'Cartera de Patentes'!X15+'Cartera de Patentes'!Y15)*0.5),-99999999)","v":-99999999}]
[null,null,null,null,null,null,null,null,null,null,null,null,null,null,null,null,"Patente 9",{"$f":"IF(COUNT('Cartera de Patentes'!D16)>0,'Cartera de Patentes'!D16,\"\")","v":""},{"$f":"IF(COUNT('Cartera de Patentes'!K16)>0,'Cartera de Patentes'!K16,\"\")","v":""},{"$f":"IF(COUNT('Cartera de Patentes'!P16)>0,'Cartera de Patentes'!P16,\"\")","v":""},{"$f":"IF(COUNT('Cartera de Patentes'!Z16)>0,(('Cartera de Patentes'!G16+'Cartera de Patentes'!H16+'Cartera de Patentes'!I16+'Cartera de Patentes'!J16)*0.25)+((('Cartera de Patentes'!L16+'Cartera de Patentes'!M16+'Cartera de Patentes'!N16+'Cartera de Patentes'!O16)*0.25)+('Cartera de Patentes'!Q16+'Cartera de Patentes'!R16+'Cartera de Patentes'!S16+'Cartera de Patentes'!T16+'Cartera de Patentes'!U16+'Cartera de Patentes'!V16+'Cartera de Patentes'!W16+'Cartera de Patentes'!X16+'Cartera de Patentes'!Y16)*0.5),-99999999)","v":-99999999}]
[null,null,null,null,null,null,null,null,null,null,null,null,null,null,null,null,"Patente 10",{"$f":"IF(COUNT('Cartera de Patentes'!D17)>0,'Cartera de Patentes'!D17,\"\")","v":""},{"$f":"IF(COUNT('Cartera de Patentes'!K17)>0,'Cartera de Patentes'!K17,\"\")","v":""},{"$f":"IF(COUNT('Cartera de Patentes'!P17)>0,'Cartera de Patentes'!P17,\"\")","v":""},{"$f":"IF(COUNT('Cartera de Patentes'!Z17)>0,(('Cartera de Patentes'!G17+'Cartera de Patentes'!H17+'Cartera de Patentes'!I17+'Cartera de Patentes'!J17)*0.25)+((('Cartera de Patentes'!L17+'Cartera de Patentes'!M17+'Cartera de Patentes'!N17+'Cartera de Patentes'!O17)*0.25)+('Cartera de Patentes'!Q17+'Cartera de Patentes'!R17+'Cartera de Patentes'!S17+'Cartera de Patentes'!T17+'Cartera de Patentes'!U17+'Cartera de Patentes'!V17+'Cartera de Patentes'!W17+'Cartera de Patentes'!X17+'Cartera de Patentes'!Y17)*0.5),-99999999)","v":-99999999}]
[null,null,null,null,null,null,null,null,null,null,null,null,null,null,null,null,"Patente 11",{"$f":"IF(COUNT('Cartera de Patentes'!D18)>0,'Cartera de Patentes'!D18,\"\")","v":""},{"$f":"IF(COUNT('Cartera de Patentes'!K18)>0,'Cartera de Patentes'!K18,\"\")","v":""},{"$f":"IF(COUNT('Cartera de Patentes'!P18)>0,'Cartera de Patentes'!P18,\"\")","v":""},{"$f":"IF(COUNT('Cartera de Patentes'!Z18)>0,(('Cartera de Patentes'!G18+'Cartera de Patentes'!H18+'Cartera de Patentes'!I18+'Cartera de Patentes'!J18)*0.25)+((('Cartera de Patentes'!L18+'Cartera de Patentes'!M18+'Cartera de Patentes'!N18+'Cartera de Patentes'!O18)*0.25)+('Cartera de Patentes'!Q18+'Cartera de Patentes'!R18+'Cartera de Patentes'!S18+'Cartera de Patentes'!T18+'Cartera de Patentes'!U18+'Cartera de Patentes'!V18+'Cartera de Patentes'!W18+'Cartera de Patentes'!X18+'Cartera de Patentes'!Y18)*0.5),-99999999)","v":-99999999}]
[null,null,null,null,null,null,null,null,null,null,null,null,null,null,null,null,"Patente 12",{"$f":"IF(COUNT('Cartera de Patentes'!D19)>0,'Cartera de Patentes'!D19,\"\")","v":""},{"$f":"IF(COUNT('Cartera de Patentes'!K19)>0,'Cartera de Patentes'!K19,\"\")","v":""},{"$f":"IF(COUNT('Cartera de Patentes'!P19)>0,'Cartera de Patentes'!P19,\"\")","v":""},{"$f":"IF(COUNT('Cartera de Patentes'!Z19)>0,(('Cartera de Patentes'!G19+'Cartera de Patentes'!H19+'Cartera de Patentes'!I19+'Cartera de Patentes'!J19)*0.25)+((('Cartera de Patentes'!L19+'Cartera de Patentes'!M19+'Cartera de Patentes'!N19+'Cartera de Patentes'!O19)*0.25)+('Cartera de Patentes'!Q19+'Cartera de Patentes'!R19+'Cartera de Patentes'!S19+'Cartera de Patentes'!T19+'Cartera de Patentes'!U19+'Cartera de Patentes'!V19+'Cartera de Patentes'!W19+'Cartera de Patentes'!X19+'Cartera de Patentes'!Y19)*0.5),-99999999)","v":-99999999}]
[null,null,null,null,null,null,null,null,null,null,null,null,null,null,null,null,"Patente 13",{"$f":"IF(COUNT('Cartera de Patentes'!D20)>0,'Cartera de Patentes'!D20,\"\")","v":""},{"$f":"IF(COUNT('Cartera de Patentes'!K20)>0,'Cartera de Patentes'!K20,\"\")","v":""},{"$f":"IF(COUNT('Cartera de Patentes'!P20)>0,'Cartera de Patentes'!P20,\"\")","v":""},{"$f":"IF(COUNT('Cartera de Patentes'!Z20)>0,(('Cartera de Patentes'!G20+'Cartera de Patentes'!H20+'Cartera de Patentes'!I20+'Cartera de Patentes'!J20)*0.25)+((('Cartera de Patentes'!L20+'Cartera de Patentes'!M20+'Cartera de Patentes'!N20+'Cartera de Patentes'!O20)*0.25)+('Cartera de Patentes'!Q20+'Cartera de Patentes'!R20+'Cartera de Patentes'!S20+'Cartera de Patentes'!T20+'Cartera de Patentes'!U20+'Cartera de Patentes'!V20+'Cartera de Patentes'!W20+'Cartera de Patentes'!X20+'Cartera de Patentes'!Y20)*0.5),-99999999)","v":-99999999}]
[null,null,null,null,null,null,null,null,null,null,null,null,null,null,null,null,"Patente 14",{"$f":"IF(COUNT('Cartera de Patentes'!D21)>0,'Cartera de Patentes'!D21,\"\")","v":""},{"$f":"IF(COUNT('Cartera de Patentes'!K21)>0,'Cartera de Patentes'!K21,\"\")","v":""},{"$f":"IF(COUNT('Cartera de Patentes'!P21)>0,'Cartera de Patentes'!P21,\"\")","v":""},{"$f":"IF(COUNT('Cartera de Patentes'!Z21)>0,(('Cartera de Patentes'!G21+'Cartera de Patentes'!H21+'Cartera de Patentes'!I21+'Cartera de Patentes'!J21)*0.25)+((('Cartera de Patentes'!L21+'Cartera de Patentes'!M21+'Cartera de Patentes'!N21+'Cartera de Patentes'!O21)*0.25)+('Cartera de Patentes'!Q21+'Cartera de Patentes'!R21+'Cartera de Patentes'!S21+'Cartera de Patentes'!T21+'Cartera de Patentes'!U21+'Cartera de Patentes'!V21+'Cartera de Patentes'!W21+'Cartera de Patentes'!X21+'Cartera de Patentes'!Y21)*0.5),-99999999)","v":-99999999}]
[null,null,null,null,null,null,null,null,null,null,null,null,null,null,null,null,"Patente 15",{"$f":"IF(COUNT('Cartera de Patentes'!D22)>0,'Cartera de Patentes'!D22,\"\")","v":""},{"$f":"IF(COUNT('Cartera de Patentes'!K22)>0,'Cartera de Patentes'!K22,\"\")","v":""},{"$f":"IF(COUNT('Cartera de Patentes'!P22)>0,'Cartera de Patentes'!P22,\"\")","v":""},{"$f":"IF(COUNT('Cartera de Patentes'!Z22)>0,(('Cartera de Patentes'!G22+'Cartera de Patentes'!H22+'Cartera de Patentes'!I22+'Cartera de Patentes'!J22)*0.25)+((('Cartera de Patentes'!L22+'Cartera de Patentes'!M22+'Cartera de Patentes'!N22+'Cartera de Patentes'!O22)*0.25)+('Cartera de Patentes'!Q22+'Cartera de Patentes'!R22+'Cartera de Patentes'!S22+'Cartera de Patentes'!T22+'Cartera de Patentes'!U22+'Cartera de Patentes'!V22+'Cartera de Patentes'!W22+'Cartera de Patentes'!X22+'Cartera de Patentes'!Y22)*0.5),-99999999)","v":-99999999}]
[null,null,null,null,null,null,null,null,null,null,null,null,null,null,null,null,"Patente 16",{"$f":"IF(COUNT('Cartera de Patentes'!D23)>0,'Cartera de Patentes'!D23,\"\")","v":""},{"$f":"IF(COUNT('Cartera de Patentes'!K23)>0,'Cartera de Patentes'!K23,\"\")","v":""},{"$f":"IF(COUNT('Cartera de Patentes'!P23)>0,'Cartera de Patentes'!P23,\"\")","v":""},{"$f":"IF(COUNT('Cartera de Patentes'!Z23)>0,(('Cartera de Patentes'!G23+'Cartera de Patentes'!H23+'Cartera de Patentes'!I23+'Cartera de Patentes'!J23)*0.25)+((('Cartera de Patentes'!L23+'Cartera de Patentes'!M23+'Cartera de Patentes'!N23+'Cartera de Patentes'!O23)*0.25)+('Cartera de Patentes'!Q23+'Cartera de Patentes'!R23+'Cartera de Patentes'!S23+'Cartera de Patentes'!T23+'Cartera de Patentes'!U23+'Cartera de Patentes'!V23+'Cartera de Patentes'!W23+'Cartera de Patentes'!X23+'Cartera de Patentes'!Y23)*0.5),-99999999)","v":-99999999}]
[null,null,null,null,null,null,null,null,null,null,null,null,null,null,null,null,"Patente 17",{"$f":"IF(COUNT('Cartera de Patentes'!D24)>0,'Cartera de Patentes'!D24,\"\")","v":""},{"$f":"IF(COUNT('Cartera de Patentes'!K24)>0,'Cartera de Patentes'!K24,\"\")","v":""},{"$f":"IF(COUNT('Cartera de Patentes'!P24)>0,'Cartera de Patentes'!P24,\"\")","v":""},{"$f":"IF(COUNT('Cartera de Patentes'!Z24)>0,(('Cartera de Patentes'!G24+'Cartera de Patentes'!H24+'Cartera de Patentes'!I24+'Cartera de Patentes'!J24)*0.25)+((('Cartera de Patentes'!L24+'Cartera de Patentes'!M24+'Cartera de Patentes'!N24+'Cartera de Patentes'!O24)*0.25)+('Cartera de Patentes'!Q24+'Cartera de Patentes'!R24+'Cartera de Patentes'!S24+'Cartera de Patentes'!T24+'Cartera de Patentes'!U24+'Cartera de Patentes'!V24+'Cartera de Patentes'!W24+'Cartera de Patentes'!X24+'Cartera de Patentes'!Y24)*0.5),-99999999)","v":-99999999}]
[null,null,null,null,null,null,null,null,null,null,null,null,null,null,null,null,"Patente 18",{"$f":"IF(COUNT('Cartera de Patentes'!D25)>0,'Cartera de Patentes'!D25,\"\")","v":""},{"$f":"IF(COUNT('Cartera de Patentes'!K25)>0,'Cartera de Patentes'!K25,\"\")","v":""},{"$f":"IF(COUNT('Cartera de Patentes'!P25)>0,'Cartera de Patentes'!P25,\"\")","v":""},{"$f":"IF(COUNT('Cartera de Patentes'!Z25)>0,(('Cartera de Patentes'!G25+'Cartera de Patentes'!H25+'Cartera de Patentes'!I25+'Cartera de Patentes'!J25)*0.25)+((('Cartera de Patentes'!L25+'Cartera de Patentes'!M25+'Cartera de Patentes'!N25+'Cartera de Patentes'!O25)*0.25)+('Cartera de Patentes'!Q25+'Cartera de Patentes'!R25+'Cartera de Patentes'!S25+'Cartera de Patentes'!T25+'Cartera de Patentes'!U25+'Cartera de Patentes'!V25+'Cartera de Patentes'!W25+'Cartera de Patentes'!X25+'Cartera de Patentes'!Y25)*0.5),-99999999)","v":-99999999}]
[null,null,null,null,null,null,null,null,null,null,null,null,null,null,null,null,"Patente 19",{"$f":"IF(COUNT('Cartera de Patentes'!D26)>0,'Cartera de Patentes'!D26,\"\")","v":""},{"$f":"IF(COUNT('Cartera de Patentes'!K26)>0,'Cartera de Patentes'!K26,\"\")","v":""},{"$f":"IF(COUNT('Cartera de Patentes'!P26)>0,'Cartera de Patentes'!P26,\"\")","v":""},{"$f":"IF(COUNT('Cartera de Patentes'!Z26)>0,(('Cartera de Patentes'!G26+'Cartera de Patentes'!H26+'Cartera de Patentes'!I26+'Cartera de Patentes'!J26)*0.25)+((('Cartera de Patentes'!L26+'Cartera de Patentes'!M26+'Cartera de Patentes'!N26+'Cartera de Patentes'!O26)*0.25)+('Cartera de Patentes'!Q26+'Cartera de Patentes'!R26+'Cartera de Patentes'!S26+'Cartera de Patentes'!T26+'Cartera de Patentes'!U26+'Cartera de Patentes'!V26+'Cartera de Patentes'!W26+'Cartera de Patentes'!X26+'Cartera de Patentes'!Y26)*0.5),-99999999)","v":-99999999}]
[null,null,null,null,null,null,null,null,null,null,null,null,null,null,null,null,"Patente 20",{"$f":"IF(COUNT('Cartera de Patentes'!D27)>0,'Cartera de Patentes'!D27,\"\")","v":""},{"$f":"IF(COUNT('Cartera de Patentes'!K27)>0,'Cartera de Patentes'!K27,\"\")","v":""},{"$f":"IF(COUNT('Cartera de Patentes'!P27)>0,'Cartera de Patentes'!P27,\"\")","v":""},{"$f":"IF(COUNT('Cartera de Patentes'!Z27)>0,(('Cartera de Patentes'!G27+'Cartera de Patentes'!H27+'Cartera de Patentes'!I27+'Cartera de Patentes'!J27)*0.25)+((('Cartera de Patentes'!L27+'Cartera de Patentes'!M27+'Cartera de Patentes'!N27+'Cartera de Patentes'!O27)*0.25)+('Cartera de Patentes'!Q27+'Cartera de Patentes'!R27+'Cartera de Patentes'!S27+'Cartera de Patentes'!T27+'Cartera de Patentes'!U27+'Cartera de Patentes'!V27+'Cartera de Patentes'!W27+'Cartera de Patentes'!X27+'Cartera de Patentes'!Y27)*0.5),-99999999)","v":-99999999}]
[]
[]
[]
[]
[null,"*Ponderación criterios legales 25%, criterios tecnológicos 25%, criterios de mercado 50% con una puntuación global max. de 13 Puntos"]

{"sheet":"EvaluaciónPatente1","index":4,"n_rows":78,"n_cols":12,"rows_kept":78,"cut":false,"hidden":false,"merged":[[75,2,75,3],[54,2,54,3],[23,2,23,8],[37,2,37,8],[10,1,10,3],[40,2,40,8],[43,2,43,8],[46,2,46,8],[51,2,51,8],[11,1,11,3],[12,1,12,3],[17,2,17,3],[10,5,10,6],[11,5,11,6],[12,5,12,6],[57,2,57,3],[63,2,63,3],[66,2,66,3],[69,2,69,3],[72,2,72,3],[20,2,20,8],[32,2,32,8],[26,2,26,8],[29,2,29,8],[60,2,60,3]]}
[]
[]
[]
[]
[]
[]
[]
[]
[]
[]
[null,"Denominación de la tecnología patentada",null,null,null,null,null,null,null,"1. Incluir la denominación de la tecnología, el nombre del evaluador y la fecha de la evaluación"]
[null,"Nombre del evaluador",null,null,null,null,null,null,null,"2. Marcar con una «X» el nivel para cada criterio y los comentarios que justifiquen la elección"]
[null,"Fecha de evaluación de la tecnología patentada"]
[]
[null,"Criterios de evaluación"]
[]
[null,"1. Criterios legales"]
[null,null,"Criterio 1.1 Estado legal (Criterio de exclusión)"]
[null,null,null,"Desfavorable",null,null,"Neutro",null,null,"Favorable",null,"Comentarios"]
[null,null,null,"Patente revocada, expirada o caducada.",null,null,"-",null,null,"Por lo menos una solicitud de patente pendiente o patente concedida."]
[null,null,"Criterio 1.2 Alcance territorial (Criterio de exclusión)"]
[null,null,null,"Desfavorable",null,null,"Neutro",null,null,"Favorable",null,"Comentarios"]
[null,null,null,"La protección de la patente esta limitada a un mercado que no es su mercado principal. ",null,null,"-",null,null,"Protección en un país que es su mercado principal o en más de un país de la zona de mercado, o si la protección todavía está disponible para su elección (periodo de prioridad, PCT, EP)."]
[null,null,"Criterio 1.3 Fuerza de la protección"]
[null,null,null,"Desfavorable",null,null,"Neutro",null,null,"Favorable",null,"Comentarios"]
[null,null,null,"(PATENTES NO PUBLICADAS)\nNo se ha identificado el estado de\nla técnica o se ha identificado que\nel estado de la técnica no supone\nuna amenaza para la novedad y/o la\nactividad inventiva.\n(PATENTES PUBLICADAS)\nEvaluación de la patentabilidad por la\noficina nacional o similar existente, con\n2 o más documentos X.",null,null,"(PATENTES NO PUBLICADAS)\nSe ha identificado el estado de la\ntécnica y los documentos encontrados\nno suponen una amenaza para la\nnovedad. Sin embargo, la actividad\ninventiva es una cuestión de\ninterpretación.\n(PATENTES PUBLICADAS)\nExamen de la novedad por la oficina\nnacional o similar existente, con\ndocumentos X o Y, pero con potencial\nde conceder la patente.",null,null,"PATENTES NO PUBLICADAS)\nSe ha identificado el estado de la\ntécnica que no supone por el momento\nninguna amenaza para la novedad y la\nactividad inventiva.\n(PATENTES PUBLICADAS)\nExamen de la novedad por la oficina\nnacional o similar existente, sin\ndocumentos X o patente concedida."]
[null,null,"Criterio 1.4 Duración de la protección"]
[null,null,null,"Desfavorable",null,null,"Neutro",null,null,"Favorable",null,"Comentarios"]
[null,null,null,"A la patente le quedan menos de 6 años.",null,null,"A la patente le quedan 6-12 años",null,null,"A la patente le quedan más de 12 años"]
[null,null,"Criterio 1.5 Alcance de la protección "]
[null,null,null,"Desfavorable",null,null,"Neutro",null,null,"Favorable",null,"Comentarios"]
[null,null,null,"Las reivindicaciones son muy concretas y específicas.",null,null,"Las reivindicaciones son razonablemente amplias.",null,null,"Las reivindicaciones comprenden un principio general."]
[null,null,"Criterio 1.6 (In)dependencia"]
[null,null,null,"Desfavorable",null,null,"Neutro",null,null,"Favorable",null,"Comentarios"]
[null,null,null,"El uso de la patente depende de cotitulares fuera del ámbito habitual o de cotitulares con menos de 5% cotitularidad dentro del ámbito habitual.",null,null,"El uso de la patente depende de cotitulares, pero dentro del ámbito habitual.",null,null,"La patente no tiene cotitulares. El uso y la explotación de la patente es independiente de acuerdos con cotitulares."]
[]
[null,"2. Criterios tecnológicos "]
[null,null,"Criterio 2.1 Capacidad de detección (Criterio de exclusión y madurez)"]
[null,null,null,"Desfavorable",null,null,"Neutro",null,null,"Favorable",null,"Comentarios"]
[null,null,null,"Es muy difícil identificar los productos\nde imitación. Es prácticamente\nimposible de detectar el uso ilegal de\nun procedimiento, un método o el uso\nde un compuesto.",null,null,"Es difícil pero no imposible identificar\nproductos de imitación. La detección\nde un uso ilegal de un procedimiento,\nun método o el uso de un compuesto\nes posible, aunque difícil.",null,null,"Es fácil identificar los productos\nilegales de imitación. La detección de\nun uso ilegal de un procedimiento, un\nmétodo o el uso de un compuesto es\nfácil."]
[null,null,"Criterio 2.2 Capacidad de imitación"]
[null,null,null,"Desfavorable",null,null,"Neutro",null,null,"Favorable",null,"Comentarios"]
[null,null,null,"La tecnología patentada es fácil de identificar, copiar y producir.",null,null,"Es posible copiar y producir la tecnología patentada por ejemplo mediante ingeniería inversa.",null,null,"La tecnología patentada es muy difícil de copiar y producir."]
[null,null,"Criterio 2.3 Estado de desarrollo (TRL)"]
[null,null,null,"Desfavorable",null,null,"Neutro",null,null,"Favorable",null,"Comentarios"]
[null,null,null,"Entrono laboratorio: la invención ha sido probada, en teoría, de acuerdo con cálculos (TRL 1-2).",null,null,"Se han realizado experimentos, se han desarrollado prototipos (TRL 3-4).",null,null,"Demostración de la invención en un entorno real (TRL ≥5)."]
[null,null,"Criterio 2.4 Proceso de producción"]
[null,null,null,"Desfavorable",null,null,"Neutro",null,null,"Favorable",null,"Comentarios"]
[null,null,null,"La tecnología patentada requiere un proceso de producción completamente nuevo o modifica fundamentalmente el procedimiento actualmente en uso.",null,null,"Se requiere el desarrollo de los procesos de producción actualmente aplicados antes de poder utilizar o producir la tecnología patentada.",null,null,"La tecnología patentada puede utilizarse o producirse con el proceso de producción actualmente aplicado."]
[]
[null,"3. Criterios de mercado"]
[null,null,"Criterio 3.1 Compromiso con la comercialización (Criterio de exclusión y madurez)"]
[null,null,null,"Desfavorable",null,null,"Neutro",null,null,"Favorable",null,"Comentarios"]
[null,null,null,"Recursos no asignados, la tecnología patentada no es clave para el equipo o el grupo.",null,null,"Personas asignadas a la tecnología patentada, pero sin funciones definidas. El proceso de transferencia no es una prioridad. ",null,null,"Proyecto clave dentro de la estrategia de transferencia del grupo o equipo. Hay personas asignadas para participar en el proceso con roles establecidos."]
[null,null,"Criterio 3.2 Mercado potencial / Aplicaciones"]
[null,null,null,"Desfavorable",null,null,"Neutro",null,null,"Favorable",null,"Comentarios"]
[null,null,null,"La tecnología patentada aún no se ha dirigido a un mercado concreto o se dirige a un mercado pequeño. No está confirmado el sector de aplicación.",null,null,"Existe un mercado conocido para la tecnología patentada con un tamaño significativo dentro del -ámbito tecnológico. La aplicación se limita a un sector industrial.",null,null,"Existe un mercado conocido y grande, así como otros mercados significativos. Se han identificado numerosos ámbitos de aplicación."]
[null,null,"Criterio 3.3 Evolución del mercado"]
[null,null,null,"Desfavorable",null,null,"Neutro",null,null,"Favorable",null,"Comentarios"]
[null,null,null,"Bajo (CAGR < 4%).",null,null,"Medio (CAGR 4-8%).",null,null,"Alto (CAGR >8%)."]
[null,null,"Criterio 3.4 Esperanza de vida en el mercado"]
[null,null,null,"Desfavorable",null,null,"Neutro",null,null,"Favorable",null,"Comentarios"]
[null,null,null,"Inferior a 2 años.",null,null,"Entre 2 -5 años.",null,null,"Más de 5 años."]
[null,null,"Criterio 3.5 Entorno competitivo"]
[null,null,null,"Desfavorable",null,null,"Neutro",null,null,"Favorable",null,"Comentarios"]
[null,null,null,"No se identificaron los competidores ni productos sustitutivos.",null,null,"Situación dominante de un grupo restringido de empresas o limitado a un número escaso de empresas.",null,null,"Entorno competitivo detectado y definido. Mercado accesible y abierto."]
[null,null,"Criterio 3.6 Permisos y estándares de mercado"]
[null,null,null,"Desfavorable",null,null,"Neutro",null,null,"Favorable",null,"Comentarios"]
[null,null,null,"Se necesitan permisos o/y se tienen\nque cumplir estándares para vender\nproductos en el mercado, pero aún\nno se han identificado y analizado los\nrequisitos.",null,null,"Permisos y/o estándares necesarios\ndetectados y analizados o aplicación\nde permisos en proceso.",null,null,"No es necesario un permiso ni se\ntienen que cumplir estándares para la\nventa de productos en el mercado."]
[null,null,"Criterio 3.7 Ventajas competitivas"]
[null,null,null,"Desfavorable",null,null,"Neutro",null,null,"Favorable",null,"Comentarios"]
[null,null,null,"No se han detectado las ventajas competitivas.",null,null,"Se han definido las ventajas competitivas. La tecnología patentada ofrece al menos 1-2 ventajas sobre las tecnologías y productos existentes.",null,null,"La tecnología patentada proporciona características realmente innovadoras y distintivas que pueden utilizarse para la comercialización y la venta de posibles productos."]
[null,null,"Criterio 3.8 Plazo de comercialización"]
[null,null,null,"Desfavorable",null,null,"Neutro",null,null,"Favorable",null,"Comentarios"]
[null,null,null,"Superior a 3 años.",null,null,"Entre 2-3 años.",null,null,"Inferior a 2 años."]
[null,null,"Criterio 3.9 Oportunidades comerciales y feedback"]
[null,null,null,"Desfavorable",null,null,"Neutro",null,null,"Favorable",null,"Comentarios"]
[null,null,null,"El equipo investigador no tiene\nconocimiento sobre el entorno\ncomercial de la tecnología patentada.\nNo existe feedback por parte de\nempresas interesadas, o solo feedback\nnegativo.",null,null,"El equipo investigador tiene\noportunidades comerciales detectadas\ny conoce empresas y entidades\ninteresadas. Existe feedback por parte\nde empresas interesadas, pero sin\nintención para una cooperación.",null,null,"El equipo investigador ya ha tenido\ncontacto con empresas y entidades\ninteresadas y tiene varias oportunidades\ncomerciales detectadas. Existe feedback\npor parte de empresas interesadas, con\nintención para una cooperación."]

{"sheet":"InformePatente1","index":5,"n_rows":146,"n_cols":17,"rows_kept":146,"cut":false,"hidden":false,"merged":[[31,2,31,8],[42,0,50,0],[46,2,46,8],[48,2,48,8],[49,2,49,8],[44,2,44,8],[45,2,45,8],[47,2,47,8],[43,2,43,8],[42,2,42,8],[144,5,144,9],[145,5,145,9],[50,2,50,8],[14,0,14,9],[30,2,30,8],[21,0,21,1],[23,2,23,8],[22,0,27,0],[28,0,31,0],[29,2,29,8],[28,2,28,8],[26,2,26,8],[27,2,27,8],[22,2,22,8],[24,2,24,8],[25,2,25,8]]}
[]
[null,null,null,null,null,null,null,null,null,null,null,null,null,null,null,"Promedio"]
[null,null,null,null,null,null,null,null,null,null,null,null,null,null,null,"Criterios legales",{"$f":"IF(COUNT(SUM(J25,J26,J27,J28))>0,SUM(J25,J26,J27,J28)/8,-9999999999)","v":0}]
[null,null,null,null,null,null,null,null,null,null,null,null,null,null,null,"Criterios tecnológicos ",{"$f":"IF(COUNT(SUM(J29,J30,J31,J32))>0,SUM(J29,J30,J31,J32)/8,-9999999999)","v":0}]
[null,null,null,null,null,null,null,null,null,null,null,null,null,null,null,"Criterios de mercado",{"$f":"IF(COUNT(SUM(J43,J45,J44,J46,J47,J48,J49,J50,J51))>0,SUM(J43,J45,J44,J46,J47,J48,J49,J50,J51)/18,-9999999999)","v":0}]
[]
[]
[null,null,null,null,null,null,null,null,null,null,null,"Cubrir solo donde esté indicado"]
[]
[]
["INFORME DE EVALUACIÓN"]
[]
["1. Título"]
[]
[{"$f":"IF(COUNTA(EvaluaciónPatente1!F11)>0,EvaluaciónPatente1!F11,\"\")","v":""}]
[]
[]
["2. Evaluación"]
[]
["      2.1 Evaluación de criterios "]
[]
["Criterios",null,"Observaciones",null,null,null,null,null,null,"E"]
["1. Criterios legales","1.1 Estado legal ",{"$f":"IF(COUNTA(EvaluaciónPatente1!L20)>0,EvaluaciónPatente1!L20,\"\")","v":""},null,null,null,null,null,null,{"$f":"IF(COUNTA(EvaluaciónPatente1!C19)>0,0,IF(COUNTA(EvaluaciónPatente1!F19)>0,1,IF(COUNTA(EvaluaciónPatente1!I19)>0,2,\"\")))","v":""}]
[null,"1.2  Alcance territorial ",{"$f":"IF(COUNTA(EvaluaciónPatente1!L23)>0,EvaluaciónPatente1!L23,\"\")","v":""},null,null,null,null,null,null,{"$f":"IF(COUNTA(EvaluaciónPatente1!C22)>0,0,IF(COUNTA(EvaluaciónPatente1!F22)>0,1,IF(COUNTA(EvaluaciónPatente1!I22)>0,2,\"\")))","v":""}]
[null,"1.3 Fuerza de la protección",{"$f":"IF(COUNTA(EvaluaciónPatente1!L26)>0,EvaluaciónPatente1!L26,\"\")","v":""},null,null,null,null,null,null,{"$f":"IF(COUNTA(EvaluaciónPatente1!C25)>0,0,IF(COUNTA(EvaluaciónPatente1!F25)>0,1,IF(COUNTA(EvaluaciónPatente1!I25)>0,2,\"\")))","v":""}]
[null,"1.4 Duración de la protección",{"$f":"IF(COUNTA(EvaluaciónPatente1!L29)>0,EvaluaciónPatente1!L29,\"\")","v":""},null,null,null,null,null,null,{"$f":"IF(COUNTA(EvaluaciónPatente1!C28)>0,0,IF(COUNTA(EvaluaciónPatente1!F28)>0,1,IF(COUNTA(EvaluaciónPatente1!I28)>0,2,\"\")))","v":""}]
[null,"1.5 Alcance de la protección",{"$f":"IF(COUNTA(EvaluaciónPatente1!L32)>0,EvaluaciónPatente1!L32,\"\")","v":""},null,null,null,null,null,null,{"$f":"IF(COUNTA(EvaluaciónPatente1!C31)>0,0,IF(COUNTA(EvaluaciónPatente1!F31)>0,1,IF(COUNTA(EvaluaciónPatente1!I31)>0,2,\"\")))","v":""}]
[null,"1.6 (In)dependencia",{"$f":"IF(COUNTA(EvaluaciónPatente1!L35)>0,EvaluaciónPatente1!L35,\"\")","v":""},null,null,null,null,null,null,{"$f":"IF(COUNTA(EvaluaciónPatente1!C34)>0,0,IF(COUNTA(EvaluaciónPatente1!F34)>0,1,IF(COUNTA(EvaluaciónPatente1!I34)>0,2,\"\")))","v":""}]
["2. Criterios tecnológicos  ","2.1 Capacidad de detección",{"$f":"IF(COUNTA(EvaluaciónPatente1!L40)>0,EvaluaciónPatente1!L40,\"\")","v":""},null,null,null,null,null,null,{"$f":"IF(COUNTA(EvaluaciónPatente1!C39)>0,0,IF(COUNTA(EvaluaciónPatente1!F39)>0,1,IF(COUNTA(EvaluaciónPatente1!I39)>0,2,\"\")))","v":""}]
[null,"2.2 Capacidad de imitación",{"$f":"IF(COUNTA(EvaluaciónPatente1!L43)>0,EvaluaciónPatente1!L43,\"\")","v":""},null,null,null,null,null,null,{"$f":"IF(COUNTA(EvaluaciónPatente1!C42)>0,0,IF(COUNTA(EvaluaciónPatente1!F42)>0,1,IF(COUNTA(EvaluaciónPatente1!I42)>0,2,\"\")))","v":""}]
[null,"2.3 Estado de desarrollo (TRL)",{"$f":"IF(COUNTA(EvaluaciónPatente1!L46)>0,EvaluaciónPatente1!L46,\"\")","v":""},null,null,null,null,null,null,{"$f":"IF(COUNTA(EvaluaciónPatente1!C45)>0,0,IF(COUNTA(EvaluaciónPatente1!F45)>0,1,IF(COUNTA(EvaluaciónPatente1!I45)>0,2,\"\")))","v":""}]
[null,"2.4 Proceso de producción / competencias ",{"$f":"IF(COUNTA(EvaluaciónPatente1!L49)>0,EvaluaciónPatente1!L49,\"\")","v":""},null,null,null,null,null,null,{"$f":"IF(COUNTA(EvaluaciónPatente1!C48)>0,0,IF(COUNTA(EvaluaciónPatente1!F48)>0,1,IF(COUNTA(EvaluaciónPatente1!I48)>0,2,\"\")))","v":""}]
[]
[null,null,"E = Evaluación",null,null,null,null,null,null,null,null,"Cubrir solo donde esté indicado"]
[]
[]
[]
[]
[]
[]
[]
["Criterios",null,"Observaciones",null,null,null,null,null,null,"E"]
["3. Criterios de mercado","3.1 Compromiso con la comercialización",{"$f":"IF(COUNTA(EvaluaciónPatente1!L54)>0,EvaluaciónPatente1!L54,\"\")","v":""},null,null,null,null,null,null,{"$f":"IF(COUNTA(EvaluaciónPatente1!C53)>0,0,IF(COUNTA(EvaluaciónPatente1!F53)>0,1,IF(COUNTA(EvaluaciónPatente1!I53)>0,2,\"\")))","v":""}]
[null,"3.2 Mercado potencial / Aplicaciones ",{"$f":"IF(COUNTA(EvaluaciónPatente1!L57)>0,EvaluaciónPatente1!L57,\"\")","v":""},null,null,null,null,null,null,{"$f":"IF(COUNTA(EvaluaciónPatente1!C56)>0,0,IF(COUNTA(EvaluaciónPatente1!F56)>0,1,IF(COUNTA(EvaluaciónPatente1!I56)>0,2,\"\")))","v":""}]
[null,"3.3 Evolución del mercado",{"$f":"IF(COUNTA(EvaluaciónPatente1!L60)>0,EvaluaciónPatente1!L60,\"\")","v":""},null,null,null,null,null,null,{"$f":"IF(COUNTA(EvaluaciónPatente1!C59)>0,0,IF(COUNTA(EvaluaciónPatente1!F59)>0,1,IF(COUNTA(EvaluaciónPatente1!I59)>0,2,\"\")))","v":""}]
[null,"3.4 Esperanza de vida en el mercado ",{"$f":"IF(COUNTA(EvaluaciónPatente1!L63)>0,EvaluaciónPatente1!L63,\"\")","v":""},null,null,null,null,null,null,{"$f":"IF(COUNTA(EvaluaciónPatente1!C62)>0,0,IF(COUNTA(EvaluaciónPatente1!F62)>0,1,IF(COUNTA(EvaluaciónPatente1!I62)>0,2,\"\")))","v":""}]
[null,"3.5 Entorno competitiva ",{"$f":"IF(COUNTA(EvaluaciónPatente1!L66)>0,EvaluaciónPatente1!L66,\"\")","v":""},null,null,null,null,null,null,{"$f":"IF(COUNTA(EvaluaciónPatente1!C65)>0,0,IF(COUNTA(EvaluaciónPatente1!F65)>0,1,IF(COUNTA(EvaluaciónPatente1!I65)>0,2,\"\")))","v":""}]
[null,"3.6 Permisos",{"$f":"IF(COUNTA(EvaluaciónPatente1!L69)>0,EvaluaciónPatente1!L69,\"\")","v":""},null,null,null,null,null,null,{"$f":"IF(COUNTA(EvaluaciónPatente1!C68)>0,0,IF(COUNTA(EvaluaciónPatente1!F68)>0,1,IF(COUNTA(EvaluaciónPatente1!I68)>0,2,\"\")))","v":""}]
[null,"3.7  Ventajas competitivas",{"$f":"IF(COUNTA(EvaluaciónPatente1!L72)>0,EvaluaciónPatente1!L72,\"\")","v":""},null,null,null,null,null,null,{"$f":"IF(COUNTA(EvaluaciónPatente1!C71)>0,0,IF(COUNTA(EvaluaciónPatente1!F71)>0,1,IF(COUNTA(EvaluaciónPatente1!I71)>0,2,\"\")))","v":""}]
[null,"3.8 Plazo de comercialización",{"$f":"IF(COUNTA(EvaluaciónPatente1!L75)>0,EvaluaciónPatente1!L75,\"\")","v":""},null,null,null,null,null,null,{"$f":"IF(COUNTA(EvaluaciónPatente1!C74)>0,0,IF(COUNTA(EvaluaciónPatente1!F74)>0,1,IF(COUNTA(EvaluaciónPatente1!I74)>0,2,\"\")))","v":""}]
[null,"3.9 Oportunidades comerciales y feedback",{"$f":"IF(COUNTA(EvaluaciónPatente1!L78)>0,EvaluaciónPatente1!L78,\"\")","v":""},null,null,null,null,null,null,{"$f":"IF(COUNTA(EvaluaciónPatente1!C77)>0,0,IF(COUNTA(EvaluaciónPatente1!F77)>0,1,IF(COUNTA(EvaluaciónPatente1!I77)>0,2,\"\")))","v":""}]
[null,null,null,null,null,null,null,null,null,null,null,"Cubrir solo donde esté indicado"]
[null,null,"E = Evaluación"]
[]
[]
[]
[]
[]
[]
[]
[]
["      2.2 Valoración general"]
[]
[]
[]
[]
[]
[]
[]
[]
[]
[]
[]
[]
[]
[]
[]
[]
[]
[]
[null,null,null,null,null,null,null,null,null,null,null,null,null,null,null,null," "]
[]
[]
[]
[]
["3. Conclusiones y observaciones"]
[]
["      3.1 Situación de la tecnología patentada de cara al proceso de una posible comercialización "]
[]
[null,"Tecnología patentada con alto potencial de transferencia o lista para transferir.",null,null,null,null,null,null,null,null,null,"Marcar una opción"]
[null,"Tecnología patentada pendiente de completar proceso de evaluación."]
[null,"Tecnología patentada con un grado de madurez que no es suficiente para iniciar un proceso de comercialización."]
[null,"Con la información aportada, la tecnología patentada no es de interés para un proceso de comercialización."]
[]
["         Justificación de la evaluación"]
[]
[null,null,null,null,null,null,null,null,null,null,null,"Indicar justificación de la evaluación"]
[{"$f":"IF(EvaluaciónPatente1!C19=\"x\", \"Patente no cumple con los requisitos mínimos. Patente revocada, expirada o caducada.\", \"\")","v":""}]
[{"$f":"IF(EvaluaciónPatente1!C22=\"x\", \"Patente no cumple con los requisitos mínimos. La protección de la patente es limitado a un mercado que no es su mercado principal. \", \"\")","v":""}]
[{"$f":"IF(EvaluaciónPatente1!C39=\"x\", \"Patente no cumple con los requisitos mínimos. Es muy difícil identificar los productos de imitación. \", \"\")","v":""}]
[{"$f":"IF(EvaluaciónPatente1!C53=\"x\", \"Patente no cumple con los requisitos mínimos. Recursos no asignados, la tecnología patentada no es clave para el equipo o el grupo. \", \"\")","v":""}]
[]
[]
[null,null,null,"   "]
["      3.2 Observaciones"]
[]
[null,null,null,null,null,null,null,null,null,null,null,"Indicar observaciones"]
[]
[]
[]
[]
[]
[]
[]
[]
[]
[]
[]
[]
[]
[]
[]
[]
[]
["      3.3 Implantación"]
[]
["Acciones",null,null,"Responsable",1,2,3,4,5,6,null,"Indicar proceso de implantación"]
[]
[]
[]
[]
[]
[]
[]
[]
[]
[]
[]
[]
[]
[]
[]
["4. Datos de la evaluación"]
[]
["Autor",null,null,null,null,"Fecha de realización"]
[{"$f":"IF(COUNTA(EvaluaciónPatente1!F12)>0,EvaluaciónPatente1!F12,\"\")","v":""},null,null,null,null,{"$f":"IF(COUNTA(EvaluaciónPatente1!F13)>0,EvaluaciónPatente1!F13,\"\")","v":""}]

{"sheet":"EvaluaciónPatente2","index":6,"n_rows":78,"n_cols":12,"rows_kept":78,"cut":false,"hidden":false,"merged":[[75,2,75,3],[57,2,57,3],[60,2,60,3],[63,2,63,3],[66,2,66,3],[69,2,69,3],[72,2,72,3],[54,2,54,3],[17,2,17,3],[20,2,20,8],[23,2,23,8],[26,2,26,8],[29,2,29,8],[32,2,32,8],[37,2,37,8],[40,2,40,8],[43,2,43,8],[46,2,46,8],[51,2,51,8],[10,1,10,3],[10,5,10,6],[11,1,11,3],[11,5,11,6],[12,1,12,3],[12,5,12,6]]}
[]
[]
[]
[]
[]
[]
[]
[]
[]
[]
[null,"Denominación de la tecnología patentada",null,null,null,null,null,null,null,"1. Incluir la denominación de la tecnología, el nombre del evaluador y la fecha de la evaluación"]
[null,"Nombre del evaluador",null,null,null,null,null,null,null,"2. Marcar con una «X» el nivel para cada criterio y los comentarios que justifiquen la elección"]
[null,"Fecha de evaluación de la tecnología patentada"]
[]
[null,"Criterios de evaluación"]
[]
[null,"1. Criterios legales"]
[null,null,"Criterio 1.1 Estado legal (Criterio de exclusión)"]
[null,null,null,"Desfavorable",null,null,"Neutro",null,null,"Favorable",null,"Comentarios"]
[null,null,null,"Patente revocada, expirada o caducada.",null,null,"-",null,null,"Por lo menos una solicitud de patente pendiente o patente concedida."]
[null,null,"Criterio 1.2 Alcance territorial (Criterio de exclusión)"]
[null,null,null,"Desfavorable",null,null,"Neutro",null,null,"Favorable",null,"Comentarios"]
[null,null,null,"La protección de la patente esta limitada a un mercado que no es su mercado principal. ",null,null,"-",null,null,"Protección en un país que es su mercado principal o en más de un país de la zona de mercado, o si la protección todavía está disponible para su elección (periodo de prioridad, PCT, EP)."]
[null,null,"Criterio 1.3 Fuerza de la protección"]
[null,null,null,"Desfavorable",null,null,"Neutro",null,null,"Favorable",null,"Comentarios"]
[null,null,null,"(PATENTES NO PUBLICADAS)\nNo se ha identificado el estado de\nla técnica o se ha identificado que\nel estado de la técnica no supone\nuna amenaza para la novedad y/o la\nactividad inventiva.\n(PATENTES PUBLICADAS)\nEvaluación de la patentabilidad por la\noficina nacional o similar existente, con\n2 o más documentos X.",null,null,"(PATENTES NO PUBLICADAS)\nSe ha identificado el estado de la\ntécnica y los documentos encontrados\nno suponen una amenaza para la\nnovedad. Sin embargo, la actividad\ninventiva es una cuestión de\ninterpretación.\n(PATENTES PUBLICADAS)\nExamen de la novedad por la oficina\nnacional o similar existente, con\ndocumentos X o Y, pero con potencial\nde conceder la patente.",null,null,"PATENTES NO PUBLICADAS)\nSe ha identificado el estado de la\ntécnica que no supone por el momento\nninguna amenaza para la novedad y la\nactividad inventiva.\n(PATENTES PUBLICADAS)\nExamen de la novedad por la oficina\nnacional o similar existente, sin\ndocumentos X o patente concedida."]
[null,null,"Criterio 1.4 Duración de la protección"]
[null,null,null,"Desfavorable",null,null,"Neutro",null,null,"Favorable",null,"Comentarios"]
[null,null,null,"A la patente le quedan menos de 6 años.",null,null,"A la patente le quedan 6-12 años",null,null,"A la patente le quedan más de 12 años"]
[null,null,"Criterio 1.5 Alcance de la protección "]
[null,null,null,"Desfavorable",null,null,"Neutro",null,null,"Favorable",null,"Comentarios"]
[null,null,null,"Las reivindicaciones son muy concretas y específicas.",null,null,"Las reivindicaciones son razonablemente amplias.",null,null,"Las reivindicaciones comprenden un principio general."]
[null,null,"Criterio 1.6 (In)dependencia"]
[null,null,null,"Desfavorable",null,null,"Neutro",null,null,"Favorable",null,"Comentarios"]
[null,null,null,"El uso de la patente depende de cotitulares fuera del ámbito habitual o de cotitulares con menos de 5% cotitularidad dentro del ámbito habitual.",null,null,"El uso de la patente depende de cotitulares, pero dentro del ámbito habitual.",null,null,"La patente no tiene cotitulares. El uso y la explotación de la patente es independiente de acuerdos con cotitulares."]
[]
[null,"2. Criterios tecnológicos "]
[null,null,"Criterio 2.1 Capacidad de detección (Criterio de exclusión y madurez)"]
[null,null,null,"Desfavorable",null,null,"Neutro",null,null,"Favorable",null,"Comentarios"]
[null,null,null,"Es muy difícil identificar los productos\nde imitación. Es prácticamente\nimposible de detectar el uso ilegal de\nun procedimiento, un método o el uso\nde un compuesto.",null,null,"Es difícil pero no imposible identificar\nproductos de imitación. La detección\nde un uso ilegal de un procedimiento,\nun método o el uso de un compuesto\nes posible, aunque difícil.",null,null,"Es fácil identificar los productos\nilegales de imitación. La detección de\nun uso ilegal de un procedimiento, un\nmétodo o el uso de un compuesto es\nfácil."]
[null,null,"Criterio 2.2 Capacidad de imitación"]
[null,null,null,"Desfavorable",null,null,"Neutro",null,null,"Favorable",null,"Comentarios"]
[null,null,null,"La tecnología patentada es fácil de identificar, copiar y producir.",null,null,"Es posible copiar y producir la tecnología patentada por ejemplo mediante ingeniería inversa.",null,null,"La tecnología patentada es muy difícil de copiar y producir."]
[null,null,"Criterio 2.3 Estado de desarrollo (TRL)"]
[null,null,null,"Desfavorable",null,null,"Neutro",null,null,"Favorable",null,"Comentarios"]
[null,null,null,"Entrono laboratorio: la invención ha sido probada, en teoría, de acuerdo con cálculos (TRL 1-2).",null,null,"Se han realizado experimentos, se han desarrollado prototipos (TRL 3-4).",null,null,"Demostración de la invención en un entorno real (TRL ≥5)."]
[null,null,"Criterio 2.4 Proceso de producción"]
[null,null,null,"Desfavorable",null,null,"Neutro",null,null,"Favorable",null,"Comentarios"]
[null,null,null,"La tecnología patentada requiere un proceso de producción completamente nuevo o modifica fundamentalmente el procedimiento actualmente en uso.",null,null,"Se requiere el desarrollo de los procesos de producción actualmente aplicados antes de poder utilizar o producir la tecnología patentada.",null,null,"La tecnología patentada puede utilizarse o producirse con el proceso de producción actualmente aplicado."]
[]
[null,"3. Criterios de mercado"]
[null,null,"Criterio 3.1 Compromiso con la comercialización (Criterio de exclusión y madurez)"]
[null,null,null,"Desfavorable",null,null,"Neutro",null,null,"Favorable",null,"Comentarios"]
[null,null,null,"Recursos no asignados, la tecnología patentada no es clave para el equipo o el grupo.",null,null,"Personas asignadas a la tecnología patentada, pero sin funciones definidas. El proceso de transferencia no es una prioridad. ",null,null,"Proyecto clave dentro de la estrategia de transferencia del grupo o equipo. Hay personas asignadas para participar en el proceso con roles establecidos."]
[null,null,"Criterio 3.2 Mercado potencial / Aplicaciones"]
[null,null,null,"Desfavorable",null,null,"Neutro",null,null,"Favorable",null,"Comentarios"]
[null,null,null,"La tecnología patentada aún no se ha dirigido a un mercado concreto o se dirige a un mercado pequeño. No está confirmado el sector de aplicación.",null,null,"Existe un mercado conocido para la tecnología patentada con un tamaño significativo dentro del -ámbito tecnológico. La aplicación se limita a un sector industrial.",null,null,"Existe un mercado conocido y grande, así como otros mercados significativos. Se han identificado numerosos ámbitos de aplicación."]
[null,null,"Criterio 3.3 Evolución del mercado"]
[null,null,null,"Desfavorable",null,null,"Neutro",null,null,"Favorable",null,"Comentarios"]
[null,null,null,"Bajo (CAGR < 4%).",null,null,"Medio (CAGR 4-8%).",null,null,"Alto (CAGR >8%)."]
[null,null,"Criterio 3.4 Esperanza de vida en el mercado"]
[null,null,null,"Desfavorable",null,null,"Neutro",null,null,"Favorable",null,"Comentarios"]
[null,null,null,"Inferior a 2 años.",null,null,"Entre 2 -5 años.",null,null,"Más de 5 años."]
[null,null,"Criterio 3.5 Entorno competitivo"]
[null,null,null,"Desfavorable",null,null,"Neutro",null,null,"Favorable",null,"Comentarios"]
[null,null,null,"No se identificaron los competidores ni productos sustitutivos.",null,null,"Situación dominante de un grupo restringido de empresas o limitado a un número escaso de empresas.",null,null,"Entorno competitivo detectado y definido. Mercado accesible y abierto."]
[null,null,"Criterio 3.6 Permisos y estándares de mercado"]
[null,null,null,"Desfavorable",null,null,"Neutro",null,null,"Favorable",null,"Comentarios"]
[null,null,null,"Se necesitan permisos o/y se tienen\nque cumplir estándares para vender\nproductos en el mercado, pero aún\nno se han identificado y analizado los\nrequisitos.",null,null,"Permisos y/o estándares necesarios\ndetectados y analizados o aplicación\nde permisos en proceso.",null,null,"No es necesario un permiso ni se\ntienen que cumplir estándares para la\nventa de productos en el mercado."]
[null,null,"Criterio 3.7 Ventajas competitivas"]
[null,null,null,"Desfavorable",null,null,"Neutro",null,null,"Favorable",null,"Comentarios"]
[null,null,null,"No se han detectado las ventajas competitivas.",null,null,"Se han definido las ventajas competitivas. La tecnología patentada ofrece al menos 1-2 ventajas sobre las tecnologías y productos existentes.",null,null,"La tecnología patentada proporciona características realmente innovadoras y distintivas que pueden utilizarse para la comercialización y la venta de posibles productos."]
[null,null,"Criterio 3.8 Plazo de comercialización"]
[null,null,null,"Desfavorable",null,null,"Neutro",null,null,"Favorable",null,"Comentarios"]
[null,null,null,"Superior a 3 años.",null,null,"Entre 2-3 años.",null,null,"Inferior a 2 años."]
[null,null,"Criterio 3.9 Oportunidades comerciales y feedback"]
[null,null,null,"Desfavorable",null,null,"Neutro",null,null,"Favorable",null,"Comentarios"]
[null,null,null,"El equipo investigador no tiene\nconocimiento sobre el entorno\ncomercial de la tecnología patentada.\nNo existe feedback por parte de\nempresas interesadas, o solo feedback\nnegativo.",null,null,"El equipo investigador tiene\noportunidades comerciales detectadas\ny conoce empresas y entidades\ninteresadas. Existe feedback por parte\nde empresas interesadas, pero sin\nintención para una cooperación.",null,null,"El equipo investigador ya ha tenido\ncontacto con empresas y entidades\ninteresadas y tiene varias oportunidades\ncomerciales detectadas. Existe feedback\npor parte de empresas interesadas, con\nintención para una cooperación."]

{"sheet":"InformePatente2","index":7,"n_rows":146,"n_cols":17,"rows_kept":146,"cut":false,"hidden":false,"merged":[[145,5,145,9],[46,2,46,8],[47,2,47,8],[48,2,48,8],[49,2,49,8],[50,2,50,8],[144,5,144,9],[28,0,31,0],[28,2,28,8],[29,2,29,8],[30,2,30,8],[31,2,31,8],[42,0,50,0],[42,2,42,8],[43,2,43,8],[44,2,44,8],[45,2,45,8],[14,0,14,9],[21,0,21,1],[22,0,27,0],[22,2,22,8],[23,2,23,8],[24,2,24,8],[25,2,25,8],[26,2,26,8],[27,2,27,8]]}
[]
[null,null,null,null,null,null,null,null,null,null,null,null,null,null,null,"Promedio"]
[null,null,null,null,null,null,null,null,null,null,null,null,null,null,null,"Criterios legales",{"$f":"IF(COUNT(SUM(J25,J26,J27,J28))>0,SUM(J25,J26,J27,J28)/8,-9999999999)","v":0}]
[null,null,null,null,null,null,null,null,null,null,null,null,null,null,null,"Criterios tecnológicos ",{"$f":"IF(COUNT(SUM(J29,J30,J31,J32))>0,SUM(J29,J30,J31,J32)/8,-9999999999)","v":0}]
[null,null,null,null,null,null,null,null,null,null,null,null,null,null,null,"Criterios de mercado",{"$f":"IF(COUNT(SUM(J43,J45,J44,J46,J47,J48,J49,J50,J51))>0,SUM(J43,J45,J44,J46,J47,J48,J49,J50,J51)/18,-9999999999)","v":0}]
[]
[]
[null,null,null,null,null,null,null,null,null,null,null,"Cubrir solo donde esté indicado"]
[]
[]
["INFORME DE EVALUACIÓN"]
[]
["1. Título"]
[]
[{"$f":"IF(COUNTA(EvaluaciónPatente2!F11)>0,EvaluaciónPatente2!F11,\"\")","v":""}]
[]
[]
["2. Evaluación"]
[]
["      2.1 Evaluación de criterios "]
[]
["Criterios",null,"Observaciones",null,null,null,null,null,null,"E"]
["1. Criterios legales","1.1 Estado legal ",{"$f":"IF(COUNTA(EvaluaciónPatente2!L20)>0,EvaluaciónPatente2!L20,\"\")","v":""},null,null,null,null,null,null,{"$f":"IF(COUNTA(EvaluaciónPatente2!C19)>0,0,IF(COUNTA(EvaluaciónPatente2!F19)>0,1,IF(COUNTA(EvaluaciónPatente2!I19)>0,2,\"\")))","v":""}]
[null,"1.2  Alcance territorial ",{"$f":"IF(COUNTA(EvaluaciónPatente2!L23)>0,EvaluaciónPatente2!L23,\"\")","v":""},null,null,null,null,null,null,{"$f":"IF(COUNTA(EvaluaciónPatente2!C22)>0,0,IF(COUNTA(EvaluaciónPatente2!F22)>0,1,IF(COUNTA(EvaluaciónPatente2!I22)>0,2,\"\")))","v":""}]
[null,"1.3 Fuerza de la protección",{"$f":"IF(COUNTA(EvaluaciónPatente2!L26)>0,EvaluaciónPatente2!L26,\"\")","v":""},null,null,null,null,null,null,{"$f":"IF(COUNTA(EvaluaciónPatente2!C25)>0,0,IF(COUNTA(EvaluaciónPatente2!F25)>0,1,IF(COUNTA(EvaluaciónPatente2!I25)>0,2,\"\")))","v":""}]
[null,"1.4 Duración de la protección",{"$f":"IF(COUNTA(EvaluaciónPatente2!L29)>0,EvaluaciónPatente2!L29,\"\")","v":""},null,null,null,null,null,null,{"$f":"IF(COUNTA(EvaluaciónPatente2!C28)>0,0,IF(COUNTA(EvaluaciónPatente2!F28)>0,1,IF(COUNTA(EvaluaciónPatente2!I28)>0,2,\"\")))","v":""}]
[null,"1.5 Alcance de la protección",{"$f":"IF(COUNTA(EvaluaciónPatente2!L32)>0,EvaluaciónPatente2!L32,\"\")","v":""},null,null,null,null,null,null,{"$f":"IF(COUNTA(EvaluaciónPatente2!C31)>0,0,IF(COUNTA(EvaluaciónPatente2!F31)>0,1,IF(COUNTA(EvaluaciónPatente2!I31)>0,2,\"\")))","v":""}]
[null,"1.6 (In)dependencia",{"$f":"IF(COUNTA(EvaluaciónPatente2!L35)>0,EvaluaciónPatente2!L35,\"\")","v":""},null,null,null,null,null,null,{"$f":"IF(COUNTA(EvaluaciónPatente2!C34)>0,0,IF(COUNTA(EvaluaciónPatente2!F34)>0,1,IF(COUNTA(EvaluaciónPatente2!I34)>0,2,\"\")))","v":""}]
["2. Criterios tecnológicos  ","2.1 Capacidad de detección",{"$f":"IF(COUNTA(EvaluaciónPatente2!L40)>0,EvaluaciónPatente2!L40,\"\")","v":""},null,null,null,null,null,null,{"$f":"IF(COUNTA(EvaluaciónPatente2!C39)>0,0,IF(COUNTA(EvaluaciónPatente2!F39)>0,1,IF(COUNTA(EvaluaciónPatente2!I39)>0,2,\"\")))","v":""}]
[null,"2.2 Capacidad de imitación",{"$f":"IF(COUNTA(EvaluaciónPatente2!L43)>0,EvaluaciónPatente2!L43,\"\")","v":""},null,null,null,null,null,null,{"$f":"IF(COUNTA(EvaluaciónPatente2!C42)>0,0,IF(COUNTA(EvaluaciónPatente2!F42)>0,1,IF(COUNTA(EvaluaciónPatente2!I42)>0,2,\"\")))","v":""}]
[null,"2.3 Estado de desarrollo (TRL)",{"$f":"IF(COUNTA(EvaluaciónPatente2!L46)>0,EvaluaciónPatente2!L46,\"\")","v":""},null,null,null,null,null,null,{"$f":"IF(COUNTA(EvaluaciónPatente2!C45)>0,0,IF(COUNTA(EvaluaciónPatente2!F45)>0,1,IF(COUNTA(EvaluaciónPatente2!I45)>0,2,\"\")))","v":""}]
[null,"2.4 Proceso de producción / competencias ",{"$f":"IF(COUNTA(EvaluaciónPatente2!L49)>0,EvaluaciónPatente2!L49,\"\")","v":""},null,null,null,null,null,null,{"$f":"IF(COUNTA(EvaluaciónPatente2!C48)>0,0,IF(COUNTA(EvaluaciónPatente2!F48)>0,1,IF(COUNTA(EvaluaciónPatente2!I48)>0,2,\"\")))","v":""}]
[]
[null,null,"E = Evaluación",null,null,null,null,null,null,null,null,"Cubrir solo donde esté indicado"]
[]
[]
[]
[]
[]
[]
[]
["Criterios",null,"Observaciones",null,null,null,null,null,null,"E"]
["3. Criterios de mercado","3.1 Compromiso con la comercialización",{"$f":"IF(COUNTA(EvaluaciónPatente2!L54)>0,EvaluaciónPatente2!L54,\"\")","v":""},null,null,null,null,null,null,{"$f":"IF(COUNTA(EvaluaciónPatente2!C53)>0,0,IF(COUNTA(EvaluaciónPatente2!F53)>0,1,IF(COUNTA(EvaluaciónPatente2!I53)>0,2,\"\")))","v":""}]
[null,"3.2 Mercado potencial / Aplicaciones ",{"$f":"IF(COUNTA(EvaluaciónPatente2!L57)>0,EvaluaciónPatente2!L57,\"\")","v":""},null,null,null,null,null,null,{"$f":"IF(COUNTA(EvaluaciónPatente2!C56)>0,0,IF(COUNTA(EvaluaciónPatente2!F56)>0,1,IF(COUNTA(EvaluaciónPatente2!I56)>0,2,\"\")))","v":""}]
[null,"3.3 Evolución del mercado",{"$f":"IF(COUNTA(EvaluaciónPatente2!L60)>0,EvaluaciónPatente2!L60,\"\")","v":""},null,null,null,null,null,null,{"$f":"IF(COUNTA(EvaluaciónPatente2!C59)>0,0,IF(COUNTA(EvaluaciónPatente2!F59)>0,1,IF(COUNTA(EvaluaciónPatente2!I59)>0,2,\"\")))","v":""}]
[null,"3.4 Esperanza de vida en el mercado ",{"$f":"IF(COUNTA(EvaluaciónPatente2!L63)>0,EvaluaciónPatente2!L63,\"\")","v":""},null,null,null,null,null,null,{"$f":"IF(COUNTA(EvaluaciónPatente2!C62)>0,0,IF(COUNTA(EvaluaciónPatente2!F62)>0,1,IF(COUNTA(EvaluaciónPatente2!I62)>0,2,\"\")))","v":""}]
[null,"3.5 Entorno competitiva ",{"$f":"IF(COUNTA(EvaluaciónPatente2!L66)>0,EvaluaciónPatente2!L66,\"\")","v":""},null,null,null,null,null,null,{"$f":"IF(COUNTA(EvaluaciónPatente2!C65)>0,0,IF(COUNTA(EvaluaciónPatente2!F65)>0,1,IF(COUNTA(EvaluaciónPatente2!I65)>0,2,\"\")))","v":""}]
[null,"3.6 Permisos",{"$f":"IF(COUNTA(EvaluaciónPatente2!L69)>0,EvaluaciónPatente2!L69,\"\")","v":""},null,null,null,null,null,null,{"$f":"IF(COUNTA(EvaluaciónPatente2!C68)>0,0,IF(COUNTA(EvaluaciónPatente2!F68)>0,1,IF(COUNTA(EvaluaciónPatente2!I68)>0,2,\"\")))","v":""}]
[null,"3.7  Ventajas competitivas",{"$f":"IF(COUNTA(EvaluaciónPatente2!L72)>0,EvaluaciónPatente2!L72,\"\")","v":""},null,null,null,null,null,null,{"$f":"IF(COUNTA(EvaluaciónPatente2!C71)>0,0,IF(COUNTA(EvaluaciónPatente2!F71)>0,1,IF(COUNTA(EvaluaciónPatente2!I71)>0,2,\"\")))","v":""}]
[null,"3.8 Plazo de comercialización",{"$f":"IF(COUNTA(EvaluaciónPatente2!L75)>0,EvaluaciónPatente2!L75,\"\")","v":""},null,null,null,null,null,null,{"$f":"IF(COUNTA(EvaluaciónPatente2!C74)>0,0,IF(COUNTA(EvaluaciónPatente2!F74)>0,1,IF(COUNTA(EvaluaciónPatente2!I74)>0,2,\"\")))","v":""}]
[null,"3.9 Oportunidades comerciales y feedback",{"$f":"IF(COUNTA(EvaluaciónPatente2!L78)>0,EvaluaciónPatente2!L78,\"\")","v":""},null,null,null,null,null,null,{"$f":"IF(COUNTA(EvaluaciónPatente2!C77)>0,0,IF(COUNTA(EvaluaciónPatente2!F77)>0,1,IF(COUNTA(EvaluaciónPatente2!I77)>0,2,\"\")))","v":""}]
[null,null,null,null,null,null,null,null,null,null,null,"Cubrir solo donde esté indicado"]
[null,null,"E = Evaluación"]
[]
[]
[]
[]
[]
[]
[]
[]
["      2.2 Valoración general"]
[]
[]
[]
[]
[]
[]
[]
[]
[]
[]
[]
[]
[]
[]
[]
[]
[]
[]
[null,null,null,null,null,null,null,null,null,null,null,null,null,null,null,null," "]
[]
[]
[]
[]
["3. Conclusiones y observaciones"]
[]
["      3.1 Situación de la tecnología patentada de cara al proceso de una posible comercialización "]
[]
[null,"Tecnología patentada con alto potencial de transferencia o lista para transferir.",null,null,null,null,null,null,null,null,null,"Marcar una opción"]
[null,"Tecnología patentada pendiente de completar proceso de evaluación."]
[null,"Tecnología patentada con un grado de madurez que no es suficiente para iniciar un proceso de comercialización."]
[null,"Con la información aportada, la tecnología patentada no es de interés para un proceso de comercialización."]
[]
["         Justificación de la evaluación"]
[]
[null,null,null,null,null,null,null,null,null,null,null,"Indicar justificación de la evaluación"]
[{"$f":"IF(EvaluaciónPatente2!C19=\"x\", \"Patente no cumple con los requisitos mínimos. Patente revocada, expirada o caducada.\", \"\")","v":""}]
[{"$f":"IF(EvaluaciónPatente2!C22=\"x\", \"Patente no cumple con los requisitos mínimos. La protección de la patente es limitado a un mercado que no es su mercado principal. \", \"\")","v":""}]
[{"$f":"IF(EvaluaciónPatente2!C39=\"x\", \"Patente no cumple con los requisitos mínimos. Es muy difícil identificar los productos de imitación. \", \"\")","v":""}]
[{"$f":"IF(EvaluaciónPatente2!C53=\"x\", \"Patente no cumple con los requisitos mínimos. Recursos no asignados, la tecnología patentada no es clave para el equipo o el grupo. \", \"\")","v":""}]
[]
[]
[null,null,null,"   "]
["      3.2 Observaciones"]
[]
[null,null,null,null,null,null,null,null,null,null,null,"Indicar observaciones"]
[]
[]
[]
[]
[]
[]
[]
[]
[]
[]
[]
[]
[]
[]
[]
[]
[]
["      3.3 Implantación"]
[]
["Acciones",null,null,"Responsable",1,2,3,4,5,6,null,"Indicar proceso de implantación"]
[]
[]
[]
[]
[]
[]
[]
[]
[]
[]
[]
[]
[]
[]
[]
["4. Datos de la evaluación"]
[]
["Autor",null,null,null,null,"Fecha de realización"]
[{"$f":"IF(COUNTA(EvaluaciónPatente2!F12)>0,EvaluaciónPatente2!F12,\"\")","v":""},null,null,null,null,{"$f":"IF(COUNTA(EvaluaciónPatente2!F13)>0,EvaluaciónPatente2!F13,\"\")","v":""}]

{"sheet":"EvaluaciónPatente3","index":8,"n_rows":78,"n_cols":12,"rows_kept":78,"cut":false,"hidden":false,"merged":[[75,2,75,3],[57,2,57,3],[60,2,60,3],[63,2,63,3],[66,2,66,3],[69,2,69,3],[72,2,72,3],[54,2,54,3],[17,2,17,3],[20,2,20,8],[23,2,23,8],[26,2,26,8],[29,2,29,8],[32,2,32,8],[37,2,37,8],[40,2,40,8],[43,2,43,8],[46,2,46,8],[51,2,51,8],[10,1,10,3],[10,5,10,6],[11,1,11,3],[11,5,11,6],[12,1,12,3],[12,5,12,6]]}
[]
[]
[]
[]
[]
[]
[]
[]
[]
[]
[null,"Denominación de la tecnología patentada",null,null,null,null,null,null,null,"1. Incluir la denominación de la tecnología, el nombre del evaluador y la fecha de la evaluación"]
[null,"Nombre del evaluador",null,null,null,null,null,null,null,"2. Marcar con una «X» el nivel para cada criterio y los comentarios que justifiquen la elección"]
[null,"Fecha de evaluación de la tecnología patentada"]
[]
[null,"Criterios de evaluación"]
[]
[null,"1. Criterios legales"]
[null,null,"Criterio 1.1 Estado legal (Criterio de exclusión)"]
[null,null,null,"Desfavorable",null,null,"Neutro",null,null,"Favorable",null,"Comentarios"]
[null,null,null,"Patente revocada, expirada o caducada.",null,null,"-",null,null,"Por lo menos una solicitud de patente pendiente o patente concedida."]
[null,null,"Criterio 1.2 Alcance territorial (Criterio de exclusión)"]
[null,null,null,"Desfavorable",null,null,"Neutro",null,null,"Favorable",null,"Comentarios"]
[null,null,null,"La protección de la patente esta limitada a un mercado que no es su mercado principal. ",null,null,"-",null,null,"Protección en un país que es su mercado principal o en más de un país de la zona de mercado, o si la protección todavía está disponible para su elección (periodo de prioridad, PCT, EP)."]
[null,null,"Criterio 1.3 Fuerza de la protección"]
[null,null,null,"Desfavorable",null,null,"Neutro",null,null,"Favorable",null,"Comentarios"]
[null,null,null,"(PATENTES NO PUBLICADAS)\nNo se ha identificado el estado de\nla técnica o se ha identificado que\nel estado de la técnica no supone\nuna amenaza para la novedad y/o la\nactividad inventiva.\n(PATENTES PUBLICADAS)\nEvaluación de la patentabilidad por la\noficina nacional o similar existente, con\n2 o más documentos X.",null,null,"(PATENTES NO PUBLICADAS)\nSe ha identificado el estado de la\ntécnica y los documentos encontrados\nno suponen una amenaza para la\nnovedad. Sin embargo, la actividad\ninventiva es una cuestión de\ninterpretación.\n(PATENTES PUBLICADAS)\nExamen de la novedad por la oficina\nnacional o similar existente, con\ndocumentos X o Y, pero con potencial\nde conceder la patente.",null,null,"PATENTES NO PUBLICADAS)\nSe ha identificado el estado de la\ntécnica que no supone por el momento\nninguna amenaza para la novedad y la\nactividad inventiva.\n(PATENTES PUBLICADAS)\nExamen de la novedad por la oficina\nnacional o similar existente, sin\ndocumentos X o patente concedida."]
[null,null,"Criterio 1.4 Duración de la protección"]
[null,null,null,"Desfavorable",null,null,"Neutro",null,null,"Favorable",null,"Comentarios"]
[null,null,null,"A la patente le quedan menos de 6 años.",null,null,"A la patente le quedan 6-12 años",null,null,"A la patente le quedan más de 12 años"]
[null,null,"Criterio 1.5 Alcance de la protección "]
[null,null,null,"Desfavorable",null,null,"Neutro",null,null,"Favorable",null,"Comentarios"]
[null,null,null,"Las reivindicaciones son muy concretas y específicas.",null,null,"Las reivindicaciones son razonablemente amplias.",null,null,"Las reivindicaciones comprenden un principio general."]
[null,null,"Criterio 1.6 (In)dependencia"]
[null,null,null,"Desfavorable",null,null,"Neutro",null,null,"Favorable",null,"Comentarios"]
[null,null,null,"El uso de la patente depende de cotitulares fuera del ámbito habitual o de cotitulares con menos de 5% cotitularidad dentro del ámbito habitual.",null,null,"El uso de la patente depende de cotitulares, pero dentro del ámbito habitual.",null,null,"La patente no tiene cotitulares. El uso y la explotación de la patente es independiente de acuerdos con cotitulares."]
[]
[null,"2. Criterios tecnológicos "]
[null,null,"Criterio 2.1 Capacidad de detección (Criterio de exclusión y madurez)"]
[null,null,null,"Desfavorable",null,null,"Neutro",null,null,"Favorable",null,"Comentarios"]
[null,null,null,"Es muy difícil identificar los productos\nde imitación. Es prácticamente\nimposible de detectar el uso ilegal de\nun procedimiento, un método o el uso\nde un compuesto.",null,null,"Es difícil pero no imposible identificar\nproductos de imitación. La detección\nde un uso ilegal de un procedimiento,\nun método o el uso de un compuesto\nes posible, aunque difícil.",null,null,"Es fácil identificar los productos\nilegales de imitación. La detección de\nun uso ilegal de un procedimiento, un\nmétodo o el uso de un compuesto es\nfácil."]
[null,null,"Criterio 2.2 Capacidad de imitación"]
[null,null,null,"Desfavorable",null,null,"Neutro",null,null,"Favorable",null,"Comentarios"]
[null,null,null,"La tecnología patentada es fácil de identificar, copiar y producir.",null,null,"Es posible copiar y producir la tecnología patentada por ejemplo mediante ingeniería inversa.",null,null,"La tecnología patentada es muy difícil de copiar y producir."]
[null,null,"Criterio 2.3 Estado de desarrollo (TRL)"]
[null,null,null,"Desfavorable",null,null,"Neutro",null,null,"Favorable",null,"Comentarios"]
[null,null,null,"Entrono laboratorio: la invención ha sido probada, en teoría, de acuerdo con cálculos (TRL 1-2).",null,null,"Se han realizado experimentos, se han desarrollado prototipos (TRL 3-4).",null,null,"Demostración de la invención en un entorno real (TRL ≥5)."]
[null,null,"Criterio 2.4 Proceso de producción"]
[null,null,null,"Desfavorable",null,null,"Neutro",null,null,"Favorable",null,"Comentarios"]
[null,null,null,"La tecnología patentada requiere un proceso de producción completamente nuevo o modifica fundamentalmente el procedimiento actualmente en uso.",null,null,"Se requiere el desarrollo de los procesos de producción actualmente aplicados antes de poder utilizar o producir la tecnología patentada.",null,null,"La tecnología patentada puede utilizarse o producirse con el proceso de producción actualmente aplicado."]
[]
[null,"3. Criterios de mercado"]
[null,null,"Criterio 3.1 Compromiso con la comercialización (Criterio de exclusión y madurez)"]
[null,null,null,"Desfavorable",null,null,"Neutro",null,null,"Favorable",null,"Comentarios"]
[null,null,null,"Recursos no asignados, la tecnología patentada no es clave para el equipo o el grupo.",null,null,"Personas asignadas a la tecnología patentada, pero sin funciones definidas. El proceso de transferencia no es una prioridad. ",null,null,"Proyecto clave dentro de la estrategia de transferencia del grupo o equipo. Hay personas asignadas para participar en el proceso con roles establecidos."]
[null,null,"Criterio 3.2 Mercado potencial / Aplicaciones"]
[null,null,null,"Desfavorable",null,null,"Neutro",null,null,"Favorable",null,"Comentarios"]
[null,null,null,"La tecnología patentada aún no se ha dirigido a un mercado concreto o se dirige a un mercado pequeño. No está confirmado el sector de aplicación.",null,null,"Existe un mercado conocido para la tecnología patentada con un tamaño significativo dentro del -ámbito tecnológico. La aplicación se limita a un sector industrial.",null,null,"Existe un mercado conocido y grande, así como otros mercados significativos. Se han identificado numerosos ámbitos de aplicación."]
[null,null,"Criterio 3.3 Evolución del mercado"]
[null,null,null,"Desfavorable",null,null,"Neutro",null,null,"Favorable",null,"Comentarios"]
[null,null,null,"Bajo (CAGR < 4%).",null,null,"Medio (CAGR 4-8%).",null,null,"Alto (CAGR >8%)."]
[null,null,"Criterio 3.4 Esperanza de vida en el mercado"]
[null,null,null,"Desfavorable",null,null,"Neutro",null,null,"Favorable",null,"Comentarios"]
[null,null,null,"Inferior a 2 años.",null,null,"Entre 2 -5 años.",null,null,"Más de 5 años."]
[null,null,"Criterio 3.5 Entorno competitivo"]
[null,null,null,"Desfavorable",null,null,"Neutro",null,null,"Favorable",null,"Comentarios"]
[null,null,null,"No se identificaron los competidores ni productos sustitutivos.",null,null,"Situación dominante de un grupo restringido de empresas o limitado a un número escaso de empresas.",null,null,"Entorno competitivo detectado y definido. Mercado accesible y abierto."]
[null,null,"Criterio 3.6 Permisos y estándares de mercado"]
[null,null,null,"Desfavorable",null,null,"Neutro",null,null,"Favorable",null,"Comentarios"]
[null,null,null,"Se necesitan permisos o/y se tienen\nque cumplir estándares para vender\nproductos en el mercado, pero aún\nno se han identificado y analizado los\nrequisitos.",null,null,"Permisos y/o estándares necesarios\ndetectados y analizados o aplicación\nde permisos en proceso.",null,null,"No es necesario un permiso ni se\ntienen que cumplir estándares para la\nventa de productos en el mercado."]
[null,null,"Criterio 3.7 Ventajas competitivas"]
[null,null,null,"Desfavorable",null,null,"Neutro",null,null,"Favorable",null,"Comentarios"]
[null,null,null,"No se han detectado las ventajas competitivas.",null,null,"Se han definido las ventajas competitivas. La tecnología patentada ofrece al menos 1-2 ventajas sobre las tecnologías y productos existentes.",null,null,"La tecnología patentada proporciona características realmente innovadoras y distintivas que pueden utilizarse para la comercialización y la venta de posibles productos."]
[null,null,"Criterio 3.8 Plazo de comercialización"]
[null,null,null,"Desfavorable",null,null,"Neutro",null,null,"Favorable",null,"Comentarios"]
[null,null,null,"Superior a 3 años.",null,null,"Entre 2-3 años.",null,null,"Inferior a 2 años."]
[null,null,"Criterio 3.9 Oportunidades comerciales y feedback"]
[null,null,null,"Desfavorable",null,null,"Neutro",null,null,"Favorable",null,"Comentarios"]
[null,null,null,"El equipo investigador no tiene\nconocimiento sobre el entorno\ncomercial de la tecnología patentada.\nNo existe feedback por parte de\nempresas interesadas, o solo feedback\nnegativo.",null,null,"El equipo investigador tiene\noportunidades comerciales detectadas\ny conoce empresas y entidades\ninteresadas. Existe feedback por parte\nde empresas interesadas, pero sin\nintención para una cooperación.",null,null,"El equipo investigador ya ha tenido\ncontacto con empresas y entidades\ninteresadas y tiene varias oportunidades\ncomerciales detectadas. Existe feedback\npor parte de empresas interesadas, con\nintención para una cooperación."]

{"sheet":"InformePatente3","index":9,"n_rows":146,"n_cols":17,"rows_kept":146,"cut":false,"hidden":false,"merged":[[145,5,145,9],[46,2,46,8],[47,2,47,8],[48,2,48,8],[49,2,49,8],[50,2,50,8],[144,5,144,9],[28,0,31,0],[28,2,28,8],[29,2,29,8],[30,2,30,8],[31,2,31,8],[42,0,50,0],[42,2,42,8],[43,2,43,8],[44,2,44,8],[45,2,45,8],[14,0,14,9],[21,0,21,1],[22,0,27,0],[22,2,22,8],[23,2,23,8],[24,2,24,8],[25,2,25,8],[26,2,26,8],[27,2,27,8]]}
[]
[null,null,null,null,null,null,null,null,null,null,null,null,null,null,null,"Promedio"]
[null,null,null,null,null,null,null,null,null,null,null,null,null,null,null,"Criterios legales",{"$f":"IF(COUNT(SUM(J25,J26,J27,J28))>0,SUM(J25,J26,J27,J28)/8,-9999999999)","v":0}]
[null,null,null,null,null,null,null,null,null,null,null,null,null,null,null,"Criterios tecnológicos ",{"$f":"IF(COUNT(SUM(J29,J30,J31,J32))>0,SUM(J29,J30,J31,J32)/8,-9999999999)","v":0}]
[null,null,null,null,null,null,null,null,null,null,null,null,null,null,null,"Criterios de mercado",{"$f":"IF(COUNT(SUM(J43,J45,J44,J46,J47,J48,J49,J50,J51))>0,SUM(J43,J45,J44,J46,J47,J48,J49,J50,J51)/18,-9999999999)","v":0}]
[]
[]
[null,null,null,null,null,null,null,null,null,null,null,"Cubrir solo donde esté indicado"]
[]
[]
["INFORME DE EVALUACIÓN"]
[]
["1. Título"]
[]
[{"$f":"IF(COUNTA(EvaluaciónPatente3!F11)>0,EvaluaciónPatente3!F11,\"\")","v":""}]
[]
[]
["2. Evaluación"]
[]
["      2.1 Evaluación de criterios "]
[]
["Criterios",null,"Observaciones",null,null,null,null,null,null,"E"]
["1. Criterios legales","1.1 Estado legal ",{"$f":"IF(COUNTA(EvaluaciónPatente3!L20)>0,EvaluaciónPatente3!L20,\"\")","v":""},null,null,null,null,null,null,{"$f":"IF(COUNTA(EvaluaciónPatente3!C19)>0,0,IF(COUNTA(EvaluaciónPatente3!F19)>0,1,IF(COUNTA(EvaluaciónPatente3!I19)>0,2,\"\")))","v":""}]
[null,"1.2  Alcance territorial ",{"$f":"IF(COUNTA(EvaluaciónPatente3!L23)>0,EvaluaciónPatente3!L23,\"\")","v":""},null,null,null,null,null,null,{"$f":"IF(COUNTA(EvaluaciónPatente3!C22)>0,0,IF(COUNTA(EvaluaciónPatente3!F22)>0,1,IF(COUNTA(EvaluaciónPatente3!I22)>0,2,\"\")))","v":""}]
[null,"1.3 Fuerza de la protección",{"$f":"IF(COUNTA(EvaluaciónPatente3!L26)>0,EvaluaciónPatente3!L26,\"\")","v":""},null,null,null,null,null,null,{"$f":"IF(COUNTA(EvaluaciónPatente3!C25)>0,0,IF(COUNTA(EvaluaciónPatente3!F25)>0,1,IF(COUNTA(EvaluaciónPatente3!I25)>0,2,\"\")))","v":""}]
[null,"1.4 Duración de la protección",{"$f":"IF(COUNTA(EvaluaciónPatente3!L29)>0,EvaluaciónPatente3!L29,\"\")","v":""},null,null,null,null,null,null,{"$f":"IF(COUNTA(EvaluaciónPatente3!C28)>0,0,IF(COUNTA(EvaluaciónPatente3!F28)>0,1,IF(COUNTA(EvaluaciónPatente3!I28)>0,2,\"\")))","v":""}]
[null,"1.5 Alcance de la protección",{"$f":"IF(COUNTA(EvaluaciónPatente3!L32)>0,EvaluaciónPatente3!L32,\"\")","v":""},null,null,null,null,null,null,{"$f":"IF(COUNTA(EvaluaciónPatente3!C31)>0,0,IF(COUNTA(EvaluaciónPatente3!F31)>0,1,IF(COUNTA(EvaluaciónPatente3!I31)>0,2,\"\")))","v":""}]
[null,"1.6 (In)dependencia",{"$f":"IF(COUNTA(EvaluaciónPatente3!L35)>0,EvaluaciónPatente3!L35,\"\")","v":""},null,null,null,null,null,null,{"$f":"IF(COUNTA(EvaluaciónPatente3!C34)>0,0,IF(COUNTA(EvaluaciónPatente3!F34)>0,1,IF(COUNTA(EvaluaciónPatente3!I34)>0,2,\"\")))","v":""}]
["2. Criterios tecnológicos  ","2.1 Capacidad de detección",{"$f":"IF(COUNTA(EvaluaciónPatente3!L40)>0,EvaluaciónPatente3!L40,\"\")","v":""},null,null,null,null,null,null,{"$f":"IF(COUNTA(EvaluaciónPatente3!C39)>0,0,IF(COUNTA(EvaluaciónPatente3!F39)>0,1,IF(COUNTA(EvaluaciónPatente3!I39)>0,2,\"\")))","v":""}]
[null,"2.2 Capacidad de imitación",{"$f":"IF(COUNTA(EvaluaciónPatente3!L43)>0,EvaluaciónPatente3!L43,\"\")","v":""},null,null,null,null,null,null,{"$f":"IF(COUNTA(EvaluaciónPatente3!C42)>0,0,IF(COUNTA(EvaluaciónPatente3!F42)>0,1,IF(COUNTA(EvaluaciónPatente3!I42)>0,2,\"\")))","v":""}]
[null,"2.3 Estado de desarrollo (TRL)",{"$f":"IF(COUNTA(EvaluaciónPatente3!L46)>0,EvaluaciónPatente3!L46,\"\")","v":""},null,null,null,null,null,null,{"$f":"IF(COUNTA(EvaluaciónPatente3!C45)>0,0,IF(COUNTA(EvaluaciónPatente3!F45)>0,1,IF(COUNTA(EvaluaciónPatente3!I45)>0,2,\"\")))","v":""}]
[null,"2.4 Proceso de producción / competencias ",{"$f":"IF(COUNTA(EvaluaciónPatente3!L49)>0,EvaluaciónPatente3!L49,\"\")","v":""},null,null,null,null,null,null,{"$f":"IF(COUNTA(EvaluaciónPatente3!C48)>0,0,IF(COUNTA(EvaluaciónPatente3!F48)>0,1,IF(COUNTA(EvaluaciónPatente3!I48)>0,2,\"\")))","v":""}]
[]
[null,null,"E = Evaluación",null,null,null,null,null,null,null,null,"Cubrir solo donde esté indicado"]
[]
[]
[]
[]
[]
[]
[]
["Criterios",null,"Observaciones",null,null,null,null,null,null,"E"]
["3. Criterios de mercado","3.1 Compromiso con la comercialización",{"$f":"IF(COUNTA(EvaluaciónPatente3!L54)>0,EvaluaciónPatente3!L54,\"\")","v":""},null,null,null,null,null,null,{"$f":"IF(COUNTA(EvaluaciónPatente3!C53)>0,0,IF(COUNTA(EvaluaciónPatente3!F53)>0,1,IF(COUNTA(EvaluaciónPatente3!I53)>0,2,\"\")))","v":""}]
[null,"3.2 Mercado potencial / Aplicaciones ",{"$f":"IF(COUNTA(EvaluaciónPatente3!L57)>0,EvaluaciónPatente3!L57,\"\")","v":""},null,null,null,null,null,null,{"$f":"IF(COUNTA(EvaluaciónPatente3!C56)>0,0,IF(COUNTA(EvaluaciónPatente3!F56)>0,1,IF(COUNTA(EvaluaciónPatente3!I56)>0,2,\"\")))","v":""}]
[null,"3.3 Evolución del mercado",{"$f":"IF(COUNTA(EvaluaciónPatente3!L60)>0,EvaluaciónPatente3!L60,\"\")","v":""},null,null,null,null,null,null,{"$f":"IF(COUNTA(EvaluaciónPatente3!C59)>0,0,IF(COUNTA(EvaluaciónPatente3!F59)>0,1,IF(COUNTA(EvaluaciónPatente3!I59)>0,2,\"\")))","v":""}]
[null,"3.4 Esperanza de vida en el mercado ",{"$f":"IF(COUNTA(EvaluaciónPatente3!L63)>0,EvaluaciónPatente3!L63,\"\")","v":""},null,null,null,null,null,null,{"$f":"IF(COUNTA(EvaluaciónPatente3!C62)>0,0,IF(COUNTA(EvaluaciónPatente3!F62)>0,1,IF(COUNTA(EvaluaciónPatente3!I62)>0,2,\"\")))","v":""}]
[null,"3.5 Entorno competitiva ",{"$f":"IF(COUNTA(EvaluaciónPatente3!L66)>0,EvaluaciónPatente3!L66,\"\")","v":""},null,null,null,null,null,null,{"$f":"IF(COUNTA(EvaluaciónPatente3!C65)>0,0,IF(COUNTA(EvaluaciónPatente3!F65)>0,1,IF(COUNTA(EvaluaciónPatente3!I65)>0,2,\"\")))","v":""}]
[null,"3.6 Permisos",{"$f":"IF(COUNTA(EvaluaciónPatente3!L69)>0,EvaluaciónPatente3!L69,\"\")","v":""},null,null,null,null,null,null,{"$f":"IF(COUNTA(EvaluaciónPatente3!C68)>0,0,IF(COUNTA(EvaluaciónPatente3!F68)>0,1,IF(COUNTA(EvaluaciónPatente3!I68)>0,2,\"\")))","v":""}]
[null,"3.7  Ventajas competitivas",{"$f":"IF(COUNTA(EvaluaciónPatente3!L72)>0,EvaluaciónPatente3!L72,\"\")","v":""},null,null,null,null,null,null,{"$f":"IF(COUNTA(EvaluaciónPatente3!C71)>0,0,IF(COUNTA(EvaluaciónPatente3!F71)>0,1,IF(COUNTA(EvaluaciónPatente3!I71)>0,2,\"\")))","v":""}]
[null,"3.8 Plazo de comercialización",{"$f":"IF(COUNTA(EvaluaciónPatente3!L75)>0,EvaluaciónPatente3!L75,\"\")","v":""},null,null,null,null,null,null,{"$f":"IF(COUNTA(EvaluaciónPatente3!C74)>0,0,IF(COUNTA(EvaluaciónPatente3!F74)>0,1,IF(COUNTA(EvaluaciónPatente3!I74)>0,2,\"\")))","v":""}]
[null,"3.9 Oportunidades comerciales y feedback",{"$f":"IF(COUNTA(EvaluaciónPatente3!L78)>0,EvaluaciónPatente3!L78,\"\")","v":""},null,null,null,null,null,null,{"$f":"IF(COUNTA(EvaluaciónPatente3!C77)>0,0,IF(COUNTA(EvaluaciónPatente3!F77)>0,1,IF(COUNTA(EvaluaciónPatente3!I77)>0,2,\"\")))","v":""}]
[null,null,null,null,null,null,null,null,null,null,null,"Cubrir solo donde esté indicado"]
[null,null,"E = Evaluación"]
[]
[]
[]
[]
[]
[]
[]
[]
["      2.2 Valoración general"]
[]
[]
[]
[]
[]
[]
[]
[]
[]
[]
[]
[]
[]
[]
[]
[]
[]
[]
[null,null,null,null,null,null,null,null,null,null,null,null,null,null,null,null," "]
[]
[]
[]
[]
["3. Conclusiones y observaciones"]
[]
["      3.1 Situación de la tecnología patentada de cara al proceso de una posible comercialización "]
[]
[null,"Tecnología patentada con alto potencial de transferencia o lista para transferir.",null,null,null,null,null,null,null,null,null,"Marcar una opción"]
[null,"Tecnología patentada pendiente de completar proceso de evaluación."]
[null,"Tecnología patentada con un grado de madurez que no es suficiente para iniciar un proceso de comercialización."]
[null,"Con la información aportada, la tecnología patentada no es de interés para un proceso de comercialización."]
[]
["         Justificación de la evaluación"]
[]
[null,null,null,null,null,null,null,null,null,null,null,"Indicar justificación de la evaluación"]
[{"$f":"IF(EvaluaciónPatente3!C19=\"x\", \"Patente no cumple con los requisitos mínimos. Patente revocada, expirada o caducada.\", \"\")","v":""}]
[{"$f":"IF(EvaluaciónPatente3!C22=\"x\", \"Patente no cumple con los requisitos mínimos. La protección de la patente es limitado a un mercado que no es su mercado principal. \", \"\")","v":""}]
[{"$f":"IF(EvaluaciónPatente3!C39=\"x\", \"Patente no cumple con los requisitos mínimos. Es muy difícil identificar los productos de imitación. \", \"\")","v":""}]
[{"$f":"IF(EvaluaciónPatente3!C53=\"x\", \"Patente no cumple con los requisitos mínimos. Recursos no asignados, la tecnología patentada no es clave para el equipo o el grupo. \", \"\")","v":""}]
[]
[]
[null,null,null,"   "]
["      3.2 Observaciones"]
[]
[null,null,null,null,null,null,null,null,null,null,null,"Indicar observaciones"]
[]
[]
[]
[]
[]
[]
[]
[]
[]
[]
[]
[]
[]
[]
[]
[]
[]
["      3.3 Implantación"]
[]
["Acciones",null,null,"Responsable",1,2,3,4,5,6,null,"Indicar proceso de implantación"]
[]
[]
[]
[]
[]
[]
[]
[]
[]
[]
[]
[]
[]
[]
[]
["4. Datos de la evaluación"]
[]
["Autor",null,null,null,null,"Fecha de realización"]
[{"$f":"IF(COUNTA(EvaluaciónPatente3!F12)>0,EvaluaciónPatente3!F12,\"\")","v":""},null,null,null,null,{"$f":"IF(COUNTA(EvaluaciónPatente3!F13)>0,EvaluaciónPatente3!F13,\"\")","v":""}]

{"sheet":"EvaluaciónPatente4","index":10,"n_rows":78,"n_cols":12,"rows_kept":78,"cut":false,"hidden":false,"merged":[[75,2,75,3],[57,2,57,3],[60,2,60,3],[63,2,63,3],[66,2,66,3],[69,2,69,3],[72,2,72,3],[54,2,54,3],[17,2,17,3],[20,2,20,8],[23,2,23,8],[26,2,26,8],[29,2,29,8],[32,2,32,8],[37,2,37,8],[40,2,40,8],[43,2,43,8],[46,2,46,8],[51,2,51,8],[10,1,10,3],[10,5,10,6],[11,1,11,3],[11,5,11,6],[12,1,12,3],[12,5,12,6]]}
[]
[]
[]
[]
[]
[]
[]
[]
[]
[]
[null,"Denominación de la tecnología patentada",null,null,null,null,null,null,null,"1. Incluir la denominación de la tecnología, el nombre del evaluador y la fecha de la evaluación"]
[null,"Nombre del evaluador",null,null,null,null,null,null,null,"2. Marcar con una «X» el nivel para cada criterio y los comentarios que justifiquen la elección"]
[null,"Fecha de evaluación de la tecnología patentada"]
[]
[null,"Criterios de evaluación"]
[]
[null,"1. Criterios legales"]
[null,null,"Criterio 1.1 Estado legal (Criterio de exclusión)"]
[null,null,null,"Desfavorable",null,null,"Neutro",null,null,"Favorable",null,"Comentarios"]
[null,null,null,"Patente revocada, expirada o caducada.",null,null,"-",null,null,"Por lo menos una solicitud de patente pendiente o patente concedida."]
[null,null,"Criterio 1.2 Alcance territorial (Criterio de exclusión)"]
[null,null,null,"Desfavorable",null,null,"Neutro",null,null,"Favorable",null,"Comentarios"]
[null,null,null,"La protección de la patente esta limitada a un mercado que no es su mercado principal. ",null,null,"-",null,null,"Protección en un país que es su mercado principal o en más de un país de la zona de mercado, o si la protección todavía está disponible para su elección (periodo de prioridad, PCT, EP)."]
[null,null,"Criterio 1.3 Fuerza de la protección"]
[null,null,null,"Desfavorable",null,null,"Neutro",null,null,"Favorable",null,"Comentarios"]
[null,null,null,"(PATENTES NO PUBLICADAS)\nNo se ha identificado el estado de\nla técnica o se ha identificado que\nel estado de la técnica no supone\nuna amenaza para la novedad y/o la\nactividad inventiva.\n(PATENTES PUBLICADAS)\nEvaluación de la patentabilidad por la\noficina nacional o similar existente, con\n2 o más documentos X.",null,null,"(PATENTES NO PUBLICADAS)\nSe ha identificado el estado de la\ntécnica y los documentos encontrados\nno suponen una amenaza para la\nnovedad. Sin embargo, la actividad\ninventiva es una cuestión de\ninterpretación.\n(PATENTES PUBLICADAS)\nExamen de la novedad por la oficina\nnacional o similar existente, con\ndocumentos X o Y, pero con potencial\nde conceder la patente.",null,null,"PATENTES NO PUBLICADAS)\nSe ha identificado el estado de la\ntécnica que no supone por el momento\nninguna amenaza para la novedad y la\nactividad inventiva.\n(PATENTES PUBLICADAS)\nExamen de la novedad por la oficina\nnacional o similar existente, sin\ndocumentos X o patente concedida."]
[null,null,"Criterio 1.4 Duración de la protección"]
[null,null,null,"Desfavorable",null,null,"Neutro",null,null,"Favorable",null,"Comentarios"]
[null,null,null,"A la patente le quedan menos de 6 años.",null,null,"A la patente le quedan 6-12 años",null,null,"A la patente le quedan más de 12 años"]
[null,null,"Criterio 1.5 Alcance de la protección "]
[null,null,null,"Desfavorable",null,null,"Neutro",null,null,"Favorable",null,"Comentarios"]
[null,null,null,"Las reivindicaciones son muy concretas y específicas.",null,null,"Las reivindicaciones son razonablemente amplias.",null,null,"Las reivindicaciones comprenden un principio general."]
[null,null,"Criterio 1.6 (In)dependencia"]
[null,null,null,"Desfavorable",null,null,"Neutro",null,null,"Favorable",null,"Comentarios"]
[null,null,null,"El uso de la patente depende de cotitulares fuera del ámbito habitual o de cotitulares con menos de 5% cotitularidad dentro del ámbito habitual.",null,null,"El uso de la patente depende de cotitulares, pero dentro del ámbito habitual.",null,null,"La patente no tiene cotitulares. El uso y la explotación de la patente es independiente de acuerdos con cotitulares."]
[]
[null,"2. Criterios tecnológicos "]
[null,null,"Criterio 2.1 Capacidad de detección (Criterio de exclusión y madurez)"]
[null,null,null,"Desfavorable",null,null,"Neutro",null,null,"Favorable",null,"Comentarios"]
[null,null,null,"Es muy difícil identificar los productos\nde imitación. Es prácticamente\nimposible de detectar el uso ilegal de\nun procedimiento, un método o el uso\nde un compuesto.",null,null,"Es difícil pero no imposible identificar\nproductos de imitación. La detección\nde un uso ilegal de un procedimiento,\nun método o el uso de un compuesto\nes posible, aunque difícil.",null,null,"Es fácil identificar los productos\nilegales de imitación. La detección de\nun uso ilegal de un procedimiento, un\nmétodo o el uso de un compuesto es\nfácil."]
[null,null,"Criterio 2.2 Capacidad de imitación"]
[null,null,null,"Desfavorable",null,null,"Neutro",null,null,"Favorable",null,"Comentarios"]
[null,null,null,"La tecnología patentada es fácil de identificar, copiar y producir.",null,null,"Es posible copiar y producir la tecnología patentada por ejemplo mediante ingeniería inversa.",null,null,"La tecnología patentada es muy difícil de copiar y producir."]
[null,null,"Criterio 2.3 Estado de desarrollo (TRL)"]
[null,null,null,"Desfavorable",null,null,"Neutro",null,null,"Favorable",null,"Comentarios"]
[null,null,null,"Entrono laboratorio: la invención ha sido probada, en teoría, de acuerdo con cálculos (TRL 1-2).",null,null,"Se han realizado experimentos, se han desarrollado prototipos (TRL 3-4).",null,null,"Demostración de la invención en un entorno real (TRL ≥5)."]
[null,null,"Criterio 2.4 Proceso de producción"]
[null,null,null,"Desfavorable",null,null,"Neutro",null,null,"Favorable",null,"Comentarios"]
[null,null,null,"La tecnología patentada requiere un proceso de producción completamente nuevo o modifica fundamentalmente el procedimiento actualmente en uso.",null,null,"Se requiere el desarrollo de los procesos de producción actualmente aplicados antes de poder utilizar o producir la tecnología patentada.",null,null,"La tecnología patentada puede utilizarse o producirse con el proceso de producción actualmente aplicado."]
[]
[null,"3. Criterios de mercado"]
[null,null,"Criterio 3.1 Compromiso con la comercialización (Criterio de exclusión y madurez)"]
[null,null,null,"Desfavorable",null,null,"Neutro",null,null,"Favorable",null,"Comentarios"]
[null,null,null,"Recursos no asignados, la tecnología patentada no es clave para el equipo o el grupo.",null,null,"Personas asignadas a la tecnología patentada, pero sin funciones definidas. El proceso de transferencia no es una prioridad. ",null,null,"Proyecto clave dentro de la estrategia de transferencia del grupo o equipo. Hay personas asignadas para participar en el proceso con roles establecidos."]
[null,null,"Criterio 3.2 Mercado potencial / Aplicaciones"]
[null,null,null,"Desfavorable",null,null,"Neutro",null,null,"Favorable",null,"Comentarios"]
[null,null,null,"La tecnología patentada aún no se ha dirigido a un mercado concreto o se dirige a un mercado pequeño. No está confirmado el sector de aplicación.",null,null,"Existe un mercado conocido para la tecnología patentada con un tamaño significativo dentro del -ámbito tecnológico. La aplicación se limita a un sector industrial.",null,null,"Existe un mercado conocido y grande, así como otros mercados significativos. Se han identificado numerosos ámbitos de aplicación."]
[null,null,"Criterio 3.3 Evolución del mercado"]
[null,null,null,"Desfavorable",null,null,"Neutro",null,null,"Favorable",null,"Comentarios"]
[null,null,null,"Bajo (CAGR < 4%).",null,null,"Medio (CAGR 4-8%).",null,null,"Alto (CAGR >8%)."]
[null,null,"Criterio 3.4 Esperanza de vida en el mercado"]
[null,null,null,"Desfavorable",null,null,"Neutro",null,null,"Favorable",null,"Comentarios"]
[null,null,null,"Inferior a 2 años.",null,null,"Entre 2 -5 años.",null,null,"Más de 5 años."]
[null,null,"Criterio 3.5 Entorno competitivo"]
[null,null,null,"Desfavorable",null,null,"Neutro",null,null,"Favorable",null,"Comentarios"]
[null,null,null,"No se identificaron los competidores ni productos sustitutivos.",null,null,"Situación dominante de un grupo restringido de empresas o limitado a un número escaso de empresas.",null,null,"Entorno competitivo detectado y definido. Mercado accesible y abierto."]
[null,null,"Criterio 3.6 Permisos y estándares de mercado"]
[null,null,null,"Desfavorable",null,null,"Neutro",null,null,"Favorable",null,"Comentarios"]
[null,null,null,"Se necesitan permisos o/y se tienen\nque cumplir estándares para vender\nproductos en el mercado, pero aún\nno se han identificado y analizado los\nrequisitos.",null,null,"Permisos y/o estándares necesarios\ndetectados y analizados o aplicación\nde permisos en proceso.",null,null,"No es necesario un permiso ni se\ntienen que cumplir estándares para la\nventa de productos en el mercado."]
[null,null,"Criterio 3.7 Ventajas competitivas"]
[null,null,null,"Desfavorable",null,null,"Neutro",null,null,"Favorable",null,"Comentarios"]
[null,null,null,"No se han detectado las ventajas competitivas.",null,null,"Se han definido las ventajas competitivas. La tecnología patentada ofrece al menos 1-2 ventajas sobre las tecnologías y productos existentes.",null,null,"La tecnología patentada proporciona características realmente innovadoras y distintivas que pueden utilizarse para la comercialización y la venta de posibles productos."]
[null,null,"Criterio 3.8 Plazo de comercialización"]
[null,null,null,"Desfavorable",null,null,"Neutro",null,null,"Favorable",null,"Comentarios"]
[null,null,null,"Superior a 3 años.",null,null,"Entre 2-3 años.",null,null,"Inferior a 2 años."]
[null,null,"Criterio 3.9 Oportunidades comerciales y feedback"]
[null,null,null,"Desfavorable",null,null,"Neutro",null,null,"Favorable",null,"Comentarios"]
[null,null,null,"El equipo investigador no tiene\nconocimiento sobre el entorno\ncomercial de la tecnología patentada.\nNo existe feedback por parte de\nempresas interesadas, o solo feedback\nnegativo.",null,null,"El equipo investigador tiene\noportunidades comerciales detectadas\ny conoce empresas y entidades\ninteresadas. Existe feedback por parte\nde empresas interesadas, pero sin\nintención para una cooperación.",null,null,"El equipo investigador ya ha tenido\ncontacto con empresas y entidades\ninteresadas y tiene varias oportunidades\ncomerciales detectadas. Existe feedback\npor parte de empresas interesadas, con\nintención para una cooperación."]

{"sheet":"InformePatente4","index":11,"n_rows":146,"n_cols":17,"rows_kept":146,"cut":false,"hidden":false,"merged":[[145,5,145,9],[46,2,46,8],[47,2,47,8],[48,2,48,8],[49,2,49,8],[50,2,50,8],[144,5,144,9],[28,0,31,0],[28,2,28,8],[29,2,29,8],[30,2,30,8],[31,2,31,8],[42,0,50,0],[42,2,42,8],[43,2,43,8],[44,2,44,8],[45,2,45,8],[14,0,14,9],[21,0,21,1],[22,0,27,0],[22,2,22,8],[23,2,23,8],[24,2,24,8],[25,2,25,8],[26,2,26,8],[27,2,27,8]]}
[]
[null,null,null,null,null,null,null,null,null,null,null,null,null,null,null,"Promedio"]
[null,null,null,null,null,null,null,null,null,null,null,null,null,null,null,"Criterios legales",{"$f":"IF(COUNT(SUM(J25,J26,J27,J28))>0,SUM(J25,J26,J27,J28)/8,-9999999999)","v":0}]
[null,null,null,null,null,null,null,null,null,null,null,null,null,null,null,"Criterios tecnológicos ",{"$f":"IF(COUNT(SUM(J29,J30,J31,J32))>0,SUM(J29,J30,J31,J32)/8,-9999999999)","v":0}]
[null,null,null,null,null,null,null,null,null,null,null,null,null,null,null,"Criterios de mercado",{"$f":"IF(COUNT(SUM(J43,J45,J44,J46,J47,J48,J49,J50,J51))>0,SUM(J43,J45,J44,J46,J47,J48,J49,J50,J51)/18,-9999999999)","v":0}]
[]
[]
[null,null,null,null,null,null,null,null,null,null,null,"Cubrir solo donde esté indicado"]
[]
[]
["INFORME DE EVALUACIÓN"]
[]
["1. Título"]
[]
[{"$f":"IF(COUNTA(EvaluaciónPatente4!F11)>0,EvaluaciónPatente4!F11,\"\")","v":""}]
[]
[]
["2. Evaluación"]
[]
["      2.1 Evaluación de criterios "]
[]
["Criterios",null,"Observaciones",null,null,null,null,null,null,"E"]
["1. Criterios legales","1.1 Estado legal ",{"$f":"IF(COUNTA(EvaluaciónPatente4!L20)>0,EvaluaciónPatente4!L20,\"\")","v":""},null,null,null,null,null,null,{"$f":"IF(COUNTA(EvaluaciónPatente4!C19)>0,0,IF(COUNTA(EvaluaciónPatente4!F19)>0,1,IF(COUNTA(EvaluaciónPatente4!I19)>0,2,\"\")))","v":""}]
[null,"1.2  Alcance territorial ",{"$f":"IF(COUNTA(EvaluaciónPatente4!L23)>0,EvaluaciónPatente4!L23,\"\")","v":""},null,null,null,null,null,null,{"$f":"IF(COUNTA(EvaluaciónPatente4!C22)>0,0,IF(COUNTA(EvaluaciónPatente4!F22)>0,1,IF(COUNTA(EvaluaciónPatente4!I22)>0,2,\"\")))","v":""}]
[null,"1.3 Fuerza de la protección",{"$f":"IF(COUNTA(EvaluaciónPatente4!L26)>0,EvaluaciónPatente4!L26,\"\")","v":""},null,null,null,null,null,null,{"$f":"IF(COUNTA(EvaluaciónPatente4!C25)>0,0,IF(COUNTA(EvaluaciónPatente4!F25)>0,1,IF(COUNTA(EvaluaciónPatente4!I25)>0,2,\"\")))","v":""}]
[null,"1.4 Duración de la protección",{"$f":"IF(COUNTA(EvaluaciónPatente4!L29)>0,EvaluaciónPatente4!L29,\"\")","v":""},null,null,null,null,null,null,{"$f":"IF(COUNTA(EvaluaciónPatente4!C28)>0,0,IF(COUNTA(EvaluaciónPatente4!F28)>0,1,IF(COUNTA(EvaluaciónPatente4!I28)>0,2,\"\")))","v":""}]
[null,"1.5 Alcance de la protección",{"$f":"IF(COUNTA(EvaluaciónPatente4!L32)>0,EvaluaciónPatente4!L32,\"\")","v":""},null,null,null,null,null,null,{"$f":"IF(COUNTA(EvaluaciónPatente4!C31)>0,0,IF(COUNTA(EvaluaciónPatente4!F31)>0,1,IF(COUNTA(EvaluaciónPatente4!I31)>0,2,\"\")))","v":""}]
[null,"1.6 (In)dependencia",{"$f":"IF(COUNTA(EvaluaciónPatente4!L35)>0,EvaluaciónPatente4!L35,\"\")","v":""},null,null,null,null,null,null,{"$f":"IF(COUNTA(EvaluaciónPatente4!C34)>0,0,IF(COUNTA(EvaluaciónPatente4!F34)>0,1,IF(COUNTA(EvaluaciónPatente4!I34)>0,2,\"\")))","v":""}]
["2. Criterios tecnológicos  ","2.1 Capacidad de detección",{"$f":"IF(COUNTA(EvaluaciónPatente4!L40)>0,EvaluaciónPatente4!L40,\"\")","v":""},null,null,null,null,null,null,{"$f":"IF(COUNTA(EvaluaciónPatente4!C39)>0,0,IF(COUNTA(EvaluaciónPatente4!F39)>0,1,IF(COUNTA(EvaluaciónPatente4!I39)>0,2,\"\")))","v":""}]
[null,"2.2 Capacidad de imitación",{"$f":"IF(COUNTA(EvaluaciónPatente4!L43)>0,EvaluaciónPatente4!L43,\"\")","v":""},null,null,null,null,null,null,{"$f":"IF(COUNTA(EvaluaciónPatente4!C42)>0,0,IF(COUNTA(EvaluaciónPatente4!F42)>0,1,IF(COUNTA(EvaluaciónPatente4!I42)>0,2,\"\")))","v":""}]
[null,"2.3 Estado de desarrollo (TRL)",{"$f":"IF(COUNTA(EvaluaciónPatente4!L46)>0,EvaluaciónPatente4!L46,\"\")","v":""},null,null,null,null,null,null,{"$f":"IF(COUNTA(EvaluaciónPatente4!C45)>0,0,IF(COUNTA(EvaluaciónPatente4!F45)>0,1,IF(COUNTA(EvaluaciónPatente4!I45)>0,2,\"\")))","v":""}]
[null,"2.4 Proceso de producción / competencias ",{"$f":"IF(COUNTA(EvaluaciónPatente4!L49)>0,EvaluaciónPatente4!L49,\"\")","v":""},null,null,null,null,null,null,{"$f":"IF(COUNTA(EvaluaciónPatente4!C48)>0,0,IF(COUNTA(EvaluaciónPatente4!F48)>0,1,IF(COUNTA(EvaluaciónPatente4!I48)>0,2,\"\")))","v":""}]
[]
[null,null,"E = Evaluación",null,null,null,null,null,null,null,null,"Cubrir solo donde esté indicado"]
[]
[]
[]
[]
[]
[]
[]
["Criterios",null,"Observaciones",null,null,null,null,null,null,"E"]
["3. Criterios de mercado","3.1 Compromiso con la comercialización",{"$f":"IF(COUNTA(EvaluaciónPatente4!L54)>0,EvaluaciónPatente4!L54,\"\")","v":""},null,null,null,null,null,null,{"$f":"IF(COUNTA(EvaluaciónPatente4!C53)>0,0,IF(COUNTA(EvaluaciónPatente4!F53)>0,1,IF(COUNTA(EvaluaciónPatente4!I53)>0,2,\"\")))","v":""}]
[null,"3.2 Mercado potencial / Aplicaciones ",{"$f":"IF(COUNTA(EvaluaciónPatente4!L57)>0,EvaluaciónPatente4!L57,\"\")","v":""},null,null,null,null,null,null,{"$f":"IF(COUNTA(EvaluaciónPatente4!C56)>0,0,IF(COUNTA(EvaluaciónPatente4!F56)>0,1,IF(COUNTA(EvaluaciónPatente4!I56)>0,2,\"\")))","v":""}]
[null,"3.3 Evolución del mercado",{"$f":"IF(COUNTA(EvaluaciónPatente4!L60)>0,EvaluaciónPatente4!L60,\"\")","v":""},null,null,null,null,null,null,{"$f":"IF(COUNTA(EvaluaciónPatente4!C59)>0,0,IF(COUNTA(EvaluaciónPatente4!F59)>0,1,IF(COUNTA(EvaluaciónPatente4!I59)>0,2,\"\")))","v":""}]
[null,"3.4 Esperanza de vida en el mercado ",{"$f":"IF(COUNTA(EvaluaciónPatente4!L63)>0,EvaluaciónPatente4!L63,\"\")","v":""},null,null,null,null,null,null,{"$f":"IF(COUNTA(EvaluaciónPatente4!C62)>0,0,IF(COUNTA(EvaluaciónPatente4!F62)>0,1,IF(COUNTA(EvaluaciónPatente4!I62)>0,2,\"\")))","v":""}]
[null,"3.5 Entorno competitiva ",{"$f":"IF(COUNTA(EvaluaciónPatente4!L66)>0,EvaluaciónPatente4!L66,\"\")","v":""},null,null,null,null,null,null,{"$f":"IF(COUNTA(EvaluaciónPatente4!C65)>0,0,IF(COUNTA(EvaluaciónPatente4!F65)>0,1,IF(COUNTA(EvaluaciónPatente4!I65)>0,2,\"\")))","v":""}]
[null,"3.6 Permisos",{"$f":"IF(COUNTA(EvaluaciónPatente4!L69)>0,EvaluaciónPatente4!L69,\"\")","v":""},null,null,null,null,null,null,{"$f":"IF(COUNTA(EvaluaciónPatente4!C68)>0,0,IF(COUNTA(EvaluaciónPatente4!F68)>0,1,IF(COUNTA(EvaluaciónPatente4!I68)>0,2,\"\")))","v":""}]
[null,"3.7  Ventajas competitivas",{"$f":"IF(COUNTA(EvaluaciónPatente4!L72)>0,EvaluaciónPatente4!L72,\"\")","v":""},null,null,null,null,null,null,{"$f":"IF(COUNTA(EvaluaciónPatente4!C71)>0,0,IF(COUNTA(EvaluaciónPatente4!F71)>0,1,IF(COUNTA(EvaluaciónPatente4!I71)>0,2,\"\")))","v":""}]
[null,"3.8 Plazo de comercialización",{"$f":"IF(COUNTA(EvaluaciónPatente4!L75)>0,EvaluaciónPatente4!L75,\"\")","v":""},null,null,null,null,null,null,{"$f":"IF(COUNTA(EvaluaciónPatente4!C74)>0,0,IF(COUNTA(EvaluaciónPatente4!F74)>0,1,IF(COUNTA(EvaluaciónPatente4!I74)>0,2,\"\")))","v":""}]
[null,"3.9 Oportunidades comerciales y feedback",{"$f":"IF(COUNTA(EvaluaciónPatente4!L78)>0,EvaluaciónPatente4!L78,\"\")","v":""},null,null,null,null,null,null,{"$f":"IF(COUNTA(EvaluaciónPatente4!C77)>0,0,IF(COUNTA(EvaluaciónPatente4!F77)>0,1,IF(COUNTA(EvaluaciónPatente4!I77)>0,2,\"\")))","v":""}]
[null,null,null,null,null,null,null,null,null,null,null,"Cubrir solo donde esté indicado"]
[null,null,"E = Evaluación"]
[]
[]
[]
[]
[]
[]
[]
[]
["      2.2 Valoración general"]
[]
[]
[]
[]
[]
[]
[]
[]
[]
[]
[]
[]
[]
[]
[]
[]
[]
[]
[null,null,null,null,null,null,null,null,null,null,null,null,null,null,null,null," "]
[]
[]
[]
[]
["3. Conclusiones y observaciones"]
[]
["      3.1 Situación de la tecnología patentada de cara al proceso de una posible comercialización "]
[]
[null,"Tecnología patentada con alto potencial de transferencia o lista para transferir.",null,null,null,null,null,null,null,null,null,"Marcar una opción"]
[null,"Tecnología patentada pendiente de completar proceso de evaluación."]
[null,"Tecnología patentada con un grado de madurez que no es suficiente para iniciar un proceso de comercialización."]
[null,"Con la información aportada, la tecnología patentada no es de interés para un proceso de comercialización."]
[]
["         Justificación de la evaluación"]
[]
[null,null,null,null,null,null,null,null,null,null,null,"Indicar justificación de la evaluación"]
[{"$f":"IF(EvaluaciónPatente4!C19=\"x\", \"Patente no cumple con los requisitos mínimos. Patente revocada, expirada o caducada.\", \"\")","v":""}]
[{"$f":"IF(EvaluaciónPatente4!C22=\"x\", \"Patente no cumple con los requisitos mínimos. La protección de la patente es limitado a un mercado que no es su mercado principal. \", \"\")","v":""}]
[{"$f":"IF(EvaluaciónPatente4!C39=\"x\", \"Patente no cumple con los requisitos mínimos. Es muy difícil identificar los productos de imitación. \", \"\")","v":""}]
[{"$f":"IF(EvaluaciónPatente4!C53=\"x\", \"Patente no cumple con los requisitos mínimos. Recursos no asignados, la tecnología patentada no es clave para el equipo o el grupo. \", \"\")","v":""}]
[]
[]
[null,null,null,"   "]
["      3.2 Observaciones"]
[]
[null,null,null,null,null,null,null,null,null,null,null,"Indicar observaciones"]
[]
[]
[]
[]
[]
[]
[]
[]
[]
[]
[]
[]
[]
[]
[]
[]
[]
["      3.3 Implantación"]
[]
["Acciones",null,null,"Responsable",1,2,3,4,5,6,null,"Indicar proceso de implantación"]
[]
[]
[]
[]
[]
[]
[]
[]
[]
[]
[]
[]
[]
[]
[]
["4. Datos de la evaluación"]
[]
["Autor",null,null,null,null,"Fecha de realización"]
[{"$f":"IF(COUNTA(EvaluaciónPatente4!F12)>0,EvaluaciónPatente4!F12,\"\")","v":""},null,null,null,null,{"$f":"IF(COUNTA(EvaluaciónPatente4!F13)>0,EvaluaciónPatente4!F13,\"\")","v":""}]

{"sheet":"EvaluaciónPatente5","index":12,"n_rows":78,"n_cols":12,"rows_kept":78,"cut":false,"hidden":false,"merged":[[75,2,75,3],[57,2,57,3],[60,2,60,3],[63,2,63,3],[66,2,66,3],[69,2,69,3],[72,2,72,3],[54,2,54,3],[17,2,17,3],[20,2,20,8],[23,2,23,8],[26,2,26,8],[29,2,29,8],[32,2,32,8],[37,2,37,8],[40,2,40,8],[43,2,43,8],[46,2,46,8],[51,2,51,8],[10,1,10,3],[10,5,10,6],[11,1,11,3],[11,5,11,6],[12,1,12,3],[12,5,12,6]]}
[]
[]
[]
[]
[]
[]
[]
[]
[]
[]
[null,"Denominación de la tecnología patentada",null,null,null,null,null,null,null,"1. Incluir la denominación de la tecnología, el nombre del evaluador y la fecha de la evaluación"]
[null,"Nombre del evaluador",null,null,null,null,null,null,null,"2. Marcar con una «X» el nivel para cada criterio y los comentarios que justifiquen la elección"]
[null,"Fecha de evaluación de la tecnología patentada"]
[]
[null,"Criterios de evaluación"]
[]
[null,"1. Criterios legales"]
[null,null,"Criterio 1.1 Estado legal (Criterio de exclusión)"]
[null,null,null,"Desfavorable",null,null,"Neutro",null,null,"Favorable",null,"Comentarios"]
[null,null,null,"Patente revocada, expirada o caducada.",null,null,"-",null,null,"Por lo menos una solicitud de patente pendiente o patente concedida."]
[null,null,"Criterio 1.2 Alcance territorial (Criterio de exclusión)"]
[null,null,null,"Desfavorable",null,null,"Neutro",null,null,"Favorable",null,"Comentarios"]
[null,null,null,"La protección de la patente esta limitada a un mercado que no es su mercado principal. ",null,null,"-",null,null,"Protección en un país que es su mercado principal o en más de un país de la zona de mercado, o si la protección todavía está disponible para su elección (periodo de prioridad, PCT, EP)."]
[null,null,"Criterio 1.3 Fuerza de la protección"]
[null,null,null,"Desfavorable",null,null,"Neutro",null,null,"Favorable",null,"Comentarios"]
[null,null,null,"(PATENTES NO PUBLICADAS)\nNo se ha identificado el estado de\nla técnica o se ha identificado que\nel estado de la técnica no supone\nuna amenaza para la novedad y/o la\nactividad inventiva.\n(PATENTES PUBLICADAS)\nEvaluación de la patentabilidad por la\noficina nacional o similar existente, con\n2 o más documentos X.",null,null,"(PATENTES NO PUBLICADAS)\nSe ha identificado el estado de la\ntécnica y los documentos encontrados\nno suponen una amenaza para la\nnovedad. Sin embargo, la actividad\ninventiva es una cuestión de\ninterpretación.\n(PATENTES PUBLICADAS)\nExamen de la novedad por la oficina\nnacional o similar existente, con\ndocumentos X o Y, pero con potencial\nde conceder la patente.",null,null,"PATENTES NO PUBLICADAS)\nSe ha identificado el estado de la\ntécnica que no supone por el momento\nninguna amenaza para la novedad y la\nactividad inventiva.\n(PATENTES PUBLICADAS)\nExamen de la novedad por la oficina\nnacional o similar existente, sin\ndocumentos X o patente concedida."]
[null,null,"Criterio 1.4 Duración de la protección"]
[null,null,null,"Desfavorable",null,null,"Neutro",null,null,"Favorable",null,"Comentarios"]
[null,null,null,"A la patente le quedan menos de 6 años.",null,null,"A la patente le quedan 6-12 años",null,null,"A la patente le quedan más de 12 años"]
[null,null,"Criterio 1.5 Alcance de la protección "]
[null,null,null,"Desfavorable",null,null,"Neutro",null,null,"Favorable",null,"Comentarios"]
[null,null,null,"Las reivindicaciones son muy concretas y específicas.",null,null,"Las reivindicaciones son razonablemente amplias.",null,null,"Las reivindicaciones comprenden un principio general."]
[null,null,"Criterio 1.6 (In)dependencia"]
[null,null,null,"Desfavorable",null,null,"Neutro",null,null,"Favorable",null,"Comentarios"]
[null,null,null,"El uso de la patente depende de cotitulares fuera del ámbito habitual o de cotitulares con menos de 5% cotitularidad dentro del ámbito habitual.",null,null,"El uso de la patente depende de cotitulares, pero dentro del ámbito habitual.",null,null,"La patente no tiene cotitulares. El uso y la explotación de la patente es independiente de acuerdos con cotitulares."]
[]
[null,"2. Criterios tecnológicos "]
[null,null,"Criterio 2.1 Capacidad de detección (Criterio de exclusión y madurez)"]
[null,null,null,"Desfavorable",null,null,"Neutro",null,null,"Favorable",null,"Comentarios"]
[null,null,null,"Es muy difícil identificar los productos\nde imitación. Es prácticamente\nimposible de detectar el uso ilegal de\nun procedimiento, un método o el uso\nde un compuesto.",null,null,"Es difícil pero no imposible identificar\nproductos de imitación. La detección\nde un uso ilegal de un procedimiento,\nun método o el uso de un compuesto\nes posible, aunque difícil.",null,null,"Es fácil identificar los productos\nilegales de imitación. La detección de\nun uso ilegal de un procedimiento, un\nmétodo o el uso de un compuesto es\nfácil."]
[null,null,"Criterio 2.2 Capacidad de imitación"]
[null,null,null,"Desfavorable",null,null,"Neutro",null,null,"Favorable",null,"Comentarios"]
[null,null,null,"La tecnología patentada es fácil de identificar, copiar y producir.",null,null,"Es posible copiar y producir la tecnología patentada por ejemplo mediante ingeniería inversa.",null,null,"La tecnología patentada es muy difícil de copiar y producir."]
[null,null,"Criterio 2.3 Estado de desarrollo (TRL)"]
[null,null,null,"Desfavorable",null,null,"Neutro",null,null,"Favorable",null,"Comentarios"]
[null,null,null,"Entrono laboratorio: la invención ha sido probada, en teoría, de acuerdo con cálculos (TRL 1-2).",null,null,"Se han realizado experimentos, se han desarrollado prototipos (TRL 3-4).",null,null,"Demostración de la invención en un entorno real (TRL ≥5)."]
[null,null,"Criterio 2.4 Proceso de producción"]
[null,null,null,"Desfavorable",null,null,"Neutro",null,null,"Favorable",null,"Comentarios"]
[null,null,null,"La tecnología patentada requiere un proceso de producción completamente nuevo o modifica fundamentalmente el procedimiento actualmente en uso.",null,null,"Se requiere el desarrollo de los procesos de producción actualmente aplicados antes de poder utilizar o producir la tecnología patentada.",null,null,"La tecnología patentada puede utilizarse o producirse con el proceso de producción actualmente aplicado."]
[]
[null,"3. Criterios de mercado"]
[null,null,"Criterio 3.1 Compromiso con la comercialización (Criterio de exclusión y madurez)"]
[null,null,null,"Desfavorable",null,null,"Neutro",null,null,"Favorable",null,"Comentarios"]
[null,null,null,"Recursos no asignados, la tecnología patentada no es clave para el equipo o el grupo.",null,null,"Personas asignadas a la tecnología patentada, pero sin funciones definidas. El proceso de transferencia no es una prioridad. ",null,null,"Proyecto clave dentro de la estrategia de transferencia del grupo o equipo. Hay personas asignadas para participar en el proceso con roles establecidos."]
[null,null,"Criterio 3.2 Mercado potencial / Aplicaciones"]
[null,null,null,"Desfavorable",null,null,"Neutro",null,null,"Favorable",null,"Comentarios"]
[null,null,null,"La tecnología patentada aún no se ha dirigido a un mercado concreto o se dirige a un mercado pequeño. No está confirmado el sector de aplicación.",null,null,"Existe un mercado conocido para la tecnología patentada con un tamaño significativo dentro del -ámbito tecnológico. La aplicación se limita a un sector industrial.",null,null,"Existe un mercado conocido y grande, así como otros mercados significativos. Se han identificado numerosos ámbitos de aplicación."]
[null,null,"Criterio 3.3 Evolución del mercado"]
[null,null,null,"Desfavorable",null,null,"Neutro",null,null,"Favorable",null,"Comentarios"]
[null,null,null,"Bajo (CAGR < 4%).",null,null,"Medio (CAGR 4-8%).",null,null,"Alto (CAGR >8%)."]
[null,null,"Criterio 3.4 Esperanza de vida en el mercado"]
[null,null,null,"Desfavorable",null,null,"Neutro",null,null,"Favorable",null,"Comentarios"]
[null,null,null,"Inferior a 2 años.",null,null,"Entre 2 -5 años.",null,null,"Más de 5 años."]
[null,null,"Criterio 3.5 Entorno competitivo"]
[null,null,null,"Desfavorable",null,null,"Neutro",null,null,"Favorable",null,"Comentarios"]
[null,null,null,"No se identificaron los competidores ni productos sustitutivos.",null,null,"Situación dominante de un grupo restringido de empresas o limitado a un número escaso de empresas.",null,null,"Entorno competitivo detectado y definido. Mercado accesible y abierto."]
[null,null,"Criterio 3.6 Permisos y estándares de mercado"]
[null,null,null,"Desfavorable",null,null,"Neutro",null,null,"Favorable",null,"Comentarios"]
[null,null,null,"Se necesitan permisos o/y se tienen\nque cumplir estándares para vender\nproductos en el mercado, pero aún\nno se han identificado y analizado los\nrequisitos.",null,null,"Permisos y/o estándares necesarios\ndetectados y analizados o aplicación\nde permisos en proceso.",null,null,"No es necesario un permiso ni se\ntienen que cumplir estándares para la\nventa de productos en el mercado."]
[null,null,"Criterio 3.7 Ventajas competitivas"]
[null,null,null,"Desfavorable",null,null,"Neutro",null,null,"Favorable",null,"Comentarios"]
[null,null,null,"No se han detectado las ventajas competitivas.",null,null,"Se han definido las ventajas competitivas. La tecnología patentada ofrece al menos 1-2 ventajas sobre las tecnologías y productos existentes.",null,null,"La tecnología patentada proporciona características realmente innovadoras y distintivas que pueden utilizarse para la comercialización y la venta de posibles productos."]
[null,null,"Criterio 3.8 Plazo de comercialización"]
[null,null,null,"Desfavorable",null,null,"Neutro",null,null,"Favorable",null,"Comentarios"]
[null,null,null,"Superior a 3 años.",null,null,"Entre 2-3 años.",null,null,"Inferior a 2 años."]
[null,null,"Criterio 3.9 Oportunidades comerciales y feedback"]
[null,null,null,"Desfavorable",null,null,"Neutro",null,null,"Favorable",null,"Comentarios"]
[null,null,null,"El equipo investigador no tiene\nconocimiento sobre el entorno\ncomercial de la tecnología patentada.\nNo existe feedback por parte de\nempresas interesadas, o solo feedback\nnegativo.",null,null,"El equipo investigador tiene\noportunidades comerciales detectadas\ny conoce empresas y entidades\ninteresadas. Existe feedback por parte\nde empresas interesadas, pero sin\nintención para una cooperación.",null,null,"El equipo investigador ya ha tenido\ncontacto con empresas y entidades\ninteresadas y tiene varias oportunidades\ncomerciales detectadas. Existe feedback\npor parte de empresas interesadas, con\nintención para una cooperación."]

{"sheet":"InformePatente5","index":13,"n_rows":146,"n_cols":17,"rows_kept":146,"cut":false,"hidden":false,"merged":[[145,5,145,9],[46,2,46,8],[47,2,47,8],[48,2,48,8],[49,2,49,8],[50,2,50,8],[144,5,144,9],[28,0,31,0],[28,2,28,8],[29,2,29,8],[30,2,30,8],[31,2,31,8],[42,0,50,0],[42,2,42,8],[43,2,43,8],[44,2,44,8],[45,2,45,8],[14,0,14,9],[21,0,21,1],[22,0,27,0],[22,2,22,8],[23,2,23,8],[24,2,24,8],[25,2,25,8],[26,2,26,8],[27,2,27,8]]}
[]
[null,null,null,null,null,null,null,null,null,null,null,null,null,null,null,"Promedio"]
[null,null,null,null,null,null,null,null,null,null,null,null,null,null,null,"Criterios legales",{"$f":"IF(COUNT(SUM(J25,J26,J27,J28))>0,SUM(J25,J26,J27,J28)/8,-9999999999)","v":0}]
[null,null,null,null,null,null,null,null,null,null,null,null,null,null,null,"Criterios tecnológicos ",{"$f":"IF(COUNT(SUM(J29,J30,J31,J32))>0,SUM(J29,J30,J31,J32)/8,-9999999999)","v":0}]
[null,null,null,null,null,null,null,null,null,null,null,null,null,null,null,"Criterios de mercado",{"$f":"IF(COUNT(SUM(J43,J45,J44,J46,J47,J48,J49,J50,J51))>0,SUM(J43,J45,J44,J46,J47,J48,J49,J50,J51)/18,-9999999999)","v":0}]
[]
[]
[null,null,null,null,null,null,null,null,null,null,null,"Cubrir solo donde esté indicado"]
[]
[]
["INFORME DE EVALUACIÓN"]
[]
["1. Título"]
[]
[{"$f":"IF(COUNTA(EvaluaciónPatente5!F11)>0,EvaluaciónPatente5!F11,\"\")","v":""}]
[]
[]
["2. Evaluación"]
[]
["      2.1 Evaluación de criterios "]
[]
["Criterios",null,"Observaciones",null,null,null,null,null,null,"E"]
["1. Criterios legales","1.1 Estado legal ",{"$f":"IF(COUNTA(EvaluaciónPatente5!L20)>0,EvaluaciónPatente5!L20,\"\")","v":""},null,null,null,null,null,null,{"$f":"IF(COUNTA(EvaluaciónPatente5!C19)>0,0,IF(COUNTA(EvaluaciónPatente5!F19)>0,1,IF(COUNTA(EvaluaciónPatente5!I19)>0,2,\"\")))","v":""}]
[null,"1.2  Alcance territorial ",{"$f":"IF(COUNTA(EvaluaciónPatente5!L23)>0,EvaluaciónPatente5!L23,\"\")","v":""},null,null,null,null,null,null,{"$f":"IF(COUNTA(EvaluaciónPatente5!C22)>0,0,IF(COUNTA(EvaluaciónPatente5!F22)>0,1,IF(COUNTA(EvaluaciónPatente5!I22)>0,2,\"\")))","v":""}]
[null,"1.3 Fuerza de la protección",{"$f":"IF(COUNTA(EvaluaciónPatente5!L26)>0,EvaluaciónPatente5!L26,\"\")","v":""},null,null,null,null,null,null,{"$f":"IF(COUNTA(EvaluaciónPatente5!C25)>0,0,IF(COUNTA(EvaluaciónPatente5!F25)>0,1,IF(COUNTA(EvaluaciónPatente5!I25)>0,2,\"\")))","v":""}]
[null,"1.4 Duración de la protección",{"$f":"IF(COUNTA(EvaluaciónPatente5!L29)>0,EvaluaciónPatente5!L29,\"\")","v":""},null,null,null,null,null,null,{"$f":"IF(COUNTA(EvaluaciónPatente5!C28)>0,0,IF(COUNTA(EvaluaciónPatente5!F28)>0,1,IF(COUNTA(EvaluaciónPatente5!I28)>0,2,\"\")))","v":""}]
[null,"1.5 Alcance de la protección",{"$f":"IF(COUNTA(EvaluaciónPatente5!L32)>0,EvaluaciónPatente5!L32,\"\")","v":""},null,null,null,null,null,null,{"$f":"IF(COUNTA(EvaluaciónPatente5!C31)>0,0,IF(COUNTA(EvaluaciónPatente5!F31)>0,1,IF(COUNTA(EvaluaciónPatente5!I31)>0,2,\"\")))","v":""}]
[null,"1.6 (In)dependencia",{"$f":"IF(COUNTA(EvaluaciónPatente5!L35)>0,EvaluaciónPatente5!L35,\"\")","v":""},null,null,null,null,null,null,{"$f":"IF(COUNTA(EvaluaciónPatente5!C34)>0,0,IF(COUNTA(EvaluaciónPatente5!F34)>0,1,IF(COUNTA(EvaluaciónPatente5!I34)>0,2,\"\")))","v":""}]
["2. Criterios tecnológicos  ","2.1 Capacidad de detección",{"$f":"IF(COUNTA(EvaluaciónPatente5!L40)>0,EvaluaciónPatente5!L40,\"\")","v":""},null,null,null,null,null,null,{"$f":"IF(COUNTA(EvaluaciónPatente5!C39)>0,0,IF(COUNTA(EvaluaciónPatente5!F39)>0,1,IF(COUNTA(EvaluaciónPatente5!I39)>0,2,\"\")))","v":""}]
[null,"2.2 Capacidad de imitación",{"$f":"IF(COUNTA(EvaluaciónPatente5!L43)>0,EvaluaciónPatente5!L43,\"\")","v":""},null,null,null,null,null,null,{"$f":"IF(COUNTA(EvaluaciónPatente5!C42)>0,0,IF(COUNTA(EvaluaciónPatente5!F42)>0,1,IF(COUNTA(EvaluaciónPatente5!I42)>0,2,\"\")))","v":""}]
[null,"2.3 Estado de desarrollo (TRL)",{"$f":"IF(COUNTA(EvaluaciónPatente5!L46)>0,EvaluaciónPatente5!L46,\"\")","v":""},null,null,null,null,null,null,{"$f":"IF(COUNTA(EvaluaciónPatente5!C45)>0,0,IF(COUNTA(EvaluaciónPatente5!F45)>0,1,IF(COUNTA(EvaluaciónPatente5!I45)>0,2,\"\")))","v":""}]
[null,"2.4 Proceso de producción / competencias ",{"$f":"IF(COUNTA(EvaluaciónPatente5!L49)>0,EvaluaciónPatente5!L49,\"\")","v":""},null,null,null,null,null,null,{"$f":"IF(COUNTA(EvaluaciónPatente5!C48)>0,0,IF(COUNTA(EvaluaciónPatente5!F48)>0,1,IF(COUNTA(EvaluaciónPatente5!I48)>0,2,\"\")))","v":""}]
[]
[null,null,"E = Evaluación",null,null,null,null,null,null,null,null,"Cubrir solo donde esté indicado"]
[]
[]
[]
[]
[]
[]
[]
["Criterios",null,"Observaciones",null,null,null,null,null,null,"E"]
["3. Criterios de mercado","3.1 Compromiso con la comercialización",{"$f":"IF(COUNTA(EvaluaciónPatente5!L54)>0,EvaluaciónPatente5!L54,\"\")","v":""},null,null,null,null,null,null,{"$f":"IF(COUNTA(EvaluaciónPatente5!C53)>0,0,IF(COUNTA(EvaluaciónPatente5!F53)>0,1,IF(COUNTA(EvaluaciónPatente5!I53)>0,2,\"\")))","v":""}]
[null,"3.2 Mercado potencial / Aplicaciones ",{"$f":"IF(COUNTA(EvaluaciónPatente5!L57)>0,EvaluaciónPatente5!L57,\"\")","v":""},null,null,null,null,null,null,{"$f":"IF(COUNTA(EvaluaciónPatente5!C56)>0,0,IF(COUNTA(EvaluaciónPatente5!F56)>0,1,IF(COUNTA(EvaluaciónPatente5!I56)>0,2,\"\")))","v":""}]
[null,"3.3 Evolución del mercado",{"$f":"IF(COUNTA(EvaluaciónPatente5!L60)>0,EvaluaciónPatente5!L60,\"\")","v":""},null,null,null,null,null,null,{"$f":"IF(COUNTA(EvaluaciónPatente5!C59)>0,0,IF(COUNTA(EvaluaciónPatente5!F59)>0,1,IF(COUNTA(EvaluaciónPatente5!I59)>0,2,\"\")))","v":""}]
[null,"3.4 Esperanza de vida en el mercado ",{"$f":"IF(COUNTA(EvaluaciónPatente5!L63)>0,EvaluaciónPatente5!L63,\"\")","v":""},null,null,null,null,null,null,{"$f":"IF(COUNTA(EvaluaciónPatente5!C62)>0,0,IF(COUNTA(EvaluaciónPatente5!F62)>0,1,IF(COUNTA(EvaluaciónPatente5!I62)>0,2,\"\")))","v":""}]
[null,"3.5 Entorno competitiva ",{"$f":"IF(COUNTA(EvaluaciónPatente5!L66)>0,EvaluaciónPatente5!L66,\"\")","v":""},null,null,null,null,null,null,{"$f":"IF(COUNTA(EvaluaciónPatente5!C65)>0,0,IF(COUNTA(EvaluaciónPatente5!F65)>0,1,IF(COUNTA(EvaluaciónPatente5!I65)>0,2,\"\")))","v":""}]
[null,"3.6 Permisos",{"$f":"IF(COUNTA(EvaluaciónPatente5!L69)>0,EvaluaciónPatente5!L69,\"\")","v":""},null,null,null,null,null,null,{"$f":"IF(COUNTA(EvaluaciónPatente5!C68)>0,0,IF(COUNTA(EvaluaciónPatente5!F68)>0,1,IF(COUNTA(EvaluaciónPatente5!I68)>0,2,\"\")))","v":""}]
[null,"3.7  Ventajas competitivas",{"$f":"IF(COUNTA(EvaluaciónPatente5!L72)>0,EvaluaciónPatente5!L72,\"\")","v":""},null,null,null,null,null,null,{"$f":"IF(COUNTA(EvaluaciónPatente5!C71)>0,0,IF(COUNTA(EvaluaciónPatente5!F71)>0,1,IF(COUNTA(EvaluaciónPatente5!I71)>0,2,\"\")))","v":""}]
[null,"3.8 Plazo de comercialización",{"$f":"IF(COUNTA(EvaluaciónPatente5!L75)>0,EvaluaciónPatente5!L75,\"\")","v":""},null,null,null,null,null,null,{"$f":"IF(COUNTA(EvaluaciónPatente5!C74)>0,0,IF(COUNTA(EvaluaciónPatente5!F74)>0,1,IF(COUNTA(EvaluaciónPatente5!I74)>0,2,\"\")))","v":""}]
[null,"3.9 Oportunidades comerciales y feedback",{"$f":"IF(COUNTA(EvaluaciónPatente5!L78)>0,EvaluaciónPatente5!L78,\"\")","v":""},null,null,null,null,null,null,{"$f":"IF(COUNTA(EvaluaciónPatente5!C77)>0,0,IF(COUNTA(EvaluaciónPatente5!F77)>0,1,IF(COUNTA(EvaluaciónPatente5!I77)>0,2,\"\")))","v":""}]
[null,null,null,null,null,null,null,null,null,null,null,"Cubrir solo donde esté indicado"]
[null,null,"E = Evaluación"]
[]
[]
[]
[]
[]
[]
[]
[]
["      2.2 Valoración general"]
[]
[]
[]
[]
[]
[]
[]
[]
[]
[]
[]
[]
[]
[]
[]
[]
[]
[]
[null,null,null,null,null,null,null,null,null,null,null,null,null,null,null,null," "]
[]
[]
[]
[]
["3. Conclusiones y observaciones"]
[]
["      3.1 Situación de la tecnología patentada de cara al proceso de una posible comercialización "]
[]
[null,"Tecnología patentada con alto potencial de transferencia o lista para transferir.",null,null,null,null,null,null,null,null,null,"Marcar una opción"]
[null,"Tecnología patentada pendiente de completar proceso de evaluación."]
[null,"Tecnología patentada con un grado de madurez que no es suficiente para iniciar un proceso de comercialización."]
[null,"Con la información aportada, la tecnología patentada no es de interés para un proceso de comercialización."]
[]
["         Justificación de la evaluación"]
[]
[null,null,null,null,null,null,null,null,null,null,null,"Indicar justificación de la evaluación"]
[{"$f":"IF(EvaluaciónPatente5!C19=\"x\", \"Patente no cumple con los requisitos mínimos. Patente revocada, expirada o caducada.\", \"\")","v":""}]
[{"$f":"IF(EvaluaciónPatente5!C22=\"x\", \"Patente no cumple con los requisitos mínimos. La protección de la patente es limitado a un mercado que no es su mercado principal. \", \"\")","v":""}]
[{"$f":"IF(EvaluaciónPatente5!C39=\"x\", \"Patente no cumple con los requisitos mínimos. Es muy difícil identificar los productos de imitación. \", \"\")","v":""}]
[{"$f":"IF(EvaluaciónPatente5!C53=\"x\", \"Patente no cumple con los requisitos mínimos. Recursos no asignados, la tecnología patentada no es clave para el equipo o el grupo. \", \"\")","v":""}]
[]
[]
[null,null,null,"   "]
["      3.2 Observaciones"]
[]
[null,null,null,null,null,null,null,null,null,null,null,"Indicar observaciones"]
[]
[]
[]
[]
[]
[]
[]
[]
[]
[]
[]
[]
[]
[]
[]
[]
[]
["      3.3 Implantación"]
[]
["Acciones",null,null,"Responsable",1,2,3,4,5,6,null,"Indicar proceso de implantación"]
[]
[]
[]
[]
[]
[]
[]
[]
[]
[]
[]
[]
[]
[]
[]
["4. Datos de la evaluación"]
[]
["Autor",null,null,null,null,"Fecha de realización"]
[{"$f":"IF(COUNTA(EvaluaciónPatente5!F12)>0,EvaluaciónPatente5!F12,\"\")","v":""},null,null,null,null,{"$f":"IF(COUNTA(EvaluaciónPatente5!F13)>0,EvaluaciónPatente5!F13,\"\")","v":""}]

{"sheet":"EvaluaciónPatente6","index":14,"n_rows":78,"n_cols":12,"rows_kept":78,"cut":false,"hidden":false,"merged":[[75,2,75,3],[57,2,57,3],[60,2,60,3],[63,2,63,3],[66,2,66,3],[69,2,69,3],[72,2,72,3],[54,2,54,3],[17,2,17,3],[20,2,20,8],[23,2,23,8],[26,2,26,8],[29,2,29,8],[32,2,32,8],[37,2,37,8],[40,2,40,8],[43,2,43,8],[46,2,46,8],[51,2,51,8],[10,1,10,3],[10,5,10,6],[11,1,11,3],[11,5,11,6],[12,1,12,3],[12,5,12,6]]}
[]
[]
[]
[]
[]
[]
[]
[]
[]
[]
[null,"Denominación de la tecnología patentada",null,null,null,null,null,null,null,"1. Incluir la denominación de la tecnología, el nombre del evaluador y la fecha de la evaluación"]
[null,"Nombre del evaluador",null,null,null,null,null,null,null,"2. Marcar con una «X» el nivel para cada criterio y los comentarios que justifiquen la elección"]
[null,"Fecha de evaluación de la tecnología patentada"]
[]
[null,"Criterios de evaluación"]
[]
[null,"1. Criterios legales"]
[null,null,"Criterio 1.1 Estado legal (Criterio de exclusión)"]
[null,null,null,"Desfavorable",null,null,"Neutro",null,null,"Favorable",null,"Comentarios"]
[null,null,null,"Patente revocada, expirada o caducada.",null,null,"-",null,null,"Por lo menos una solicitud de patente pendiente o patente concedida."]
[null,null,"Criterio 1.2 Alcance territorial (Criterio de exclusión)"]
[null,null,null,"Desfavorable",null,null,"Neutro",null,null,"Favorable",null,"Comentarios"]
[null,null,null,"La protección de la patente esta limitada a un mercado que no es su mercado principal. ",null,null,"-",null,null,"Protección en un país que es su mercado principal o en más de un país de la zona de mercado, o si la protección todavía está disponible para su elección (periodo de prioridad, PCT, EP)."]
[null,null,"Criterio 1.3 Fuerza de la protección"]
[null,null,null,"Desfavorable",null,null,"Neutro",null,null,"Favorable",null,"Comentarios"]
[null,null,null,"(PATENTES NO PUBLICADAS)\nNo se ha identificado el estado de\nla técnica o se ha identificado que\nel estado de la técnica no supone\nuna amenaza para la novedad y/o la\nactividad inventiva.\n(PATENTES PUBLICADAS)\nEvaluación de la patentabilidad por la\noficina nacional o similar existente, con\n2 o más documentos X.",null,null,"(PATENTES NO PUBLICADAS)\nSe ha identificado el estado de la\ntécnica y los documentos encontrados\nno suponen una amenaza para la\nnovedad. Sin embargo, la actividad\ninventiva es una cuestión de\ninterpretación.\n(PATENTES PUBLICADAS)\nExamen de la novedad por la oficina\nnacional o similar existente, con\ndocumentos X o Y, pero con potencial\nde conceder la patente.",null,null,"PATENTES NO PUBLICADAS)\nSe ha identificado el estado de la\ntécnica que no supone por el momento\nninguna amenaza para la novedad y la\nactividad inventiva.\n(PATENTES PUBLICADAS)\nExamen de la novedad por la oficina\nnacional o similar existente, sin\ndocumentos X o patente concedida."]
[null,null,"Criterio 1.4 Duración de la protección"]
[null,null,null,"Desfavorable",null,null,"Neutro",null,null,"Favorable",null,"Comentarios"]
[null,null,null,"A la patente le quedan menos de 6 años.",null,null,"A la patente le quedan 6-12 años",null,null,"A la patente le quedan más de 12 años"]
[null,null,"Criterio 1.5 Alcance de la protección "]
[null,null,null,"Desfavorable",null,null,"Neutro",null,null,"Favorable",null,"Comentarios"]
[null,null,null,"Las reivindicaciones son muy concretas y específicas.",null,null,"Las reivindicaciones son razonablemente amplias.",null,null,"Las reivindicaciones comprenden un principio general."]
[null,null,"Criterio 1.6 (In)dependencia"]
[null,null,null,"Desfavorable",null,null,"Neutro",null,null,"Favorable",null,"Comentarios"]
[null,null,null,"El uso de la patente depende de cotitulares fuera del ámbito habitual o de cotitulares con menos de 5% cotitularidad dentro del ámbito habitual.",null,null,"El uso de la patente depende de cotitulares, pero dentro del ámbito habitual.",null,null,"La patente no tiene cotitulares. El uso y la explotación de la patente es independiente de acuerdos con cotitulares."]
[]
[null,"2. Criterios tecnológicos "]
[null,null,"Criterio 2.1 Capacidad de detección (Criterio de exclusión y madurez)"]
[null,null,null,"Desfavorable",null,null,"Neutro",null,null,"Favorable",null,"Comentarios"]
[null,null,null,"Es muy difícil identificar los productos\nde imitación. Es prácticamente\nimposible de detectar el uso ilegal de\nun procedimiento, un método o el uso\nde un compuesto.",null,null,"Es difícil pero no imposible identificar\nproductos de imitación. La detección\nde un uso ilegal de un procedimiento,\nun método o el uso de un compuesto\nes posible, aunque difícil.",null,null,"Es fácil identificar los productos\nilegales de imitación. La detección de\nun uso ilegal de un procedimiento, un\nmétodo o el uso de un compuesto es\nfácil."]
[null,null,"Criterio 2.2 Capacidad de imitación"]
[null,null,null,"Desfavorable",null,null,"Neutro",null,null,"Favorable",null,"Comentarios"]
[null,null,null,"La tecnología patentada es fácil de identificar, copiar y producir.",null,null,"Es posible copiar y producir la tecnología patentada por ejemplo mediante ingeniería inversa.",null,null,"La tecnología patentada es muy difícil de copiar y producir."]
[null,null,"Criterio 2.3 Estado de desarrollo (TRL)"]
[null,null,null,"Desfavorable",null,null,"Neutro",null,null,"Favorable",null,"Comentarios"]
[null,null,null,"Entrono laboratorio: la invención ha sido probada, en teoría, de acuerdo con cálculos (TRL 1-2).",null,null,"Se han realizado experimentos, se han desarrollado prototipos (TRL 3-4).",null,null,"Demostración de la invención en un entorno real (TRL ≥5)."]
[null,null,"Criterio 2.4 Proceso de producción"]
[null,null,null,"Desfavorable",null,null,"Neutro",null,null,"Favorable",null,"Comentarios"]
[null,null,null,"La tecnología patentada requiere un proceso de producción completamente nuevo o modifica fundamentalmente el procedimiento actualmente en uso.",null,null,"Se requiere el desarrollo de los procesos de producción actualmente aplicados antes de poder utilizar o producir la tecnología patentada.",null,null,"La tecnología patentada puede utilizarse o producirse con el proceso de producción actualmente aplicado."]
[]
[null,"3. Criterios de mercado"]
[null,null,"Criterio 3.1 Compromiso con la comercialización (Criterio de exclusión y madurez)"]
[null,null,null,"Desfavorable",null,null,"Neutro",null,null,"Favorable",null,"Comentarios"]
[null,null,null,"Recursos no asignados, la tecnología patentada no es clave para el equipo o el grupo.",null,null,"Personas asignadas a la tecnología patentada, pero sin funciones definidas. El proceso de transferencia no es una prioridad. ",null,null,"Proyecto clave dentro de la estrategia de transferencia del grupo o equipo. Hay personas asignadas para participar en el proceso con roles establecidos."]
[null,null,"Criterio 3.2 Mercado potencial / Aplicaciones"]
[null,null,null,"Desfavorable",null,null,"Neutro",null,null,"Favorable",null,"Comentarios"]
[null,null,null,"La tecnología patentada aún no se ha dirigido a un mercado concreto o se dirige a un mercado pequeño. No está confirmado el sector de aplicación.",null,null,"Existe un mercado conocido para la tecnología patentada con un tamaño significativo dentro del -ámbito tecnológico. La aplicación se limita a un sector industrial.",null,null,"Existe un mercado conocido y grande, así como otros mercados significativos. Se han identificado numerosos ámbitos de aplicación."]
[null,null,"Criterio 3.3 Evolución del mercado"]
[null,null,null,"Desfavorable",null,null,"Neutro",null,null,"Favorable",null,"Comentarios"]
[null,null,null,"Bajo (CAGR < 4%).",null,null,"Medio (CAGR 4-8%).",null,null,"Alto (CAGR >8%)."]
[null,null,"Criterio 3.4 Esperanza de vida en el mercado"]
[null,null,null,"Desfavorable",null,null,"Neutro",null,null,"Favorable",null,"Comentarios"]
[null,null,null,"Inferior a 2 años.",null,null,"Entre 2 -5 años.",null,null,"Más de 5 años."]
[null,null,"Criterio 3.5 Entorno competitivo"]
[null,null,null,"Desfavorable",null,null,"Neutro",null,null,"Favorable",null,"Comentarios"]
[null,null,null,"No se identificaron los competidores ni productos sustitutivos.",null,null,"Situación dominante de un grupo restringido de empresas o limitado a un número escaso de empresas.",null,null,"Entorno competitivo detectado y definido. Mercado accesible y abierto."]
[null,null,"Criterio 3.6 Permisos y estándares de mercado"]
[null,null,null,"Desfavorable",null,null,"Neutro",null,null,"Favorable",null,"Comentarios"]
[null,null,null,"Se necesitan permisos o/y se tienen\nque cumplir estándares para vender\nproductos en el mercado, pero aún\nno se han identificado y analizado los\nrequisitos.",null,null,"Permisos y/o estándares necesarios\ndetectados y analizados o aplicación\nde permisos en proceso.",null,null,"No es necesario un permiso ni se\ntienen que cumplir estándares para la\nventa de productos en el mercado."]
[null,null,"Criterio 3.7 Ventajas competitivas"]
[null,null,null,"Desfavorable",null,null,"Neutro",null,null,"Favorable",null,"Comentarios"]
[null,null,null,"No se han detectado las ventajas competitivas.",null,null,"Se han definido las ventajas competitivas. La tecnología patentada ofrece al menos 1-2 ventajas sobre las tecnologías y productos existentes.",null,null,"La tecnología patentada proporciona características realmente innovadoras y distintivas que pueden utilizarse para la comercialización y la venta de posibles productos."]
[null,null,"Criterio 3.8 Plazo de comercialización"]
[null,null,null,"Desfavorable",null,null,"Neutro",null,null,"Favorable",null,"Comentarios"]
[null,null,null,"Superior a 3 años.",null,null,"Entre 2-3 años.",null,null,"Inferior a 2 años."]
[null,null,"Criterio 3.9 Oportunidades comerciales y feedback"]
[null,null,null,"Desfavorable",null,null,"Neutro",null,null,"Favorable",null,"Comentarios"]
[null,null,null,"El equipo investigador no tiene\nconocimiento sobre el entorno\ncomercial de la tecnología patentada.\nNo existe feedback por parte de\nempresas interesadas, o solo feedback\nnegativo.",null,null,"El equipo investigador tiene\noportunidades comerciales detectadas\ny conoce empresas y entidades\ninteresadas. Existe feedback por parte\nde empresas interesadas, pero sin\nintención para una cooperación.",null,null,"El equipo investigador ya ha tenido\ncontacto con empresas y entidades\ninteresadas y tiene varias oportunidades\ncomerciales detectadas. Existe feedback\npor parte de empresas interesadas, con\nintención para una cooperación."]

{"sheet":"InformePatente6","index":15,"n_rows":146,"n_cols":17,"rows_kept":146,"cut":false,"hidden":false,"merged":[[145,5,145,9],[46,2,46,8],[47,2,47,8],[48,2,48,8],[49,2,49,8],[50,2,50,8],[144,5,144,9],[28,0,31,0],[28,2,28,8],[29,2,29,8],[30,2,30,8],[31,2,31,8],[42,0,50,0],[42,2,42,8],[43,2,43,8],[44,2,44,8],[45,2,45,8],[14,0,14,9],[21,0,21,1],[22,0,27,0],[22,2,22,8],[23,2,23,8],[24,2,24,8],[25,2,25,8],[26,2,26,8],[27,2,27,8]]}
[]
[null,null,null,null,null,null,null,null,null,null,null,null,null,null,null,"Promedio"]
[null,null,null,null,null,null,null,null,null,null,null,null,null,null,null,"Criterios legales",{"$f":"IF(COUNT(SUM(J25,J26,J27,J28))>0,SUM(J25,J26,J27,J28)/8,-9999999999)","v":0}]
[null,null,null,null,null,null,null,null,null,null,null,null,null,null,null,"Criterios tecnológicos ",{"$f":"IF(COUNT(SUM(J29,J30,J31,J32))>0,SUM(J29,J30,J31,J32)/8,-9999999999)","v":0}]
[null,null,null,null,null,null,null,null,null,null,null,null,null,null,null,"Criterios de mercado",{"$f":"IF(COUNT(SUM(J43,J45,J44,J46,J47,J48,J49,J50,J51))>0,SUM(J43,J45,J44,J46,J47,J48,J49,J50,J51)/18,-9999999999)","v":0}]
[]
[]
[null,null,null,null,null,null,null,null,null,null,null,"Cubrir solo donde esté indicado"]
[]
[]
["INFORME DE EVALUACIÓN"]
[]
["1. Título"]
[]
[{"$f":"IF(COUNTA(EvaluaciónPatente6!F11)>0,EvaluaciónPatente6!F11,\"\")","v":""}]
[]
[]
["2. Evaluación"]
[]
["      2.1 Evaluación de criterios "]
[]
["Criterios",null,"Observaciones",null,null,null,null,null,null,"E"]
["1. Criterios legales","1.1 Estado legal ",{"$f":"IF(COUNTA(EvaluaciónPatente6!L20)>0,EvaluaciónPatente6!L20,\"\")","v":""},null,null,null,null,null,null,{"$f":"IF(COUNTA(EvaluaciónPatente6!C19)>0,0,IF(COUNTA(EvaluaciónPatente6!F19)>0,1,IF(COUNTA(EvaluaciónPatente6!I19)>0,2,\"\")))","v":""}]
[null,"1.2  Alcance territorial ",{"$f":"IF(COUNTA(EvaluaciónPatente6!L23)>0,EvaluaciónPatente6!L23,\"\")","v":""},null,null,null,null,null,null,{"$f":"IF(COUNTA(EvaluaciónPatente6!C22)>0,0,IF(COUNTA(EvaluaciónPatente6!F22)>0,1,IF(COUNTA(EvaluaciónPatente6!I22)>0,2,\"\")))","v":""}]
[null,"1.3 Fuerza de la protección",{"$f":"IF(COUNTA(EvaluaciónPatente6!L26)>0,EvaluaciónPatente6!L26,\"\")","v":""},null,null,null,null,null,null,{"$f":"IF(COUNTA(EvaluaciónPatente6!C25)>0,0,IF(COUNTA(EvaluaciónPatente6!F25)>0,1,IF(COUNTA(EvaluaciónPatente6!I25)>0,2,\"\")))","v":""}]
[null,"1.4 Duración de la protección",{"$f":"IF(COUNTA(EvaluaciónPatente6!L29)>0,EvaluaciónPatente6!L29,\"\")","v":""},null,null,null,null,null,null,{"$f":"IF(COUNTA(EvaluaciónPatente6!C28)>0,0,IF(COUNTA(EvaluaciónPatente6!F28)>0,1,IF(COUNTA(EvaluaciónPatente6!I28)>0,2,\"\")))","v":""}]
[null,"1.5 Alcance de la protección",{"$f":"IF(COUNTA(EvaluaciónPatente6!L32)>0,EvaluaciónPatente6!L32,\"\")","v":""},null,null,null,null,null,null,{"$f":"IF(COUNTA(EvaluaciónPatente6!C31)>0,0,IF(COUNTA(EvaluaciónPatente6!F31)>0,1,IF(COUNTA(EvaluaciónPatente6!I31)>0,2,\"\")))","v":""}]
[null,"1.6 (In)dependencia",{"$f":"IF(COUNTA(EvaluaciónPatente6!L35)>0,EvaluaciónPatente6!L35,\"\")","v":""},null,null,null,null,null,null,{"$f":"IF(COUNTA(EvaluaciónPatente6!C34)>0,0,IF(COUNTA(EvaluaciónPatente6!F34)>0,1,IF(COUNTA(EvaluaciónPatente6!I34)>0,2,\"\")))","v":""}]
["2. Criterios tecnológicos  ","2.1 Capacidad de detección",{"$f":"IF(COUNTA(EvaluaciónPatente6!L40)>0,EvaluaciónPatente6!L40,\"\")","v":""},null,null,null,null,null,null,{"$f":"IF(COUNTA(EvaluaciónPatente6!C39)>0,0,IF(COUNTA(EvaluaciónPatente6!F39)>0,1,IF(COUNTA(EvaluaciónPatente6!I39)>0,2,\"\")))","v":""}]
[null,"2.2 Capacidad de imitación",{"$f":"IF(COUNTA(EvaluaciónPatente6!L43)>0,EvaluaciónPatente6!L43,\"\")","v":""},null,null,null,null,null,null,{"$f":"IF(COUNTA(EvaluaciónPatente6!C42)>0,0,IF(COUNTA(EvaluaciónPatente6!F42)>0,1,IF(COUNTA(EvaluaciónPatente6!I42)>0,2,\"\")))","v":""}]
[null,"2.3 Estado de desarrollo (TRL)",{"$f":"IF(COUNTA(EvaluaciónPatente6!L46)>0,EvaluaciónPatente6!L46,\"\")","v":""},null,null,null,null,null,null,{"$f":"IF(COUNTA(EvaluaciónPatente6!C45)>0,0,IF(COUNTA(EvaluaciónPatente6!F45)>0,1,IF(COUNTA(EvaluaciónPatente6!I45)>0,2,\"\")))","v":""}]
[null,"2.4 Proceso de producción / competencias ",{"$f":"IF(COUNTA(EvaluaciónPatente6!L49)>0,EvaluaciónPatente6!L49,\"\")","v":""},null,null,null,null,null,null,{"$f":"IF(COUNTA(EvaluaciónPatente6!C48)>0,0,IF(COUNTA(EvaluaciónPatente6!F48)>0,1,IF(COUNTA(EvaluaciónPatente6!I48)>0,2,\"\")))","v":""}]
[]
[null,null,"E = Evaluación",null,null,null,null,null,null,null,null,"Cubrir solo donde esté indicado"]
[]
[]
[]
[]
[]
[]
[]
["Criterios",null,"Observaciones",null,null,null,null,null,null,"E"]
["3. Criterios de mercado","3.1 Compromiso con la comercialización",{"$f":"IF(COUNTA(EvaluaciónPatente6!L54)>0,EvaluaciónPatente6!L54,\"\")","v":""},null,null,null,null,null,null,{"$f":"IF(COUNTA(EvaluaciónPatente6!C53)>0,0,IF(COUNTA(EvaluaciónPatente6!F53)>0,1,IF(COUNTA(EvaluaciónPatente6!I53)>0,2,\"\")))","v":""}]
[null,"3.2 Mercado potencial / Aplicaciones ",{"$f":"IF(COUNTA(EvaluaciónPatente6!L57)>0,EvaluaciónPatente6!L57,\"\")","v":""},null,null,null,null,null,null,{"$f":"IF(COUNTA(EvaluaciónPatente6!C56)>0,0,IF(COUNTA(EvaluaciónPatente6!F56)>0,1,IF(COUNTA(EvaluaciónPatente6!I56)>0,2,\"\")))","v":""}]
[null,"3.3 Evolución del mercado",{"$f":"IF(COUNTA(EvaluaciónPatente6!L60)>0,EvaluaciónPatente6!L60,\"\")","v":""},null,null,null,null,null,null,{"$f":"IF(COUNTA(EvaluaciónPatente6!C59)>0,0,IF(COUNTA(EvaluaciónPatente6!F59)>0,1,IF(COUNTA(EvaluaciónPatente6!I59)>0,2,\"\")))","v":""}]
[null,"3.4 Esperanza de vida en el mercado ",{"$f":"IF(COUNTA(EvaluaciónPatente6!L63)>0,EvaluaciónPatente6!L63,\"\")","v":""},null,null,null,null,null,null,{"$f":"IF(COUNTA(EvaluaciónPatente6!C62)>0,0,IF(COUNTA(EvaluaciónPatente6!F62)>0,1,IF(COUNTA(EvaluaciónPatente6!I62)>0,2,\"\")))","v":""}]
[null,"3.5 Entorno competitiva ",{"$f":"IF(COUNTA(EvaluaciónPatente6!L66)>0,EvaluaciónPatente6!L66,\"\")","v":""},null,null,null,null,null,null,{"$f":"IF(COUNTA(EvaluaciónPatente6!C65)>0,0,IF(COUNTA(EvaluaciónPatente6!F65)>0,1,IF(COUNTA(EvaluaciónPatente6!I65)>0,2,\"\")))","v":""}]
[null,"3.6 Permisos",{"$f":"IF(COUNTA(EvaluaciónPatente6!L69)>0,EvaluaciónPatente6!L69,\"\")","v":""},null,null,null,null,null,null,{"$f":"IF(COUNTA(EvaluaciónPatente6!C68)>0,0,IF(COUNTA(EvaluaciónPatente6!F68)>0,1,IF(COUNTA(EvaluaciónPatente6!I68)>0,2,\"\")))","v":""}]
[null,"3.7  Ventajas competitivas",{"$f":"IF(COUNTA(EvaluaciónPatente6!L72)>0,EvaluaciónPatente6!L72,\"\")","v":""},null,null,null,null,null,null,{"$f":"IF(COUNTA(EvaluaciónPatente6!C71)>0,0,IF(COUNTA(EvaluaciónPatente6!F71)>0,1,IF(COUNTA(EvaluaciónPatente6!I71)>0,2,\"\")))","v":""}]
[null,"3.8 Plazo de comercialización",{"$f":"IF(COUNTA(EvaluaciónPatente6!L75)>0,EvaluaciónPatente6!L75,\"\")","v":""},null,null,null,null,null,null,{"$f":"IF(COUNTA(EvaluaciónPatente6!C74)>0,0,IF(COUNTA(EvaluaciónPatente6!F74)>0,1,IF(COUNTA(EvaluaciónPatente6!I74)>0,2,\"\")))","v":""}]
[null,"3.9 Oportunidades comerciales y feedback",{"$f":"IF(COUNTA(EvaluaciónPatente6!L78)>0,EvaluaciónPatente6!L78,\"\")","v":""},null,null,null,null,null,null,{"$f":"IF(COUNTA(EvaluaciónPatente6!C77)>0,0,IF(COUNTA(EvaluaciónPatente6!F77)>0,1,IF(COUNTA(EvaluaciónPatente6!I77)>0,2,\"\")))","v":""}]
[null,null,null,null,null,null,null,null,null,null,null,"Cubrir solo donde esté indicado"]
[null,null,"E = Evaluación"]
[]
[]
[]
[]
[]
[]
[]
[]
["      2.2 Valoración general"]
[]
[]
[]
[]
[]
[]
[]
[]
[]
[]
[]
[]
[]
[]
[]
[]
[]
[]
[null,null,null,null,null,null,null,null,null,null,null,null,null,null,null,null," "]
[]
[]
[]
[]
["3. Conclusiones y observaciones"]
[]
["      3.1 Situación de la tecnología patentada de cara al proceso de una posible comercialización "]
[]
[null,"Tecnología patentada con alto potencial de transferencia o lista para transferir.",null,null,null,null,null,null,null,null,null,"Marcar una opción"]
[null,"Tecnología patentada pendiente de completar proceso de evaluación."]
[null,"Tecnología patentada con un grado de madurez que no es suficiente para iniciar un proceso de comercialización."]
[null,"Con la información aportada, la tecnología patentada no es de interés para un proceso de comercialización."]
[]
["         Justificación de la evaluación"]
[]
[null,null,null,null,null,null,null,null,null,null,null,"Indicar justificación de la evaluación"]
[{"$f":"IF(EvaluaciónPatente6!C19=\"x\", \"Patente no cumple con los requisitos mínimos. Patente revocada, expirada o caducada.\", \"\")","v":""}]
[{"$f":"IF(EvaluaciónPatente6!C22=\"x\", \"Patente no cumple con los requisitos mínimos. La protección de la patente es limitado a un mercado que no es su mercado principal. \", \"\")","v":""}]
[{"$f":"IF(EvaluaciónPatente6!C39=\"x\", \"Patente no cumple con los requisitos mínimos. Es muy difícil identificar los productos de imitación. \", \"\")","v":""}]
[{"$f":"IF(EvaluaciónPatente6!C53=\"x\", \"Patente no cumple con los requisitos mínimos. Recursos no asignados, la tecnología patentada no es clave para el equipo o el grupo. \", \"\")","v":""}]
[]
[]
[null,null,null,"   "]
["      3.2 Observaciones"]
[]
[null,null,null,null,null,null,null,null,null,null,null,"Indicar observaciones"]
[]
[]
[]
[]
[]
[]
[]
[]
[]
[]
[]
[]
[]
[]
[]
[]
[]
["      3.3 Implantación"]
[]
["Acciones",null,null,"Responsable",1,2,3,4,5,6,null,"Indicar proceso de implantación"]
[]
[]
[]
[]
[]
[]
[]
[]
[]
[]
[]
[]
[]
[]
[]
["4. Datos de la evaluación"]
[]
["Autor",null,null,null,null,"Fecha de realización"]
[{"$f":"IF(COUNTA(EvaluaciónPatente6!F12)>0,EvaluaciónPatente6!F12,\"\")","v":""},null,null,null,null,{"$f":"IF(COUNTA(EvaluaciónPatente6!F13)>0,EvaluaciónPatente6!F13,\"\")","v":""}]

{"sheet":"EvaluaciónPatente7","index":16,"n_rows":78,"n_cols":12,"rows_kept":78,"cut":false,"hidden":false,"merged":[[75,2,75,3],[57,2,57,3],[60,2,60,3],[63,2,63,3],[66,2,66,3],[69,2,69,3],[72,2,72,3],[54,2,54,3],[17,2,17,3],[20,2,20,8],[23,2,23,8],[26,2,26,8],[29,2,29,8],[32,2,32,8],[37,2,37,8],[40,2,40,8],[43,2,43,8],[46,2,46,8],[51,2,51,8],[10,1,10,3],[10,5,10,6],[11,1,11,3],[11,5,11,6],[12,1,12,3],[12,5,12,6]]}
[]
[]
[]
[]
[]
[]
[]
[]
[]
[]
[null,"Denominación de la tecnología patentada",null,null,null,null,null,null,null,"1. Incluir la denominación de la tecnología, el nombre del evaluador y la fecha de la evaluación"]
[null,"Nombre del evaluador",null,null,null,null,null,null,null,"2. Marcar con una «X» el nivel para cada criterio y los comentarios que justifiquen la elección"]
[null,"Fecha de evaluación de la tecnología patentada"]
[]
[null,"Criterios de evaluación"]
[]
[null,"1. Criterios legales"]
[null,null,"Criterio 1.1 Estado legal (Criterio de exclusión)"]
[null,null,null,"Desfavorable",null,null,"Neutro",null,null,"Favorable",null,"Comentarios"]
[null,null,null,"Patente revocada, expirada o caducada.",null,null,"-",null,null,"Por lo menos una solicitud de patente pendiente o patente concedida."]
[null,null,"Criterio 1.2 Alcance territorial (Criterio de exclusión)"]
[null,null,null,"Desfavorable",null,null,"Neutro",null,null,"Favorable",null,"Comentarios"]
[null,null,null,"La protección de la patente esta limitada a un mercado que no es su mercado principal. ",null,null,"-",null,null,"Protección en un país que es su mercado principal o en más de un país de la zona de mercado, o si la protección todavía está disponible para su elección (periodo de prioridad, PCT, EP)."]
[null,null,"Criterio 1.3 Fuerza de la protección"]
[null,null,null,"Desfavorable",null,null,"Neutro",null,null,"Favorable",null,"Comentarios"]
[null,null,null,"(PATENTES NO PUBLICADAS)\nNo se ha identificado el estado de\nla técnica o se ha identificado que\nel estado de la técnica no supone\nuna amenaza para la novedad y/o la\nactividad inventiva.\n(PATENTES PUBLICADAS)\nEvaluación de la patentabilidad por la\noficina nacional o similar existente, con\n2 o más documentos X.",null,null,"(PATENTES NO PUBLICADAS)\nSe ha identificado el estado de la\ntécnica y los documentos encontrados\nno suponen una amenaza para la\nnovedad. Sin embargo, la actividad\ninventiva es una cuestión de\ninterpretación.\n(PATENTES PUBLICADAS)\nExamen de la novedad por la oficina\nnacional o similar existente, con\ndocumentos X o Y, pero con potencial\nde conceder la patente.",null,null,"PATENTES NO PUBLICADAS)\nSe ha identificado el estado de la\ntécnica que no supone por el momento\nninguna amenaza para la novedad y la\nactividad inventiva.\n(PATENTES PUBLICADAS)\nExamen de la novedad por la oficina\nnacional o similar existente, sin\ndocumentos X o patente concedida."]
[null,null,"Criterio 1.4 Duración de la protección"]
[null,null,null,"Desfavorable",null,null,"Neutro",null,null,"Favorable",null,"Comentarios"]
[null,null,null,"A la patente le quedan menos de 6 años.",null,null,"A la patente le quedan 6-12 años",null,null,"A la patente le quedan más de 12 años"]
[null,null,"Criterio 1.5 Alcance de la protección "]
[null,null,null,"Desfavorable",null,null,"Neutro",null,null,"Favorable",null,"Comentarios"]
[null,null,null,"Las reivindicaciones son muy concretas y específicas.",null,null,"Las reivindicaciones son razonablemente amplias.",null,null,"Las reivindicaciones comprenden un principio general."]
[null,null,"Criterio 1.6 (In)dependencia"]
[null,null,null,"Desfavorable",null,null,"Neutro",null,null,"Favorable",null,"Comentarios"]
[null,null,null,"El uso de la patente depende de cotitulares fuera del ámbito habitual o de cotitulares con menos de 5% cotitularidad dentro del ámbito habitual.",null,null,"El uso de la patente depende de cotitulares, pero dentro del ámbito habitual.",null,null,"La patente no tiene cotitulares. El uso y la explotación de la patente es independiente de acuerdos con cotitulares."]
[]
[null,"2. Criterios tecnológicos "]
[null,null,"Criterio 2.1 Capacidad de detección (Criterio de exclusión y madurez)"]
[null,null,null,"Desfavorable",null,null,"Neutro",null,null,"Favorable",null,"Comentarios"]
[null,null,null,"Es muy difícil identificar los productos\nde imitación. Es prácticamente\nimposible de detectar el uso ilegal de\nun procedimiento, un método o el uso\nde un compuesto.",null,null,"Es difícil pero no imposible identificar\nproductos de imitación. La detección\nde un uso ilegal de un procedimiento,\nun método o el uso de un compuesto\nes posible, aunque difícil.",null,null,"Es fácil identificar los productos\nilegales de imitación. La detección de\nun uso ilegal de un procedimiento, un\nmétodo o el uso de un compuesto es\nfácil."]
[null,null,"Criterio 2.2 Capacidad de imitación"]
[null,null,null,"Desfavorable",null,null,"Neutro",null,null,"Favorable",null,"Comentarios"]
[null,null,null,"La tecnología patentada es fácil de identificar, copiar y producir.",null,null,"Es posible copiar y producir la tecnología patentada por ejemplo mediante ingeniería inversa.",null,null,"La tecnología patentada es muy difícil de copiar y producir."]
[null,null,"Criterio 2.3 Estado de desarrollo (TRL)"]
[null,null,null,"Desfavorable",null,null,"Neutro",null,null,"Favorable",null,"Comentarios"]
[null,null,null,"Entrono laboratorio: la invención ha sido probada, en teoría, de acuerdo con cálculos (TRL 1-2).",null,null,"Se han realizado experimentos, se han desarrollado prototipos (TRL 3-4).",null,null,"Demostración de la invención en un entorno real (TRL ≥5)."]
[null,null,"Criterio 2.4 Proceso de producción"]
[null,null,null,"Desfavorable",null,null,"Neutro",null,null,"Favorable",null,"Comentarios"]
[null,null,null,"La tecnología patentada requiere un proceso de producción completamente nuevo o modifica fundamentalmente el procedimiento actualmente en uso.",null,null,"Se requiere el desarrollo de los procesos de producción actualmente aplicados antes de poder utilizar o producir la tecnología patentada.",null,null,"La tecnología patentada puede utilizarse o producirse con el proceso de producción actualmente aplicado."]
[]
[null,"3. Criterios de mercado"]
[null,null,"Criterio 3.1 Compromiso con la comercialización (Criterio de exclusión y madurez)"]
[null,null,null,"Desfavorable",null,null,"Neutro",null,null,"Favorable",null,"Comentarios"]
[null,null,null,"Recursos no asignados, la tecnología patentada no es clave para el equipo o el grupo.",null,null,"Personas asignadas a la tecnología patentada, pero sin funciones definidas. El proceso de transferencia no es una prioridad. ",null,null,"Proyecto clave dentro de la estrategia de transferencia del grupo o equipo. Hay personas asignadas para participar en el proceso con roles establecidos."]
[null,null,"Criterio 3.2 Mercado potencial / Aplicaciones"]
[null,null,null,"Desfavorable",null,null,"Neutro",null,null,"Favorable",null,"Comentarios"]
[null,null,null,"La tecnología patentada aún no se ha dirigido a un mercado concreto o se dirige a un mercado pequeño. No está confirmado el sector de aplicación.",null,null,"Existe un mercado conocido para la tecnología patentada con un tamaño significativo dentro del -ámbito tecnológico. La aplicación se limita a un sector industrial.",null,null,"Existe un mercado conocido y grande, así como otros mercados significativos. Se han identificado numerosos ámbitos de aplicación."]
[null,null,"Criterio 3.3 Evolución del mercado"]
[null,null,null,"Desfavorable",null,null,"Neutro",null,null,"Favorable",null,"Comentarios"]
[null,null,null,"Bajo (CAGR < 4%).",null,null,"Medio (CAGR 4-8%).",null,null,"Alto (CAGR >8%)."]
[null,null,"Criterio 3.4 Esperanza de vida en el mercado"]
[null,null,null,"Desfavorable",null,null,"Neutro",null,null,"Favorable",null,"Comentarios"]
[null,null,null,"Inferior a 2 años.",null,null,"Entre 2 -5 años.",null,null,"Más de 5 años."]
[null,null,"Criterio 3.5 Entorno competitivo"]
[null,null,null,"Desfavorable",null,null,"Neutro",null,null,"Favorable",null,"Comentarios"]
[null,null,null,"No se identificaron los competidores ni productos sustitutivos.",null,null,"Situación dominante de un grupo restringido de empresas o limitado a un número escaso de empresas.",null,null,"Entorno competitivo detectado y definido. Mercado accesible y abierto."]
[null,null,"Criterio 3.6 Permisos y estándares de mercado"]
[null,null,null,"Desfavorable",null,null,"Neutro",null,null,"Favorable",null,"Comentarios"]
[null,null,null,"Se necesitan permisos o/y se tienen\nque cumplir estándares para vender\nproductos en el mercado, pero aún\nno se han identificado y analizado los\nrequisitos.",null,null,"Permisos y/o estándares necesarios\ndetectados y analizados o aplicación\nde permisos en proceso.",null,null,"No es necesario un permiso ni se\ntienen que cumplir estándares para la\nventa de productos en el mercado."]
[null,null,"Criterio 3.7 Ventajas competitivas"]
[null,null,null,"Desfavorable",null,null,"Neutro",null,null,"Favorable",null,"Comentarios"]
[null,null,null,"No se han detectado las ventajas competitivas.",null,null,"Se han definido las ventajas competitivas. La tecnología patentada ofrece al menos 1-2 ventajas sobre las tecnologías y productos existentes.",null,null,"La tecnología patentada proporciona características realmente innovadoras y distintivas que pueden utilizarse para la comercialización y la venta de posibles productos."]
[null,null,"Criterio 3.8 Plazo de comercialización"]
[null,null,null,"Desfavorable",null,null,"Neutro",null,null,"Favorable",null,"Comentarios"]
[null,null,null,"Superior a 3 años.",null,null,"Entre 2-3 años.",null,null,"Inferior a 2 años."]
[null,null,"Criterio 3.9 Oportunidades comerciales y feedback"]
[null,null,null,"Desfavorable",null,null,"Neutro",null,null,"Favorable",null,"Comentarios"]
[null,null,null,"El equipo investigador no tiene\nconocimiento sobre el entorno\ncomercial de la tecnología patentada.\nNo existe feedback por parte de\nempresas interesadas, o solo feedback\nnegativo.",null,null,"El equipo investigador tiene\noportunidades comerciales detectadas\ny conoce empresas y entidades\ninteresadas. Existe feedback por parte\nde empresas interesadas, pero sin\nintención para una cooperación.",null,null,"El equipo investigador ya ha tenido\ncontacto con empresas y entidades\ninteresadas y tiene varias oportunidades\ncomerciales detectadas. Existe feedback\npor parte de empresas interesadas, con\nintención para una cooperación."]

{"sheet":"InformePatente7","index":17,"n_rows":146,"n_cols":17,"rows_kept":146,"cut":false,"hidden":false,"merged":[[145,5,145,9],[46,2,46,8],[47,2,47,8],[48,2,48,8],[49,2,49,8],[50,2,50,8],[144,5,144,9],[28,0,31,0],[28,2,28,8],[29,2,29,8],[30,2,30,8],[31,2,31,8],[42,0,50,0],[42,2,42,8],[43,2,43,8],[44,2,44,8],[45,2,45,8],[14,0,14,9],[21,0,21,1],[22,0,27,0],[22,2,22,8],[23,2,23,8],[24,2,24,8],[25,2,25,8],[26,2,26,8],[27,2,27,8]]}
[]
[null,null,null,null,null,null,null,null,null,null,null,null,null,null,null,"Promedio"]
[null,null,null,null,null,null,null,null,null,null,null,null,null,null,null,"Criterios legales",{"$f":"IF(COUNT(SUM(J25,J26,J27,J28))>0,SUM(J25,J26,J27,J28)/8,-9999999999)","v":0}]
[null,null,null,null,null,null,null,null,null,null,null,null,null,null,null,"Criterios tecnológicos ",{"$f":"IF(COUNT(SUM(J29,J30,J31,J32))>0,SUM(J29,J30,J31,J32)/8,-9999999999)","v":0}]
[null,null,null,null,null,null,null,null,null,null,null,null,null,null,null,"Criterios de mercado",{"$f":"IF(COUNT(SUM(J43,J45,J44,J46,J47,J48,J49,J50,J51))>0,SUM(J43,J45,J44,J46,J47,J48,J49,J50,J51)/18,-9999999999)","v":0}]
[]
[]
[null,null,null,null,null,null,null,null,null,null,null,"Cubrir solo donde esté indicado"]
[]
[]
["INFORME DE EVALUACIÓN"]
[]
["1. Título"]
[]
[{"$f":"IF(COUNTA(EvaluaciónPatente7!F11)>0,EvaluaciónPatente7!F11,\"\")","v":""}]
[]
[]
["2. Evaluación"]
[]
["      2.1 Evaluación de criterios "]
[]
["Criterios",null,"Observaciones",null,null,null,null,null,null,"E"]
["1. Criterios legales","1.1 Estado legal ",{"$f":"IF(COUNTA(EvaluaciónPatente7!L20)>0,EvaluaciónPatente7!L20,\"\")","v":""},null,null,null,null,null,null,{"$f":"IF(COUNTA(EvaluaciónPatente7!C19)>0,0,IF(COUNTA(EvaluaciónPatente7!F19)>0,1,IF(COUNTA(EvaluaciónPatente7!I19)>0,2,\"\")))","v":""}]
[null,"1.2  Alcance territorial ",{"$f":"IF(COUNTA(EvaluaciónPatente7!L23)>0,EvaluaciónPatente7!L23,\"\")","v":""},null,null,null,null,null,null,{"$f":"IF(COUNTA(EvaluaciónPatente7!C22)>0,0,IF(COUNTA(EvaluaciónPatente7!F22)>0,1,IF(COUNTA(EvaluaciónPatente7!I22)>0,2,\"\")))","v":""}]
[null,"1.3 Fuerza de la protección",{"$f":"IF(COUNTA(EvaluaciónPatente7!L26)>0,EvaluaciónPatente7!L26,\"\")","v":""},null,null,null,null,null,null,{"$f":"IF(COUNTA(EvaluaciónPatente7!C25)>0,0,IF(COUNTA(EvaluaciónPatente7!F25)>0,1,IF(COUNTA(EvaluaciónPatente7!I25)>0,2,\"\")))","v":""}]
[null,"1.4 Duración de la protección",{"$f":"IF(COUNTA(EvaluaciónPatente7!L29)>0,EvaluaciónPatente7!L29,\"\")","v":""},null,null,null,null,null,null,{"$f":"IF(COUNTA(EvaluaciónPatente7!C28)>0,0,IF(COUNTA(EvaluaciónPatente7!F28)>0,1,IF(COUNTA(EvaluaciónPatente7!I28)>0,2,\"\")))","v":""}]
[null,"1.5 Alcance de la protección",{"$f":"IF(COUNTA(EvaluaciónPatente7!L32)>0,EvaluaciónPatente7!L32,\"\")","v":""},null,null,null,null,null,null,{"$f":"IF(COUNTA(EvaluaciónPatente7!C31)>0,0,IF(COUNTA(EvaluaciónPatente7!F31)>0,1,IF(COUNTA(EvaluaciónPatente7!I31)>0,2,\"\")))","v":""}]
[null,"1.6 (In)dependencia",{"$f":"IF(COUNTA(EvaluaciónPatente7!L35)>0,EvaluaciónPatente7!L35,\"\")","v":""},null,null,null,null,null,null,{"$f":"IF(COUNTA(EvaluaciónPatente7!C34)>0,0,IF(COUNTA(EvaluaciónPatente7!F34)>0,1,IF(COUNTA(EvaluaciónPatente7!I34)>0,2,\"\")))","v":""}]
["2. Criterios tecnológicos  ","2.1 Capacidad de detección",{"$f":"IF(COUNTA(EvaluaciónPatente7!L40)>0,EvaluaciónPatente7!L40,\"\")","v":""},null,null,null,null,null,null,{"$f":"IF(COUNTA(EvaluaciónPatente7!C39)>0,0,IF(COUNTA(EvaluaciónPatente7!F39)>0,1,IF(COUNTA(EvaluaciónPatente7!I39)>0,2,\"\")))","v":""}]
[null,"2.2 Capacidad de imitación",{"$f":"IF(COUNTA(EvaluaciónPatente7!L43)>0,EvaluaciónPatente7!L43,\"\")","v":""},null,null,null,null,null,null,{"$f":"IF(COUNTA(EvaluaciónPatente7!C42)>0,0,IF(COUNTA(EvaluaciónPatente7!F42)>0,1,IF(COUNTA(EvaluaciónPatente7!I42)>0,2,\"\")))","v":""}]
[null,"2.3 Estado de desarrollo (TRL)",{"$f":"IF(COUNTA(EvaluaciónPatente7!L46)>0,EvaluaciónPatente7!L46,\"\")","v":""},null,null,null,null,null,null,{"$f":"IF(COUNTA(EvaluaciónPatente7!C45)>0,0,IF(COUNTA(EvaluaciónPatente7!F45)>0,1,IF(COUNTA(EvaluaciónPatente7!I45)>0,2,\"\")))","v":""}]
[null,"2.4 Proceso de producción / competencias ",{"$f":"IF(COUNTA(EvaluaciónPatente7!L49)>0,EvaluaciónPatente7!L49,\"\")","v":""},null,null,null,null,null,null,{"$f":"IF(COUNTA(EvaluaciónPatente7!C48)>0,0,IF(COUNTA(EvaluaciónPatente7!F48)>0,1,IF(COUNTA(EvaluaciónPatente7!I48)>0,2,\"\")))","v":""}]
[]
[null,null,"E = Evaluación",null,null,null,null,null,null,null,null,"Cubrir solo donde esté indicado"]
[]
[]
[]
[]
[]
[]
[]
["Criterios",null,"Observaciones",null,null,null,null,null,null,"E"]
["3. Criterios de mercado","3.1 Compromiso con la comercialización",{"$f":"IF(COUNTA(EvaluaciónPatente7!L54)>0,EvaluaciónPatente7!L54,\"\")","v":""},null,null,null,null,null,null,{"$f":"IF(COUNTA(EvaluaciónPatente7!C53)>0,0,IF(COUNTA(EvaluaciónPatente7!F53)>0,1,IF(COUNTA(EvaluaciónPatente7!I53)>0,2,\"\")))","v":""}]
[null,"3.2 Mercado potencial / Aplicaciones ",{"$f":"IF(COUNTA(EvaluaciónPatente7!L57)>0,EvaluaciónPatente7!L57,\"\")","v":""},null,null,null,null,null,null,{"$f":"IF(COUNTA(EvaluaciónPatente7!C56)>0,0,IF(COUNTA(EvaluaciónPatente7!F56)>0,1,IF(COUNTA(EvaluaciónPatente7!I56)>0,2,\"\")))","v":""}]
[null,"3.3 Evolución del mercado",{"$f":"IF(COUNTA(EvaluaciónPatente7!L60)>0,EvaluaciónPatente7!L60,\"\")","v":""},null,null,null,null,null,null,{"$f":"IF(COUNTA(EvaluaciónPatente7!C59)>0,0,IF(COUNTA(EvaluaciónPatente7!F59)>0,1,IF(COUNTA(EvaluaciónPatente7!I59)>0,2,\"\")))","v":""}]
[null,"3.4 Esperanza de vida en el mercado ",{"$f":"IF(COUNTA(EvaluaciónPatente7!L63)>0,EvaluaciónPatente7!L63,\"\")","v":""},null,null,null,null,null,null,{"$f":"IF(COUNTA(EvaluaciónPatente7!C62)>0,0,IF(COUNTA(EvaluaciónPatente7!F62)>0,1,IF(COUNTA(EvaluaciónPatente7!I62)>0,2,\"\")))","v":""}]
[null,"3.5 Entorno competitiva ",{"$f":"IF(COUNTA(EvaluaciónPatente7!L66)>0,EvaluaciónPatente7!L66,\"\")","v":""},null,null,null,null,null,null,{"$f":"IF(COUNTA(EvaluaciónPatente7!C65)>0,0,IF(COUNTA(EvaluaciónPatente7!F65)>0,1,IF(COUNTA(EvaluaciónPatente7!I65)>0,2,\"\")))","v":""}]
[null,"3.6 Permisos",{"$f":"IF(COUNTA(EvaluaciónPatente7!L69)>0,EvaluaciónPatente7!L69,\"\")","v":""},null,null,null,null,null,null,{"$f":"IF(COUNTA(EvaluaciónPatente7!C68)>0,0,IF(COUNTA(EvaluaciónPatente7!F68)>0,1,IF(COUNTA(EvaluaciónPatente7!I68)>0,2,\"\")))","v":""}]
[null,"3.7  Ventajas competitivas",{"$f":"IF(COUNTA(EvaluaciónPatente7!L72)>0,EvaluaciónPatente7!L72,\"\")","v":""},null,null,null,null,null,null,{"$f":"IF(COUNTA(EvaluaciónPatente7!C71)>0,0,IF(COUNTA(EvaluaciónPatente7!F71)>0,1,IF(COUNTA(EvaluaciónPatente7!I71)>0,2,\"\")))","v":""}]
[null,"3.8 Plazo de comercialización",{"$f":"IF(COUNTA(EvaluaciónPatente7!L75)>0,EvaluaciónPatente7!L75,\"\")","v":""},null,null,null,null,null,null,{"$f":"IF(COUNTA(EvaluaciónPatente7!C74)>0,0,IF(COUNTA(EvaluaciónPatente7!F74)>0,1,IF(COUNTA(EvaluaciónPatente7!I74)>0,2,\"\")))","v":""}]
[null,"3.9 Oportunidades comerciales y feedback",{"$f":"IF(COUNTA(EvaluaciónPatente7!L78)>0,EvaluaciónPatente7!L78,\"\")","v":""},null,null,null,null,null,null,{"$f":"IF(COUNTA(EvaluaciónPatente7!C77)>0,0,IF(COUNTA(EvaluaciónPatente7!F77)>0,1,IF(COUNTA(EvaluaciónPatente7!I77)>0,2,\"\")))","v":""}]
[null,null,null,null,null,null,null,null,null,null,null,"Cubrir solo donde esté indicado"]
[null,null,"E = Evaluación"]
[]
[]
[]
[]
[]
[]
[]
[]
["      2.2 Valoración general"]
[]
[]
[]
[]
[]
[]
[]
[]
[]
[]
[]
[]
[]
[]
[]
[]
[]
[]
[null,null,null,null,null,null,null,null,null,null,null,null,null,null,null,null," "]
[]
[]
[]
[]
["3. Conclusiones y observaciones"]
[]
["      3.1 Situación de la tecnología patentada de cara al proceso de una posible comercialización "]
[]
[null,"Tecnología patentada con alto potencial de transferencia o lista para transferir.",null,null,null,null,null,null,null,null,null,"Marcar una opción"]
[null,"Tecnología patentada pendiente de completar proceso de evaluación."]
[null,"Tecnología patentada con un grado de madurez que no es suficiente para iniciar un proceso de comercialización."]
[null,"Con la información aportada, la tecnología patentada no es de interés para un proceso de comercialización."]
[]
["         Justificación de la evaluación"]
[]
[null,null,null,null,null,null,null,null,null,null,null,"Indicar justificación de la evaluación"]
[{"$f":"IF(EvaluaciónPatente7!C19=\"x\", \"Patente no cumple con los requisitos mínimos. Patente revocada, expirada o caducada.\", \"\")","v":""}]
[{"$f":"IF(EvaluaciónPatente7!C22=\"x\", \"Patente no cumple con los requisitos mínimos. La protección de la patente es limitado a un mercado que no es su mercado principal. \", \"\")","v":""}]
[{"$f":"IF(EvaluaciónPatente7!C39=\"x\", \"Patente no cumple con los requisitos mínimos. Es muy difícil identificar los productos de imitación. \", \"\")","v":""}]
[{"$f":"IF(EvaluaciónPatente7!C53=\"x\", \"Patente no cumple con los requisitos mínimos. Recursos no asignados, la tecnología patentada no es clave para el equipo o el grupo. \", \"\")","v":""}]
[]
[]
[null,null,null,"   "]
["      3.2 Observaciones"]
[]
[null,null,null,null,null,null,null,null,null,null,null,"Indicar observaciones"]
[]
[]
[]
[]
[]
[]
[]
[]
[]
[]
[]
[]
[]
[]
[]
[]
[]
["      3.3 Implantación"]
[]
["Acciones",null,null,"Responsable",1,2,3,4,5,6,null,"Indicar proceso de implantación"]
[]
[]
[]
[]
[]
[]
[]
[]
[]
[]
[]
[]
[]
[]
[]
["4. Datos de la evaluación"]
[]
["Autor",null,null,null,null,"Fecha de realización"]
[{"$f":"IF(COUNTA(EvaluaciónPatente7!F12)>0,EvaluaciónPatente7!F12,\"\")","v":""},null,null,null,null,{"$f":"IF(COUNTA(EvaluaciónPatente7!F13)>0,EvaluaciónPatente7!F13,\"\")","v":""}]

{"sheet":"EvaluaciónPatente8","index":18,"n_rows":78,"n_cols":12,"rows_kept":78,"cut":false,"hidden":false,"merged":[[75,2,75,3],[57,2,57,3],[60,2,60,3],[63,2,63,3],[66,2,66,3],[69,2,69,3],[72,2,72,3],[54,2,54,3],[17,2,17,3],[20,2,20,8],[23,2,23,8],[26,2,26,8],[29,2,29,8],[32,2,32,8],[37,2,37,8],[40,2,40,8],[43,2,43,8],[46,2,46,8],[51,2,51,8],[10,1,10,3],[10,5,10,6],[11,1,11,3],[11,5,11,6],[12,1,12,3],[12,5,12,6]]}
[]
[]
[]
[]
[]
[]
[]
[]
[]
[]
[null,"Denominación de la tecnología patentada",null,null,null,null,null,null,null,"1. Incluir la denominación de la tecnología, el nombre del evaluador y la fecha de la evaluación"]
[null,"Nombre del evaluador",null,null,null,null,null,null,null,"2. Marcar con una «X» el nivel para cada criterio y los comentarios que justifiquen la elección"]
[null,"Fecha de evaluación de la tecnología patentada"]
[]
[null,"Criterios de evaluación"]
[]
[null,"1. Criterios legales"]
[null,null,"Criterio 1.1 Estado legal (Criterio de exclusión)"]
[null,null,null,"Desfavorable",null,null,"Neutro",null,null,"Favorable",null,"Comentarios"]
[null,null,null,"Patente revocada, expirada o caducada.",null,null,"-",null,null,"Por lo menos una solicitud de patente pendiente o patente concedida."]
[null,null,"Criterio 1.2 Alcance territorial (Criterio de exclusión)"]
[null,null,null,"Desfavorable",null,null,"Neutro",null,null,"Favorable",null,"Comentarios"]
[null,null,null,"La protección de la patente esta limitada a un mercado que no es su mercado principal. ",null,null,"-",null,null,"Protección en un país que es su mercado principal o en más de un país de la zona de mercado, o si la protección todavía está disponible para su elección (periodo de prioridad, PCT, EP)."]
[null,null,"Criterio 1.3 Fuerza de la protección"]
[null,null,null,"Desfavorable",null,null,"Neutro",null,null,"Favorable",null,"Comentarios"]
[null,null,null,"(PATENTES NO PUBLICADAS)\nNo se ha identificado el estado de\nla técnica o se ha identificado que\nel estado de la técnica no supone\nuna amenaza para la novedad y/o la\nactividad inventiva.\n(PATENTES PUBLICADAS)\nEvaluación de la patentabilidad por la\noficina nacional o similar existente, con\n2 o más documentos X.",null,null,"(PATENTES NO PUBLICADAS)\nSe ha identificado el estado de la\ntécnica y los documentos encontrados\nno suponen una amenaza para la\nnovedad. Sin embargo, la actividad\ninventiva es una cuestión de\ninterpretación.\n(PATENTES PUBLICADAS)\nExamen de la novedad por la oficina\nnacional o similar existente, con\ndocumentos X o Y, pero con potencial\nde conceder la patente.",null,null,"PATENTES NO PUBLICADAS)\nSe ha identificado el estado de la\ntécnica que no supone por el momento\nninguna amenaza para la novedad y la\nactividad inventiva.\n(PATENTES PUBLICADAS)\nExamen de la novedad por la oficina\nnacional o similar existente, sin\ndocumentos X o patente concedida."]
[null,null,"Criterio 1.4 Duración de la protección"]
[null,null,null,"Desfavorable",null,null,"Neutro",null,null,"Favorable",null,"Comentarios"]
[null,null,null,"A la patente le quedan menos de 6 años.",null,null,"A la patente le quedan 6-12 años",null,null,"A la patente le quedan más de 12 años"]
[null,null,"Criterio 1.5 Alcance de la protección "]
[null,null,null,"Desfavorable",null,null,"Neutro",null,null,"Favorable",null,"Comentarios"]
[null,null,null,"Las reivindicaciones son muy concretas y específicas.",null,null,"Las reivindicaciones son razonablemente amplias.",null,null,"Las reivindicaciones comprenden un principio general."]
[null,null,"Criterio 1.6 (In)dependencia"]
[null,null,null,"Desfavorable",null,null,"Neutro",null,null,"Favorable",null,"Comentarios"]
[null,null,null,"El uso de la patente depende de cotitulares fuera del ámbito habitual o de cotitulares con menos de 5% cotitularidad dentro del ámbito habitual.",null,null,"El uso de la patente depende de cotitulares, pero dentro del ámbito habitual.",null,null,"La patente no tiene cotitulares. El uso y la explotación de la patente es independiente de acuerdos con cotitulares."]
[]
[null,"2. Criterios tecnológicos "]
[null,null,"Criterio 2.1 Capacidad de detección (Criterio de exclusión y madurez)"]
[null,null,null,"Desfavorable",null,null,"Neutro",null,null,"Favorable",null,"Comentarios"]
[null,null,null,"Es muy difícil identificar los productos\nde imitación. Es prácticamente\nimposible de detectar el uso ilegal de\nun procedimiento, un método o el uso\nde un compuesto.",null,null,"Es difícil pero no imposible identificar\nproductos de imitación. La detección\nde un uso ilegal de un procedimiento,\nun método o el uso de un compuesto\nes posible, aunque difícil.",null,null,"Es fácil identificar los productos\nilegales de imitación. La detección de\nun uso ilegal de un procedimiento, un\nmétodo o el uso de un compuesto es\nfácil."]
[null,null,"Criterio 2.2 Capacidad de imitación"]
[null,null,null,"Desfavorable",null,null,"Neutro",null,null,"Favorable",null,"Comentarios"]
[null,null,null,"La tecnología patentada es fácil de identificar, copiar y producir.",null,null,"Es posible copiar y producir la tecnología patentada por ejemplo mediante ingeniería inversa.",null,null,"La tecnología patentada es muy difícil de copiar y producir."]
[null,null,"Criterio 2.3 Estado de desarrollo (TRL)"]
[null,null,null,"Desfavorable",null,null,"Neutro",null,null,"Favorable",null,"Comentarios"]
[null,null,null,"Entrono laboratorio: la invención ha sido probada, en teoría, de acuerdo con cálculos (TRL 1-2).",null,null,"Se han realizado experimentos, se han desarrollado prototipos (TRL 3-4).",null,null,"Demostración de la invención en un entorno real (TRL ≥5)."]
[null,null,"Criterio 2.4 Proceso de producción"]
[null,null,null,"Desfavorable",null,null,"Neutro",null,null,"Favorable",null,"Comentarios"]
[null,null,null,"La tecnología patentada requiere un proceso de producción completamente nuevo o modifica fundamentalmente el procedimiento actualmente en uso.",null,null,"Se requiere el desarrollo de los procesos de producción actualmente aplicados antes de poder utilizar o producir la tecnología patentada.",null,null,"La tecnología patentada puede utilizarse o producirse con el proceso de producción actualmente aplicado."]
[]
[null,"3. Criterios de mercado"]
[null,null,"Criterio 3.1 Compromiso con la comercialización (Criterio de exclusión y madurez)"]
[null,null,null,"Desfavorable",null,null,"Neutro",null,null,"Favorable",null,"Comentarios"]
[null,null,null,"Recursos no asignados, la tecnología patentada no es clave para el equipo o el grupo.",null,null,"Personas asignadas a la tecnología patentada, pero sin funciones definidas. El proceso de transferencia no es una prioridad. ",null,null,"Proyecto clave dentro de la estrategia de transferencia del grupo o equipo. Hay personas asignadas para participar en el proceso con roles establecidos."]
[null,null,"Criterio 3.2 Mercado potencial / Aplicaciones"]
[null,null,null,"Desfavorable",null,null,"Neutro",null,null,"Favorable",null,"Comentarios"]
[null,null,null,"La tecnología patentada aún no se ha dirigido a un mercado concreto o se dirige a un mercado pequeño. No está confirmado el sector de aplicación.",null,null,"Existe un mercado conocido para la tecnología patentada con un tamaño significativo dentro del -ámbito tecnológico. La aplicación se limita a un sector industrial.",null,null,"Existe un mercado conocido y grande, así como otros mercados significativos. Se han identificado numerosos ámbitos de aplicación."]
[null,null,"Criterio 3.3 Evolución del mercado"]
[null,null,null,"Desfavorable",null,null,"Neutro",null,null,"Favorable",null,"Comentarios"]
[null,null,null,"Bajo (CAGR < 4%).",null,null,"Medio (CAGR 4-8%).",null,null,"Alto (CAGR >8%)."]
[null,null,"Criterio 3.4 Esperanza de vida en el mercado"]
[null,null,null,"Desfavorable",null,null,"Neutro",null,null,"Favorable",null,"Comentarios"]
[null,null,null,"Inferior a 2 años.",null,null,"Entre 2 -5 años.",null,null,"Más de 5 años."]
[null,null,"Criterio 3.5 Entorno competitivo"]
[null,null,null,"Desfavorable",null,null,"Neutro",null,null,"Favorable",null,"Comentarios"]
[null,null,null,"No se identificaron los competidores ni productos sustitutivos.",null,null,"Situación dominante de un grupo restringido de empresas o limitado a un número escaso de empresas.",null,null,"Entorno competitivo detectado y definido. Mercado accesible y abierto."]
[null,null,"Criterio 3.6 Permisos y estándares de mercado"]
[null,null,null,"Desfavorable",null,null,"Neutro",null,null,"Favorable",null,"Comentarios"]
[null,null,null,"Se necesitan permisos o/y se tienen\nque cumplir estándares para vender\nproductos en el mercado, pero aún\nno se han identificado y analizado los\nrequisitos.",null,null,"Permisos y/o estándares necesarios\ndetectados y analizados o aplicación\nde permisos en proceso.",null,null,"No es necesario un permiso ni se\ntienen que cumplir estándares para la\nventa de productos en el mercado."]
[null,null,"Criterio 3.7 Ventajas competitivas"]
[null,null,null,"Desfavorable",null,null,"Neutro",null,null,"Favorable",null,"Comentarios"]
[null,null,null,"No se han detectado las ventajas competitivas.",null,null,"Se han definido las ventajas competitivas. La tecnología patentada ofrece al menos 1-2 ventajas sobre las tecnologías y productos existentes.",null,null,"La tecnología patentada proporciona características realmente innovadoras y distintivas que pueden utilizarse para la comercialización y la venta de posibles productos."]
[null,null,"Criterio 3.8 Plazo de comercialización"]
[null,null,null,"Desfavorable",null,null,"Neutro",null,null,"Favorable",null,"Comentarios"]
[null,null,null,"Superior a 3 años.",null,null,"Entre 2-3 años.",null,null,"Inferior a 2 años."]
[null,null,"Criterio 3.9 Oportunidades comerciales y feedback"]
[null,null,null,"Desfavorable",null,null,"Neutro",null,null,"Favorable",null,"Comentarios"]
[null,null,null,"El equipo investigador no tiene\nconocimiento sobre el entorno\ncomercial de la tecnología patentada.\nNo existe feedback por parte de\nempresas interesadas, o solo feedback\nnegativo.",null,null,"El equipo investigador tiene\noportunidades comerciales detectadas\ny conoce empresas y entidades\ninteresadas. Existe feedback por parte\nde empresas interesadas, pero sin\nintención para una cooperación.",null,null,"El equipo investigador ya ha tenido\ncontacto con empresas y entidades\ninteresadas y tiene varias oportunidades\ncomerciales detectadas. Existe feedback\npor parte de empresas interesadas, con\nintención para una cooperación."]

{"sheet":"InformePatente8","index":19,"n_rows":146,"n_cols":17,"rows_kept":146,"cut":false,"hidden":false,"merged":[[145,5,145,9],[46,2,46,8],[47,2,47,8],[48,2,48,8],[49,2,49,8],[50,2,50,8],[144,5,144,9],[28,0,31,0],[28,2,28,8],[29,2,29,8],[30,2,30,8],[31,2,31,8],[42,0,50,0],[42,2,42,8],[43,2,43,8],[44,2,44,8],[45,2,45,8],[14,0,14,9],[21,0,21,1],[22,0,27,0],[22,2,22,8],[23,2,23,8],[24,2,24,8],[25,2,25,8],[26,2,26,8],[27,2,27,8]]}
[]
[null,null,null,null,null,null,null,null,null,null,null,null,null,null,null,"Promedio"]
[null,null,null,null,null,null,null,null,null,null,null,null,null,null,null,"Criterios legales",{"$f":"IF(COUNT(SUM(J25,J26,J27,J28))>0,SUM(J25,J26,J27,J28)/8,-9999999999)","v":0}]
[null,null,null,null,null,null,null,null,null,null,null,null,null,null,null,"Criterios tecnológicos ",{"$f":"IF(COUNT(SUM(J29,J30,J31,J32))>0,SUM(J29,J30,J31,J32)/8,-9999999999)","v":0}]
[null,null,null,null,null,null,null,null,null,null,null,null,null,null,null,"Criterios de mercado",{"$f":"IF(COUNT(SUM(J43,J45,J44,J46,J47,J48,J49,J50,J51))>0,SUM(J43,J45,J44,J46,J47,J48,J49,J50,J51)/18,-9999999999)","v":0}]
[]
[]
[null,null,null,null,null,null,null,null,null,null,null,"Cubrir solo donde esté indicado"]
[]
[]
["INFORME DE EVALUACIÓN"]
[]
["1. Título"]
[]
[{"$f":"IF(COUNTA(EvaluaciónPatente8!F11)>0,EvaluaciónPatente8!F11,\"\")","v":""}]
[]
[]
["2. Evaluación"]
[]
["      2.1 Evaluación de criterios "]
[]
["Criterios",null,"Observaciones",null,null,null,null,null,null,"E"]
["1. Criterios legales","1.1 Estado legal ",{"$f":"IF(COUNTA(EvaluaciónPatente8!L20)>0,EvaluaciónPatente8!L20,\"\")","v":""},null,null,null,null,null,null,{"$f":"IF(COUNTA(EvaluaciónPatente8!C19)>0,0,IF(COUNTA(EvaluaciónPatente8!F19)>0,1,IF(COUNTA(EvaluaciónPatente8!I19)>0,2,\"\")))","v":""}]
[null,"1.2  Alcance territorial ",{"$f":"IF(COUNTA(EvaluaciónPatente8!L23)>0,EvaluaciónPatente8!L23,\"\")","v":""},null,null,null,null,null,null,{"$f":"IF(COUNTA(EvaluaciónPatente8!C22)>0,0,IF(COUNTA(EvaluaciónPatente8!F22)>0,1,IF(COUNTA(EvaluaciónPatente8!I22)>0,2,\"\")))","v":""}]
[null,"1.3 Fuerza de la protección",{"$f":"IF(COUNTA(EvaluaciónPatente8!L26)>0,EvaluaciónPatente8!L26,\"\")","v":""},null,null,null,null,null,null,{"$f":"IF(COUNTA(EvaluaciónPatente8!C25)>0,0,IF(COUNTA(EvaluaciónPatente8!F25)>0,1,IF(COUNTA(EvaluaciónPatente8!I25)>0,2,\"\")))","v":""}]
[null,"1.4 Duración de la protección",{"$f":"IF(COUNTA(EvaluaciónPatente8!L29)>0,EvaluaciónPatente8!L29,\"\")","v":""},null,null,null,null,null,null,{"$f":"IF(COUNTA(EvaluaciónPatente8!C28)>0,0,IF(COUNTA(EvaluaciónPatente8!F28)>0,1,IF(COUNTA(EvaluaciónPatente8!I28)>0,2,\"\")))","v":""}]
[null,"1.5 Alcance de la protección",{"$f":"IF(COUNTA(EvaluaciónPatente8!L32)>0,EvaluaciónPatente8!L32,\"\")","v":""},null,null,null,null,null,null,{"$f":"IF(COUNTA(EvaluaciónPatente8!C31)>0,0,IF(COUNTA(EvaluaciónPatente8!F31)>0,1,IF(COUNTA(EvaluaciónPatente8!I31)>0,2,\"\")))","v":""}]
[null,"1.6 (In)dependencia",{"$f":"IF(COUNTA(EvaluaciónPatente8!L35)>0,EvaluaciónPatente8!L35,\"\")","v":""},null,null,null,null,null,null,{"$f":"IF(COUNTA(EvaluaciónPatente8!C34)>0,0,IF(COUNTA(EvaluaciónPatente8!F34)>0,1,IF(COUNTA(EvaluaciónPatente8!I34)>0,2,\"\")))","v":""}]
["2. Criterios tecnológicos  ","2.1 Capacidad de detección",{"$f":"IF(COUNTA(EvaluaciónPatente8!L40)>0,EvaluaciónPatente8!L40,\"\")","v":""},null,null,null,null,null,null,{"$f":"IF(COUNTA(EvaluaciónPatente8!C39)>0,0,IF(COUNTA(EvaluaciónPatente8!F39)>0,1,IF(COUNTA(EvaluaciónPatente8!I39)>0,2,\"\")))","v":""}]
[null,"2.2 Capacidad de imitación",{"$f":"IF(COUNTA(EvaluaciónPatente8!L43)>0,EvaluaciónPatente8!L43,\"\")","v":""},null,null,null,null,null,null,{"$f":"IF(COUNTA(EvaluaciónPatente8!C42)>0,0,IF(COUNTA(EvaluaciónPatente8!F42)>0,1,IF(COUNTA(EvaluaciónPatente8!I42)>0,2,\"\")))","v":""}]
[null,"2.3 Estado de desarrollo (TRL)",{"$f":"IF(COUNTA(EvaluaciónPatente8!L46)>0,EvaluaciónPatente8!L46,\"\")","v":""},null,null,null,null,null,null,{"$f":"IF(COUNTA(EvaluaciónPatente8!C45)>0,0,IF(COUNTA(EvaluaciónPatente8!F45)>0,1,IF(COUNTA(EvaluaciónPatente8!I45)>0,2,\"\")))","v":""}]
[null,"2.4 Proceso de producción / competencias ",{"$f":"IF(COUNTA(EvaluaciónPatente8!L49)>0,EvaluaciónPatente8!L49,\"\")","v":""},null,null,null,null,null,null,{"$f":"IF(COUNTA(EvaluaciónPatente8!C48)>0,0,IF(COUNTA(EvaluaciónPatente8!F48)>0,1,IF(COUNTA(EvaluaciónPatente8!I48)>0,2,\"\")))","v":""}]
[]
[null,null,"E = Evaluación",null,null,null,null,null,null,null,null,"Cubrir solo donde esté indicado"]
[]
[]
[]
[]
[]
[]
[]
["Criterios",null,"Observaciones",null,null,null,null,null,null,"E"]
["3. Criterios de mercado","3.1 Compromiso con la comercialización",{"$f":"IF(COUNTA(EvaluaciónPatente8!L54)>0,EvaluaciónPatente8!L54,\"\")","v":""},null,null,null,null,null,null,{"$f":"IF(COUNTA(EvaluaciónPatente8!C53)>0,0,IF(COUNTA(EvaluaciónPatente8!F53)>0,1,IF(COUNTA(EvaluaciónPatente8!I53)>0,2,\"\")))","v":""}]
[null,"3.2 Mercado potencial / Aplicaciones ",{"$f":"IF(COUNTA(EvaluaciónPatente8!L57)>0,EvaluaciónPatente8!L57,\"\")","v":""},null,null,null,null,null,null,{"$f":"IF(COUNTA(EvaluaciónPatente8!C56)>0,0,IF(COUNTA(EvaluaciónPatente8!F56)>0,1,IF(COUNTA(EvaluaciónPatente8!I56)>0,2,\"\")))","v":""}]
[null,"3.3 Evolución del mercado",{"$f":"IF(COUNTA(EvaluaciónPatente8!L60)>0,EvaluaciónPatente8!L60,\"\")","v":""},null,null,null,null,null,null,{"$f":"IF(COUNTA(EvaluaciónPatente8!C59)>0,0,IF(COUNTA(EvaluaciónPatente8!F59)>0,1,IF(COUNTA(EvaluaciónPatente8!I59)>0,2,\"\")))","v":""}]
[null,"3.4 Esperanza de vida en el mercado ",{"$f":"IF(COUNTA(EvaluaciónPatente8!L63)>0,EvaluaciónPatente8!L63,\"\")","v":""},null,null,null,null,null,null,{"$f":"IF(COUNTA(EvaluaciónPatente8!C62)>0,0,IF(COUNTA(EvaluaciónPatente8!F62)>0,1,IF(COUNTA(EvaluaciónPatente8!I62)>0,2,\"\")))","v":""}]
[null,"3.5 Entorno competitiva ",{"$f":"IF(COUNTA(EvaluaciónPatente8!L66)>0,EvaluaciónPatente8!L66,\"\")","v":""},null,null,null,null,null,null,{"$f":"IF(COUNTA(EvaluaciónPatente8!C65)>0,0,IF(COUNTA(EvaluaciónPatente8!F65)>0,1,IF(COUNTA(EvaluaciónPatente8!I65)>0,2,\"\")))","v":""}]
[null,"3.6 Permisos",{"$f":"IF(COUNTA(EvaluaciónPatente8!L69)>0,EvaluaciónPatente8!L69,\"\")","v":""},null,null,null,null,null,null,{"$f":"IF(COUNTA(EvaluaciónPatente8!C68)>0,0,IF(COUNTA(EvaluaciónPatente8!F68)>0,1,IF(COUNTA(EvaluaciónPatente8!I68)>0,2,\"\")))","v":""}]
[null,"3.7  Ventajas competitivas",{"$f":"IF(COUNTA(EvaluaciónPatente8!L72)>0,EvaluaciónPatente8!L72,\"\")","v":""},null,null,null,null,null,null,{"$f":"IF(COUNTA(EvaluaciónPatente8!C71)>0,0,IF(COUNTA(EvaluaciónPatente8!F71)>0,1,IF(COUNTA(EvaluaciónPatente8!I71)>0,2,\"\")))","v":""}]
[null,"3.8 Plazo de comercialización",{"$f":"IF(COUNTA(EvaluaciónPatente8!L75)>0,EvaluaciónPatente8!L75,\"\")","v":""},null,null,null,null,null,null,{"$f":"IF(COUNTA(EvaluaciónPatente8!C74)>0,0,IF(COUNTA(EvaluaciónPatente8!F74)>0,1,IF(COUNTA(EvaluaciónPatente8!I74)>0,2,\"\")))","v":""}]
[null,"3.9 Oportunidades comerciales y feedback",{"$f":"IF(COUNTA(EvaluaciónPatente8!L78)>0,EvaluaciónPatente8!L78,\"\")","v":""},null,null,null,null,null,null,{"$f":"IF(COUNTA(EvaluaciónPatente8!C77)>0,0,IF(COUNTA(EvaluaciónPatente8!F77)>0,1,IF(COUNTA(EvaluaciónPatente8!I77)>0,2,\"\")))","v":""}]
[null,null,null,null,null,null,null,null,null,null,null,"Cubrir solo donde esté indicado"]
[null,null,"E = Evaluación"]
[]
[]
[]
[]
[]
[]
[]
[]
["      2.2 Valoración general"]
[]
[]
[]
[]
[]
[]
[]
[]
[]
[]
[]
[]
[]
[]
[]
[]
[]
[]
[null,null,null,null,null,null,null,null,null,null,null,null,null,null,null,null," "]
[]
[]
[]
[]
["3. Conclusiones y observaciones"]
[]
["      3.1 Situación de la tecnología patentada de cara al proceso de una posible comercialización "]
[]
[null,"Tecnología patentada con alto potencial de transferencia o lista para transferir.",null,null,null,null,null,null,null,null,null,"Marcar una opción"]
[null,"Tecnología patentada pendiente de completar proceso de evaluación."]
[null,"Tecnología patentada con un grado de madurez que no es suficiente para iniciar un proceso de comercialización."]
[null,"Con la información aportada, la tecnología patentada no es de interés para un proceso de comercialización."]
[]
["         Justificación de la evaluación"]
[]
[null,null,null,null,null,null,null,null,null,null,null,"Indicar justificación de la evaluación"]
[{"$f":"IF(EvaluaciónPatente8!C19=\"x\", \"Patente no cumple con los requisitos mínimos. Patente revocada, expirada o caducada.\", \"\")","v":""}]
[{"$f":"IF(EvaluaciónPatente8!C22=\"x\", \"Patente no cumple con los requisitos mínimos. La protección de la patente es limitado a un mercado que no es su mercado principal. \", \"\")","v":""}]
[{"$f":"IF(EvaluaciónPatente8!C39=\"x\", \"Patente no cumple con los requisitos mínimos. Es muy difícil identificar los productos de imitación. \", \"\")","v":""}]
[{"$f":"IF(EvaluaciónPatente8!C53=\"x\", \"Patente no cumple con los requisitos mínimos. Recursos no asignados, la tecnología patentada no es clave para el equipo o el grupo. \", \"\")","v":""}]
[]
[]
[null,null,null,"   "]
["      3.2 Observaciones"]
[]
[null,null,null,null,null,null,null,null,null,null,null,"Indicar observaciones"]
[]
[]
[]
[]
[]
[]
[]
[]
[]
[]
[]
[]
[]
[]
[]
[]
[]
["      3.3 Implantación"]
[]
["Acciones",null,null,"Responsable",1,2,3,4,5,6,null,"Indicar proceso de implantación"]
[]
[]
[]
[]
[]
[]
[]
[]
[]
[]
[]
[]
[]
[]
[]
["4. Datos de la evaluación"]
[]
["Autor",null,null,null,null,"Fecha de realización"]
[{"$f":"IF(COUNTA(EvaluaciónPatente8!F12)>0,EvaluaciónPatente8!F12,\"\")","v":""},null,null,null,null,{"$f":"IF(COUNTA(EvaluaciónPatente8!F13)>0,EvaluaciónPatente8!F13,\"\")","v":""}]

{"sheet":"EvaluaciónPatente9","index":20,"n_rows":78,"n_cols":12,"rows_kept":78,"cut":false,"hidden":false,"merged":[[75,2,75,3],[57,2,57,3],[60,2,60,3],[63,2,63,3],[66,2,66,3],[69,2,69,3],[72,2,72,3],[54,2,54,3],[17,2,17,3],[20,2,20,8],[23,2,23,8],[26,2,26,8],[29,2,29,8],[32,2,32,8],[37,2,37,8],[40,2,40,8],[43,2,43,8],[46,2,46,8],[51,2,51,8],[10,1,10,3],[10,5,10,6],[11,1,11,3],[11,5,11,6],[12,1,12,3],[12,5,12,6]]}
[]
[]
[]
[]
[]
[]
[]
[]
[]
[]
[null,"Denominación de la tecnología patentada",null,null,null,null,null,null,null,"1. Incluir la denominación de la tecnología, el nombre del evaluador y la fecha de la evaluación"]
[null,"Nombre del evaluador",null,null,null,null,null,null,null,"2. Marcar con una «X» el nivel para cada criterio y los comentarios que justifiquen la elección"]
[null,"Fecha de evaluación de la tecnología patentada"]
[]
[null,"Criterios de evaluación"]
[]
[null,"1. Criterios legales"]
[null,null,"Criterio 1.1 Estado legal (Criterio de exclusión)"]
[null,null,null,"Desfavorable",null,null,"Neutro",null,null,"Favorable",null,"Comentarios"]
[null,null,null,"Patente revocada, expirada o caducada.",null,null,"-",null,null,"Por lo menos una solicitud de patente pendiente o patente concedida."]
[null,null,"Criterio 1.2 Alcance territorial (Criterio de exclusión)"]
[null,null,null,"Desfavorable",null,null,"Neutro",null,null,"Favorable",null,"Comentarios"]
[null,null,null,"La protección de la patente esta limitada a un mercado que no es su mercado principal. ",null,null,"-",null,null,"Protección en un país que es su mercado principal o en más de un país de la zona de mercado, o si la protección todavía está disponible para su elección (periodo de prioridad, PCT, EP)."]
[null,null,"Criterio 1.3 Fuerza de la protección"]
[null,null,null,"Desfavorable",null,null,"Neutro",null,null,"Favorable",null,"Comentarios"]
[null,null,null,"(PATENTES NO PUBLICADAS)\nNo se ha identificado el estado de\nla técnica o se ha identificado que\nel estado de la técnica no supone\nuna amenaza para la novedad y/o la\nactividad inventiva.\n(PATENTES PUBLICADAS)\nEvaluación de la patentabilidad por la\noficina nacional o similar existente, con\n2 o más documentos X.",null,null,"(PATENTES NO PUBLICADAS)\nSe ha identificado el estado de la\ntécnica y los documentos encontrados\nno suponen una amenaza para la\nnovedad. Sin embargo, la actividad\ninventiva es una cuestión de\ninterpretación.\n(PATENTES PUBLICADAS)\nExamen de la novedad por la oficina\nnacional o similar existente, con\ndocumentos X o Y, pero con potencial\nde conceder la patente.",null,null,"PATENTES NO PUBLICADAS)\nSe ha identificado el estado de la\ntécnica que no supone por el momento\nninguna amenaza para la novedad y la\nactividad inventiva.\n(PATENTES PUBLICADAS)\nExamen de la novedad por la oficina\nnacional o similar existente, sin\ndocumentos X o patente concedida."]
[null,null,"Criterio 1.4 Duración de la protección"]
[null,null,null,"Desfavorable",null,null,"Neutro",null,null,"Favorable",null,"Comentarios"]
[null,null,null,"A la patente le quedan menos de 6 años.",null,null,"A la patente le quedan 6-12 años",null,null,"A la patente le quedan más de 12 años"]
[null,null,"Criterio 1.5 Alcance de la protección "]
[null,null,null,"Desfavorable",null,null,"Neutro",null,null,"Favorable",null,"Comentarios"]
[null,null,null,"Las reivindicaciones son muy concretas y específicas.",null,null,"Las reivindicaciones son razonablemente amplias.",null,null,"Las reivindicaciones comprenden un principio general."]
[null,null,"Criterio 1.6 (In)dependencia"]
[null,null,null,"Desfavorable",null,null,"Neutro",null,null,"Favorable",null,"Comentarios"]
[null,null,null,"El uso de la patente depende de cotitulares fuera del ámbito habitual o de cotitulares con menos de 5% cotitularidad dentro del ámbito habitual.",null,null,"El uso de la patente depende de cotitulares, pero dentro del ámbito habitual.",null,null,"La patente no tiene cotitulares. El uso y la explotación de la patente es independiente de acuerdos con cotitulares."]
[]
[null,"2. Criterios tecnológicos "]
[null,null,"Criterio 2.1 Capacidad de detección (Criterio de exclusión y madurez)"]
[null,null,null,"Desfavorable",null,null,"Neutro",null,null,"Favorable",null,"Comentarios"]
[null,null,null,"Es muy difícil identificar los productos\nde imitación. Es prácticamente\nimposible de detectar el uso ilegal de\nun procedimiento, un método o el uso\nde un compuesto.",null,null,"Es difícil pero no imposible identificar\nproductos de imitación. La detección\nde un uso ilegal de un procedimiento,\nun método o el uso de un compuesto\nes posible, aunque difícil.",null,null,"Es fácil identificar los productos\nilegales de imitación. La detección de\nun uso ilegal de un procedimiento, un\nmétodo o el uso de un compuesto es\nfácil."]
[null,null,"Criterio 2.2 Capacidad de imitación"]
[null,null,null,"Desfavorable",null,null,"Neutro",null,null,"Favorable",null,"Comentarios"]
[null,null,null,"La tecnología patentada es fácil de identificar, copiar y producir.",null,null,"Es posible copiar y producir la tecnología patentada por ejemplo mediante ingeniería inversa.",null,null,"La tecnología patentada es muy difícil de copiar y producir."]
[null,null,"Criterio 2.3 Estado de desarrollo (TRL)"]
[null,null,null,"Desfavorable",null,null,"Neutro",null,null,"Favorable",null,"Comentarios"]
[null,null,null,"Entrono laboratorio: la invención ha sido probada, en teoría, de acuerdo con cálculos (TRL 1-2).",null,null,"Se han realizado experimentos, se han desarrollado prototipos (TRL 3-4).",null,null,"Demostración de la invención en un entorno real (TRL ≥5)."]
[null,null,"Criterio 2.4 Proceso de producción"]
[null,null,null,"Desfavorable",null,null,"Neutro",null,null,"Favorable",null,"Comentarios"]
[null,null,null,"La tecnología patentada requiere un proceso de producción completamente nuevo o modifica fundamentalmente el procedimiento actualmente en uso.",null,null,"Se requiere el desarrollo de los procesos de producción actualmente aplicados antes de poder utilizar o producir la tecnología patentada.",null,null,"La tecnología patentada puede utilizarse o producirse con el proceso de producción actualmente aplicado."]
[]
[null,"3. Criterios de mercado"]
[null,null,"Criterio 3.1 Compromiso con la comercialización (Criterio de exclusión y madurez)"]
[null,null,null,"Desfavorable",null,null,"Neutro",null,null,"Favorable",null,"Comentarios"]
[null,null,null,"Recursos no asignados, la tecnología patentada no es clave para el equipo o el grupo.",null,null,"Personas asignadas a la tecnología patentada, pero sin funciones definidas. El proceso de transferencia no es una prioridad. ",null,null,"Proyecto clave dentro de la estrategia de transferencia del grupo o equipo. Hay personas asignadas para participar en el proceso con roles establecidos."]
[null,null,"Criterio 3.2 Mercado potencial / Aplicaciones"]
[null,null,null,"Desfavorable",null,null,"Neutro",null,null,"Favorable",null,"Comentarios"]
[null,null,null,"La tecnología patentada aún no se ha dirigido a un mercado concreto o se dirige a un mercado pequeño. No está confirmado el sector de aplicación.",null,null,"Existe un mercado conocido para la tecnología patentada con un tamaño significativo dentro del -ámbito tecnológico. La aplicación se limita a un sector industrial.",null,null,"Existe un mercado conocido y grande, así como otros mercados significativos. Se han identificado numerosos ámbitos de aplicación."]
[null,null,"Criterio 3.3 Evolución del mercado"]
[null,null,null,"Desfavorable",null,null,"Neutro",null,null,"Favorable",null,"Comentarios"]
[null,null,null,"Bajo (CAGR < 4%).",null,null,"Medio (CAGR 4-8%).",null,null,"Alto (CAGR >8%)."]
[null,null,"Criterio 3.4 Esperanza de vida en el mercado"]
[null,null,null,"Desfavorable",null,null,"Neutro",null,null,"Favorable",null,"Comentarios"]
[null,null,null,"Inferior a 2 años.",null,null,"Entre 2 -5 años.",null,null,"Más de 5 años."]
[null,null,"Criterio 3.5 Entorno competitivo"]
[null,null,null,"Desfavorable",null,null,"Neutro",null,null,"Favorable",null,"Comentarios"]
[null,null,null,"No se identificaron los competidores ni productos sustitutivos.",null,null,"Situación dominante de un grupo restringido de empresas o limitado a un número escaso de empresas.",null,null,"Entorno competitivo detectado y definido. Mercado accesible y abierto."]
[null,null,"Criterio 3.6 Permisos y estándares de mercado"]
[null,null,null,"Desfavorable",null,null,"Neutro",null,null,"Favorable",null,"Comentarios"]
[null,null,null,"Se necesitan permisos o/y se tienen\nque cumplir estándares para vender\nproductos en el mercado, pero aún\nno se han identificado y analizado los\nrequisitos.",null,null,"Permisos y/o estándares necesarios\ndetectados y analizados o aplicación\nde permisos en proceso.",null,null,"No es necesario un permiso ni se\ntienen que cumplir estándares para la\nventa de productos en el mercado."]
[null,null,"Criterio 3.7 Ventajas competitivas"]
[null,null,null,"Desfavorable",null,null,"Neutro",null,null,"Favorable",null,"Comentarios"]
[null,null,null,"No se han detectado las ventajas competitivas.",null,null,"Se han definido las ventajas competitivas. La tecnología patentada ofrece al menos 1-2 ventajas sobre las tecnologías y productos existentes.",null,null,"La tecnología patentada proporciona características realmente innovadoras y distintivas que pueden utilizarse para la comercialización y la venta de posibles productos."]
[null,null,"Criterio 3.8 Plazo de comercialización"]
[null,null,null,"Desfavorable",null,null,"Neutro",null,null,"Favorable",null,"Comentarios"]
[null,null,null,"Superior a 3 años.",null,null,"Entre 2-3 años.",null,null,"Inferior a 2 años."]
[null,null,"Criterio 3.9 Oportunidades comerciales y feedback"]
[null,null,null,"Desfavorable",null,null,"Neutro",null,null,"Favorable",null,"Comentarios"]
[null,null,null,"El equipo investigador no tiene\nconocimiento sobre el entorno\ncomercial de la tecnología patentada.\nNo existe feedback por parte de\nempresas interesadas, o solo feedback\nnegativo.",null,null,"El equipo investigador tiene\noportunidades comerciales detectadas\ny conoce empresas y entidades\ninteresadas. Existe feedback por parte\nde empresas interesadas, pero sin\nintención para una cooperación.",null,null,"El equipo investigador ya ha tenido\ncontacto con empresas y entidades\ninteresadas y tiene varias oportunidades\ncomerciales detectadas. Existe feedback\npor parte de empresas interesadas, con\nintención para una cooperación."]

{"sheet":"InformePatente9","index":21,"n_rows":146,"n_cols":17,"rows_kept":146,"cut":false,"hidden":false,"merged":[[145,5,145,9],[46,2,46,8],[47,2,47,8],[48,2,48,8],[49,2,49,8],[50,2,50,8],[144,5,144,9],[28,0,31,0],[28,2,28,8],[29,2,29,8],[30,2,30,8],[31,2,31,8],[42,0,50,0],[42,2,42,8],[43,2,43,8],[44,2,44,8],[45,2,45,8],[14,0,14,9],[21,0,21,1],[22,0,27,0],[22,2,22,8],[23,2,23,8],[24,2,24,8],[25,2,25,8],[26,2,26,8],[27,2,27,8]]}
[]
[null,null,null,null,null,null,null,null,null,null,null,null,null,null,null,"Promedio"]
[null,null,null,null,null,null,null,null,null,null,null,null,null,null,null,"Criterios legales",{"$f":"IF(COUNT(SUM(J25,J26,J27,J28))>0,SUM(J25,J26,J27,J28)/8,-9999999999)","v":0}]
[null,null,null,null,null,null,null,null,null,null,null,null,null,null,null,"Criterios tecnológicos ",{"$f":"IF(COUNT(SUM(J29,J30,J31,J32))>0,SUM(J29,J30,J31,J32)/8,-9999999999)","v":0}]
[null,null,null,null,null,null,null,null,null,null,null,null,null,null,null,"Criterios de mercado",{"$f":"IF(COUNT(SUM(J43,J45,J44,J46,J47,J48,J49,J50,J51))>0,SUM(J43,J45,J44,J46,J47,J48,J49,J50,J51)/18,-9999999999)","v":0}]
[]
[]
[null,null,null,null,null,null,null,null,null,null,null,"Cubrir solo donde esté indicado"]
[]
[]
["INFORME DE EVALUACIÓN"]
[]
["1. Título"]
[]
[{"$f":"IF(COUNTA(EvaluaciónPatente9!F11)>0,EvaluaciónPatente9!F11,\"\")","v":""}]
[]
[]
["2. Evaluación"]
[]
["      2.1 Evaluación de criterios "]
[]
["Criterios",null,"Observaciones",null,null,null,null,null,null,"E"]
["1. Criterios legales","1.1 Estado legal ",{"$f":"IF(COUNTA(EvaluaciónPatente9!L20)>0,EvaluaciónPatente9!L20,\"\")","v":""},null,null,null,null,null,null,{"$f":"IF(COUNTA(EvaluaciónPatente9!C19)>0,0,IF(COUNTA(EvaluaciónPatente9!F19)>0,1,IF(COUNTA(EvaluaciónPatente9!I19)>0,2,\"\")))","v":""}]
[null,"1.2  Alcance territorial ",{"$f":"IF(COUNTA(EvaluaciónPatente9!L23)>0,EvaluaciónPatente9!L23,\"\")","v":""},null,null,null,null,null,null,{"$f":"IF(COUNTA(EvaluaciónPatente9!C22)>0,0,IF(COUNTA(EvaluaciónPatente9!F22)>0,1,IF(COUNTA(EvaluaciónPatente9!I22)>0,2,\"\")))","v":""}]
[null,"1.3 Fuerza de la protección",{"$f":"IF(COUNTA(EvaluaciónPatente9!L26)>0,EvaluaciónPatente9!L26,\"\")","v":""},null,null,null,null,null,null,{"$f":"IF(COUNTA(EvaluaciónPatente9!C25)>0,0,IF(COUNTA(EvaluaciónPatente9!F25)>0,1,IF(COUNTA(EvaluaciónPatente9!I25)>0,2,\"\")))","v":""}]
[null,"1.4 Duración de la protección",{"$f":"IF(COUNTA(EvaluaciónPatente9!L29)>0,EvaluaciónPatente9!L29,\"\")","v":""},null,null,null,null,null,null,{"$f":"IF(COUNTA(EvaluaciónPatente9!C28)>0,0,IF(COUNTA(EvaluaciónPatente9!F28)>0,1,IF(COUNTA(EvaluaciónPatente9!I28)>0,2,\"\")))","v":""}]
[null,"1.5 Alcance de la protección",{"$f":"IF(COUNTA(EvaluaciónPatente9!L32)>0,EvaluaciónPatente9!L32,\"\")","v":""},null,null,null,null,null,null,{"$f":"IF(COUNTA(EvaluaciónPatente9!C31)>0,0,IF(COUNTA(EvaluaciónPatente9!F31)>0,1,IF(COUNTA(EvaluaciónPatente9!I31)>0,2,\"\")))","v":""}]
[null,"1.6 (In)dependencia",{"$f":"IF(COUNTA(EvaluaciónPatente9!L35)>0,EvaluaciónPatente9!L35,\"\")","v":""},null,null,null,null,null,null,{"$f":"IF(COUNTA(EvaluaciónPatente9!C34)>0,0,IF(COUNTA(EvaluaciónPatente9!F34)>0,1,IF(COUNTA(EvaluaciónPatente9!I34)>0,2,\"\")))","v":""}]
["2. Criterios tecnológicos  ","2.1 Capacidad de detección",{"$f":"IF(COUNTA(EvaluaciónPatente9!L40)>0,EvaluaciónPatente9!L40,\"\")","v":""},null,null,null,null,null,null,{"$f":"IF(COUNTA(EvaluaciónPatente9!C39)>0,0,IF(COUNTA(EvaluaciónPatente9!F39)>0,1,IF(COUNTA(EvaluaciónPatente9!I39)>0,2,\"\")))","v":""}]
[null,"2.2 Capacidad de imitación",{"$f":"IF(COUNTA(EvaluaciónPatente9!L43)>0,EvaluaciónPatente9!L43,\"\")","v":""},null,null,null,null,null,null,{"$f":"IF(COUNTA(EvaluaciónPatente9!C42)>0,0,IF(COUNTA(EvaluaciónPatente9!F42)>0,1,IF(COUNTA(EvaluaciónPatente9!I42)>0,2,\"\")))","v":""}]
[null,"2.3 Estado de desarrollo (TRL)",{"$f":"IF(COUNTA(EvaluaciónPatente9!L46)>0,EvaluaciónPatente9!L46,\"\")","v":""},null,null,null,null,null,null,{"$f":"IF(COUNTA(EvaluaciónPatente9!C45)>0,0,IF(COUNTA(EvaluaciónPatente9!F45)>0,1,IF(COUNTA(EvaluaciónPatente9!I45)>0,2,\"\")))","v":""}]
[null,"2.4 Proceso de producción / competencias ",{"$f":"IF(COUNTA(EvaluaciónPatente9!L49)>0,EvaluaciónPatente9!L49,\"\")","v":""},null,null,null,null,null,null,{"$f":"IF(COUNTA(EvaluaciónPatente9!C48)>0,0,IF(COUNTA(EvaluaciónPatente9!F48)>0,1,IF(COUNTA(EvaluaciónPatente9!I48)>0,2,\"\")))","v":""}]
[]
[null,null,"E = Evaluación",null,null,null,null,null,null,null,null,"Cubrir solo donde esté indicado"]
[]
[]
[]
[]
[]
[]
[]
["Criterios",null,"Observaciones",null,null,null,null,null,null,"E"]
["3. Criterios de mercado","3.1 Compromiso con la comercialización",{"$f":"IF(COUNTA(EvaluaciónPatente9!L54)>0,EvaluaciónPatente9!L54,\"\")","v":""},null,null,null,null,null,null,{"$f":"IF(COUNTA(EvaluaciónPatente9!C53)>0,0,IF(COUNTA(EvaluaciónPatente9!F53)>0,1,IF(COUNTA(EvaluaciónPatente9!I53)>0,2,\"\")))","v":""}]
[null,"3.2 Mercado potencial / Aplicaciones ",{"$f":"IF(COUNTA(EvaluaciónPatente9!L57)>0,EvaluaciónPatente9!L57,\"\")","v":""},null,null,null,null,null,null,{"$f":"IF(COUNTA(EvaluaciónPatente9!C56)>0,0,IF(COUNTA(EvaluaciónPatente9!F56)>0,1,IF(COUNTA(EvaluaciónPatente9!I56)>0,2,\"\")))","v":""}]
[null,"3.3 Evolución del mercado",{"$f":"IF(COUNTA(EvaluaciónPatente9!L60)>0,EvaluaciónPatente9!L60,\"\")","v":""},null,null,null,null,null,null,{"$f":"IF(COUNTA(EvaluaciónPatente9!C59)>0,0,IF(COUNTA(EvaluaciónPatente9!F59)>0,1,IF(COUNTA(EvaluaciónPatente9!I59)>0,2,\"\")))","v":""}]
[null,"3.4 Esperanza de vida en el mercado ",{"$f":"IF(COUNTA(EvaluaciónPatente9!L63)>0,EvaluaciónPatente9!L63,\"\")","v":""},null,null,null,null,null,null,{"$f":"IF(COUNTA(EvaluaciónPatente9!C62)>0,0,IF(COUNTA(EvaluaciónPatente9!F62)>0,1,IF(COUNTA(EvaluaciónPatente9!I62)>0,2,\"\")))","v":""}]
[null,"3.5 Entorno competitiva ",{"$f":"IF(COUNTA(EvaluaciónPatente9!L66)>0,EvaluaciónPatente9!L66,\"\")","v":""},null,null,null,null,null,null,{"$f":"IF(COUNTA(EvaluaciónPatente9!C65)>0,0,IF(COUNTA(EvaluaciónPatente9!F65)>0,1,IF(COUNTA(EvaluaciónPatente9!I65)>0,2,\"\")))","v":""}]
[null,"3.6 Permisos",{"$f":"IF(COUNTA(EvaluaciónPatente9!L69)>0,EvaluaciónPatente9!L69,\"\")","v":""},null,null,null,null,null,null,{"$f":"IF(COUNTA(EvaluaciónPatente9!C68)>0,0,IF(COUNTA(EvaluaciónPatente9!F68)>0,1,IF(COUNTA(EvaluaciónPatente9!I68)>0,2,\"\")))","v":""}]
[null,"3.7  Ventajas competitivas",{"$f":"IF(COUNTA(EvaluaciónPatente9!L72)>0,EvaluaciónPatente9!L72,\"\")","v":""},null,null,null,null,null,null,{"$f":"IF(COUNTA(EvaluaciónPatente9!C71)>0,0,IF(COUNTA(EvaluaciónPatente9!F71)>0,1,IF(COUNTA(EvaluaciónPatente9!I71)>0,2,\"\")))","v":""}]
[null,"3.8 Plazo de comercialización",{"$f":"IF(COUNTA(EvaluaciónPatente9!L75)>0,EvaluaciónPatente9!L75,\"\")","v":""},null,null,null,null,null,null,{"$f":"IF(COUNTA(EvaluaciónPatente9!C74)>0,0,IF(COUNTA(EvaluaciónPatente9!F74)>0,1,IF(COUNTA(EvaluaciónPatente9!I74)>0,2,\"\")))","v":""}]
[null,"3.9 Oportunidades comerciales y feedback",{"$f":"IF(COUNTA(EvaluaciónPatente9!L78)>0,EvaluaciónPatente9!L78,\"\")","v":""},null,null,null,null,null,null,{"$f":"IF(COUNTA(EvaluaciónPatente9!C77)>0,0,IF(COUNTA(EvaluaciónPatente9!F77)>0,1,IF(COUNTA(EvaluaciónPatente9!I77)>0,2,\"\")))","v":""}]
[null,null,null,null,null,null,null,null,null,null,null,"Cubrir solo donde esté indicado"]
[null,null,"E = Evaluación"]
[]
[]
[]
[]
[]
[]
[]
[]
["      2.2 Valoración general"]
[]
[]
[]
[]
[]
[]
[]
[]
[]
[]
[]
[]
[]
[]
[]
[]
[]
[]
[null,null,null,null,null,null,null,null,null,null,null,null,null,null,null,null," "]
[]
[]
[]
[]
["3. Conclusiones y observaciones"]
[]
["      3.1 Situación de la tecnología patentada de cara al proceso de una posible comercialización "]
[]
[null,"Tecnología patentada con alto potencial de transferencia o lista para transferir.",null,null,null,null,null,null,null,null,null,"Marcar una opción"]
[null,"Tecnología patentada pendiente de completar proceso de evaluación."]
[null,"Tecnología patentada con un grado de madurez que no es suficiente para iniciar un proceso de comercialización."]
[null,"Con la información aportada, la tecnología patentada no es de interés para un proceso de comercialización."]
[]
["         Justificación de la evaluación"]
[]
[null,null,null,null,null,null,null,null,null,null,null,"Indicar justificación de la evaluación"]
[{"$f":"IF(EvaluaciónPatente9!C19=\"x\", \"Patente no cumple con los requisitos mínimos. Patente revocada, expirada o caducada.\", \"\")","v":""}]
[{"$f":"IF(EvaluaciónPatente9!C22=\"x\", \"Patente no cumple con los requisitos mínimos. La protección de la patente es limitado a un mercado que no es su mercado principal. \", \"\")","v":""}]
[{"$f":"IF(EvaluaciónPatente9!C39=\"x\", \"Patente no cumple con los requisitos mínimos. Es muy difícil identificar los productos de imitación. \", \"\")","v":""}]
[{"$f":"IF(EvaluaciónPatente9!C53=\"x\", \"Patente no cumple con los requisitos mínimos. Recursos no asignados, la tecnología patentada no es clave para el equipo o el grupo. \", \"\")","v":""}]
[]
[]
[null,null,null,"   "]
["      3.2 Observaciones"]
[]
[null,null,null,null,null,null,null,null,null,null,null,"Indicar observaciones"]
[]
[]
[]
[]
[]
[]
[]
[]
[]
[]
[]
[]
[]
[]
[]
[]
[]
["      3.3 Implantación"]
[]
["Acciones",null,null,"Responsable",1,2,3,4,5,6,null,"Indicar proceso de implantación"]
[]
[]
[]
[]
[]
[]
[]
[]
[]
[]
[]
[]
[]
[]
[]
["4. Datos de la evaluación"]
[]
["Autor",null,null,null,null,"Fecha de realización"]
[{"$f":"IF(COUNTA(EvaluaciónPatente9!F12)>0,EvaluaciónPatente9!F12,\"\")","v":""},null,null,null,null,{"$f":"IF(COUNTA(EvaluaciónPatente9!F13)>0,EvaluaciónPatente9!F13,\"\")","v":""}]

{"sheet":"EvaluaciónPatente10","index":22,"n_rows":78,"n_cols":12,"rows_kept":78,"cut":false,"hidden":false,"merged":[[75,2,75,3],[57,2,57,3],[60,2,60,3],[63,2,63,3],[66,2,66,3],[69,2,69,3],[72,2,72,3],[54,2,54,3],[17,2,17,3],[20,2,20,8],[23,2,23,8],[26,2,26,8],[29,2,29,8],[32,2,32,8],[37,2,37,8],[40,2,40,8],[43,2,43,8],[46,2,46,8],[51,2,51,8],[10,1,10,3],[10,5,10,6],[11,1,11,3],[11,5,11,6],[12,1,12,3],[12,5,12,6]]}
[]
[]
[]
[]
[]
[]
[]
[]
[]
[]
[null,"Denominación de la tecnología patentada",null,null,null,null,null,null,null,"1. Incluir la denominación de la tecnología, el nombre del evaluador y la fecha de la evaluación"]
[null,"Nombre del evaluador",null,null,null,null,null,null,null,"2. Marcar con una «X» el nivel para cada criterio y los comentarios que justifiquen la elección"]
[null,"Fecha de evaluación de la tecnología patentada"]
[]
[null,"Criterios de evaluación"]
[]
[null,"1. Criterios legales"]
[null,null,"Criterio 1.1 Estado legal (Criterio de exclusión)"]
[null,null,null,"Desfavorable",null,null,"Neutro",null,null,"Favorable",null,"Comentarios"]
[null,null,null,"Patente revocada, expirada o caducada.",null,null,"-",null,null,"Por lo menos una solicitud de patente pendiente o patente concedida."]
[null,null,"Criterio 1.2 Alcance territorial (Criterio de exclusión)"]
[null,null,null,"Desfavorable",null,null,"Neutro",null,null,"Favorable",null,"Comentarios"]
[null,null,null,"La protección de la patente esta limitada a un mercado que no es su mercado principal. ",null,null,"-",null,null,"Protección en un país que es su mercado principal o en más de un país de la zona de mercado, o si la protección todavía está disponible para su elección (periodo de prioridad, PCT, EP)."]
[null,null,"Criterio 1.3 Fuerza de la protección"]
[null,null,null,"Desfavorable",null,null,"Neutro",null,null,"Favorable",null,"Comentarios"]
[null,null,null,"(PATENTES NO PUBLICADAS)\nNo se ha identificado el estado de\nla técnica o se ha identificado que\nel estado de la técnica no supone\nuna amenaza para la novedad y/o la\nactividad inventiva.\n(PATENTES PUBLICADAS)\nEvaluación de la patentabilidad por la\noficina nacional o similar existente, con\n2 o más documentos X.",null,null,"(PATENTES NO PUBLICADAS)\nSe ha identificado el estado de la\ntécnica y los documentos encontrados\nno suponen una amenaza para la\nnovedad. Sin embargo, la actividad\ninventiva es una cuestión de\ninterpretación.\n(PATENTES PUBLICADAS)\nExamen de la novedad por la oficina\nnacional o similar existente, con\ndocumentos X o Y, pero con potencial\nde conceder la patente.",null,null,"PATENTES NO PUBLICADAS)\nSe ha identificado el estado de la\ntécnica que no supone por el momento\nninguna amenaza para la novedad y la\nactividad inventiva.\n(PATENTES PUBLICADAS)\nExamen de la novedad por la oficina\nnacional o similar existente, sin\ndocumentos X o patente concedida."]
[null,null,"Criterio 1.4 Duración de la protección"]
[null,null,null,"Desfavorable",null,null,"Neutro",null,null,"Favorable",null,"Comentarios"]
[null,null,null,"A la patente le quedan menos de 6 años.",null,null,"A la patente le quedan 6-12 años",null,null,"A la patente le quedan más de 12 años"]
[null,null,"Criterio 1.5 Alcance de la protección "]
[null,null,null,"Desfavorable",null,null,"Neutro",null,null,"Favorable",null,"Comentarios"]
[null,null,null,"Las reivindicaciones son muy concretas y específicas.",null,null,"Las reivindicaciones son razonablemente amplias.",null,null,"Las reivindicaciones comprenden un principio general."]
[null,null,"Criterio 1.6 (In)dependencia"]
[null,null,null,"Desfavorable",null,null,"Neutro",null,null,"Favorable",null,"Comentarios"]
[null,null,null,"El uso de la patente depende de cotitulares fuera del ámbito habitual o de cotitulares con menos de 5% cotitularidad dentro del ámbito habitual.",null,null,"El uso de la patente depende de cotitulares, pero dentro del ámbito habitual.",null,null,"La patente no tiene cotitulares. El uso y la explotación de la patente es independiente de acuerdos con cotitulares."]
[]
[null,"2. Criterios tecnológicos "]
[null,null,"Criterio 2.1 Capacidad de detección (Criterio de exclusión y madurez)"]
[null,null,null,"Desfavorable",null,null,"Neutro",null,null,"Favorable",null,"Comentarios"]
[null,null,null,"Es muy difícil identificar los productos\nde imitación. Es prácticamente\nimposible de detectar el uso ilegal de\nun procedimiento, un método o el uso\nde un compuesto.",null,null,"Es difícil pero no imposible identificar\nproductos de imitación. La detección\nde un uso ilegal de un procedimiento,\nun método o el uso de un compuesto\nes posible, aunque difícil.",null,null,"Es fácil identificar los productos\nilegales de imitación. La detección de\nun uso ilegal de un procedimiento, un\nmétodo o el uso de un compuesto es\nfácil.",null," "]
[null,null,"Criterio 2.2 Capacidad de imitación"]
[null,null,null,"Desfavorable",null,null,"Neutro",null,null,"Favorable",null,"Comentarios"]
[null,null,null,"La tecnología patentada es fácil de identificar, copiar y producir.",null,null,"Es posible copiar y producir la tecnología patentada por ejemplo mediante ingeniería inversa.",null,null,"La tecnología patentada es muy difícil de copiar y producir."]
[null,null,"Criterio 2.3 Estado de desarrollo (TRL)"]
[null,null,null,"Desfavorable",null,null,"Neutro",null,null,"Favorable",null,"Comentarios"]
[null,null,null,"Entrono laboratorio: la invención ha sido probada, en teoría, de acuerdo con cálculos (TRL 1-2).",null,null,"Se han realizado experimentos, se han desarrollado prototipos (TRL 3-4).",null,null,"Demostración de la invención en un entorno real (TRL ≥5)."]
[null,null,"Criterio 2.4 Proceso de producción"]
[null,null,null,"Desfavorable",null,null,"Neutro",null,null,"Favorable",null,"Comentarios"]
[null,null,null,"La tecnología patentada requiere un proceso de producción completamente nuevo o modifica fundamentalmente el procedimiento actualmente en uso.",null,null,"Se requiere el desarrollo de los procesos de producción actualmente aplicados antes de poder utilizar o producir la tecnología patentada.",null,null,"La tecnología patentada puede utilizarse o producirse con el proceso de producción actualmente aplicado."]
[]
[null,"3. Criterios de mercado"]
[null,null,"Criterio 3.1 Compromiso con la comercialización (Criterio de exclusión y madurez)"]
[null,null,null,"Desfavorable",null,null,"Neutro",null,null,"Favorable",null,"Comentarios"]
[null,null,null,"Recursos no asignados, la tecnología patentada no es clave para el equipo o el grupo.",null,null,"Personas asignadas a la tecnología patentada, pero sin funciones definidas. El proceso de transferencia no es una prioridad. ",null,null,"Proyecto clave dentro de la estrategia de transferencia del grupo o equipo. Hay personas asignadas para participar en el proceso con roles establecidos."]
[null,null,"Criterio 3.2 Mercado potencial / Aplicaciones"]
[null,null,null,"Desfavorable",null,null,"Neutro",null,null,"Favorable",null,"Comentarios"]
[null,null,null,"La tecnología patentada aún no se ha dirigido a un mercado concreto o se dirige a un mercado pequeño. No está confirmado el sector de aplicación.",null,null,"Existe un mercado conocido para la tecnología patentada con un tamaño significativo dentro del -ámbito tecnológico. La aplicación se limita a un sector industrial.",null,null,"Existe un mercado conocido y grande, así como otros mercados significativos. Se han identificado numerosos ámbitos de aplicación."]
[null,null,"Criterio 3.3 Evolución del mercado"]
[null,null,null,"Desfavorable",null,null,"Neutro",null,null,"Favorable",null,"Comentarios"]
[null,null,null,"Bajo (CAGR < 4%).",null,null,"Medio (CAGR 4-8%).",null,null,"Alto (CAGR >8%)."]
[null,null,"Criterio 3.4 Esperanza de vida en el mercado"]
[null,null,null,"Desfavorable",null,null,"Neutro",null,null,"Favorable",null,"Comentarios"]
[null,null,null,"Inferior a 2 años.",null,null,"Entre 2 -5 años.",null,null,"Más de 5 años."]
[null,null,"Criterio 3.5 Entorno competitivo"]
[null,null,null,"Desfavorable",null,null,"Neutro",null,null,"Favorable",null,"Comentarios"]
[null,null,null,"No se identificaron los competidores ni productos sustitutivos.",null,null,"Situación dominante de un grupo restringido de empresas o limitado a un número escaso de empresas.",null,null,"Entorno competitivo detectado y definido. Mercado accesible y abierto."]
[null,null,"Criterio 3.6 Permisos y estándares de mercado"]
[null,null,null,"Desfavorable",null,null,"Neutro",null,null,"Favorable",null,"Comentarios"]
[null,null,null,"Se necesitan permisos o/y se tienen\nque cumplir estándares para vender\nproductos en el mercado, pero aún\nno se han identificado y analizado los\nrequisitos.",null,null,"Permisos y/o estándares necesarios\ndetectados y analizados o aplicación\nde permisos en proceso.",null,null,"No es necesario un permiso ni se\ntienen que cumplir estándares para la\nventa de productos en el mercado."]
[null,null,"Criterio 3.7 Ventajas competitivas"]
[null,null,null,"Desfavorable",null,null,"Neutro",null,null,"Favorable",null,"Comentarios"]
[null,null,null,"No se han detectado las ventajas competitivas.",null,null,"Se han definido las ventajas competitivas. La tecnología patentada ofrece al menos 1-2 ventajas sobre las tecnologías y productos existentes.",null,null,"La tecnología patentada proporciona características realmente innovadoras y distintivas que pueden utilizarse para la comercialización y la venta de posibles productos."]
[null,null,"Criterio 3.8 Plazo de comercialización"]
[null,null,null,"Desfavorable",null,null,"Neutro",null,null,"Favorable",null,"Comentarios"]
[null,null,null,"Superior a 3 años.",null,null,"Entre 2-3 años.",null,null,"Inferior a 2 años."]
[null,null,"Criterio 3.9 Oportunidades comerciales y feedback"]
[null,null,null,"Desfavorable",null,null,"Neutro",null,null,"Favorable",null,"Comentarios"]
[null,null,null,"El equipo investigador no tiene\nconocimiento sobre el entorno\ncomercial de la tecnología patentada.\nNo existe feedback por parte de\nempresas interesadas, o solo feedback\nnegativo.",null,null,"El equipo investigador tiene\noportunidades comerciales detectadas\ny conoce empresas y entidades\ninteresadas. Existe feedback por parte\nde empresas interesadas, pero sin\nintención para una cooperación.",null,null,"El equipo investigador ya ha tenido\ncontacto con empresas y entidades\ninteresadas y tiene varias oportunidades\ncomerciales detectadas. Existe feedback\npor parte de empresas interesadas, con\nintención para una cooperación."]

{"sheet":"InformePatente10","index":23,"n_rows":146,"n_cols":17,"rows_kept":146,"cut":false,"hidden":false,"merged":[[145,5,145,9],[46,2,46,8],[47,2,47,8],[48,2,48,8],[49,2,49,8],[50,2,50,8],[144,5,144,9],[28,0,31,0],[28,2,28,8],[29,2,29,8],[30,2,30,8],[31,2,31,8],[42,0,50,0],[42,2,42,8],[43,2,43,8],[44,2,44,8],[45,2,45,8],[14,0,14,9],[21,0,21,1],[22,0,27,0],[22,2,22,8],[23,2,23,8],[24,2,24,8],[25,2,25,8],[26,2,26,8],[27,2,27,8]]}
[]
[null,null,null,null,null,null,null,null,null,null,null,null,null,null,null,"Promedio"]
[null,null,null,null,null,null,null,null,null,null,null,null,null,null,null,"Criterios legales",{"$f":"IF(COUNT(SUM(J25,J26,J27,J28))>0,SUM(J25,J26,J27,J28)/8,-9999999999)","v":0}]
[null,null,null,null,null,null,null,null,null,null,null,null,null,null,null,"Criterios tecnológicos ",{"$f":"IF(COUNT(SUM(J29,J30,J31,J32))>0,SUM(J29,J30,J31,J32)/8,-9999999999)","v":0}]
[null,null,null,null,null,null,null,null,null,null,null,null,null,null,null,"Criterios de mercado",{"$f":"IF(COUNT(SUM(J43,J45,J44,J46,J47,J48,J49,J50,J51))>0,SUM(J43,J45,J44,J46,J47,J48,J49,J50,J51)/18,-9999999999)","v":0}]
[]
[]
[null,null,null,null,null,null,null,null,null,null,null,"Cubrir solo donde esté indicado"]
[]
[]
["INFORME DE EVALUACIÓN"]
[]
["1. Título"]
[]
[{"$f":"IF(COUNTA(EvaluaciónPatente10!F11)>0,EvaluaciónPatente10!F11,\"\")","v":""}]
[]
[]
["2. Evaluación"]
[]
["      2.1 Evaluación de criterios "]
[]
["Criterios",null,"Observaciones",null,null,null,null,null,null,"E"]
["1. Criterios legales","1.1 Estado legal ",{"$f":"IF(COUNTA(EvaluaciónPatente10!L20)>0,EvaluaciónPatente10!L20,\"\")","v":""},null,null,null,null,null,null,{"$f":"IF(COUNTA(EvaluaciónPatente10!C19)>0,0,IF(COUNTA(EvaluaciónPatente10!F19)>0,1,IF(COUNTA(EvaluaciónPatente10!I19)>0,2,\"\")))","v":""}]
[null,"1.2  Alcance territorial ",{"$f":"IF(COUNTA(EvaluaciónPatente10!L23)>0,EvaluaciónPatente10!L23,\"\")","v":""},null,null,null,null,null,null,{"$f":"IF(COUNTA(EvaluaciónPatente10!C22)>0,0,IF(COUNTA(EvaluaciónPatente10!F22)>0,1,IF(COUNTA(EvaluaciónPatente10!I22)>0,2,\"\")))","v":""}]
[null,"1.3 Fuerza de la protección",{"$f":"IF(COUNTA(EvaluaciónPatente10!L26)>0,EvaluaciónPatente10!L26,\"\")","v":""},null,null,null,null,null,null,{"$f":"IF(COUNTA(EvaluaciónPatente10!C25)>0,0,IF(COUNTA(EvaluaciónPatente10!F25)>0,1,IF(COUNTA(EvaluaciónPatente10!I25)>0,2,\"\")))","v":""}]
[null,"1.4 Duración de la protección",{"$f":"IF(COUNTA(EvaluaciónPatente10!L29)>0,EvaluaciónPatente10!L29,\"\")","v":""},null,null,null,null,null,null,{"$f":"IF(COUNTA(EvaluaciónPatente10!C28)>0,0,IF(COUNTA(EvaluaciónPatente10!F28)>0,1,IF(COUNTA(EvaluaciónPatente10!I28)>0,2,\"\")))","v":""}]
[null,"1.5 Alcance de la protección",{"$f":"IF(COUNTA(EvaluaciónPatente10!L32)>0,EvaluaciónPatente10!L32,\"\")","v":""},null,null,null,null,null,null,{"$f":"IF(COUNTA(EvaluaciónPatente10!C31)>0,0,IF(COUNTA(EvaluaciónPatente10!F31)>0,1,IF(COUNTA(EvaluaciónPatente10!I31)>0,2,\"\")))","v":""}]
[null,"1.6 (In)dependencia",{"$f":"IF(COUNTA(EvaluaciónPatente10!L35)>0,EvaluaciónPatente10!L35,\"\")","v":""},null,null,null,null,null,null,{"$f":"IF(COUNTA(EvaluaciónPatente10!C34)>0,0,IF(COUNTA(EvaluaciónPatente10!F34)>0,1,IF(COUNTA(EvaluaciónPatente10!I34)>0,2,\"\")))","v":""}]
["2. Criterios tecnológicos  ","2.1 Capacidad de detección",{"$f":"IF(COUNTA(EvaluaciónPatente10!L40)>0,EvaluaciónPatente10!L40,\"\")","v":" "},null,null,null,null,null,null,{"$f":"IF(COUNTA(EvaluaciónPatente10!C39)>0,0,IF(COUNTA(EvaluaciónPatente10!F39)>0,1,IF(COUNTA(EvaluaciónPatente10!I39)>0,2,\"\")))","v":""}]
[null,"2.2 Capacidad de imitación",{"$f":"IF(COUNTA(EvaluaciónPatente10!L43)>0,EvaluaciónPatente10!L43,\"\")","v":""},null,null,null,null,null,null,{"$f":"IF(COUNTA(EvaluaciónPatente10!C42)>0,0,IF(COUNTA(EvaluaciónPatente10!F42)>0,1,IF(COUNTA(EvaluaciónPatente10!I42)>0,2,\"\")))","v":""}]
[null,"2.3 Estado de desarrollo (TRL)",{"$f":"IF(COUNTA(EvaluaciónPatente10!L46)>0,EvaluaciónPatente10!L46,\"\")","v":""},null,null,null,null,null,null,{"$f":"IF(COUNTA(EvaluaciónPatente10!C45)>0,0,IF(COUNTA(EvaluaciónPatente10!F45)>0,1,IF(COUNTA(EvaluaciónPatente10!I45)>0,2,\"\")))","v":""}]
[null,"2.4 Proceso de producción / competencias ",{"$f":"IF(COUNTA(EvaluaciónPatente10!L49)>0,EvaluaciónPatente10!L49,\"\")","v":""},null,null,null,null,null,null,{"$f":"IF(COUNTA(EvaluaciónPatente10!C48)>0,0,IF(COUNTA(EvaluaciónPatente10!F48)>0,1,IF(COUNTA(EvaluaciónPatente10!I48)>0,2,\"\")))","v":""}]
[]
[null,null,"E = Evaluación",null,null,null,null,null,null,null,null,"Cubrir solo donde esté indicado"]
[]
[]
[]
[]
[]
[]
[]
["Criterios",null,"Observaciones",null,null,null,null,null,null,"E"]
["3. Criterios de mercado","3.1 Compromiso con la comercialización",{"$f":"IF(COUNTA(EvaluaciónPatente10!L54)>0,EvaluaciónPatente10!L54,\"\")","v":""},null,null,null,null,null,null,{"$f":"IF(COUNTA(EvaluaciónPatente10!C53)>0,0,IF(COUNTA(EvaluaciónPatente10!F53)>0,1,IF(COUNTA(EvaluaciónPatente10!I53)>0,2,\"\")))","v":""}]
[null,"3.2 Mercado potencial / Aplicaciones ",{"$f":"IF(COUNTA(EvaluaciónPatente10!L57)>0,EvaluaciónPatente10!L57,\"\")","v":""},null,null,null,null,null,null,{"$f":"IF(COUNTA(EvaluaciónPatente10!C56)>0,0,IF(COUNTA(EvaluaciónPatente10!F56)>0,1,IF(COUNTA(EvaluaciónPatente10!I56)>0,2,\"\")))","v":""}]
[null,"3.3 Evolución del mercado",{"$f":"IF(COUNTA(EvaluaciónPatente10!L60)>0,EvaluaciónPatente10!L60,\"\")","v":""},null,null,null,null,null,null,{"$f":"IF(COUNTA(EvaluaciónPatente10!C59)>0,0,IF(COUNTA(EvaluaciónPatente10!F59)>0,1,IF(COUNTA(EvaluaciónPatente10!I59)>0,2,\"\")))","v":""}]
[null,"3.4 Esperanza de vida en el mercado ",{"$f":"IF(COUNTA(EvaluaciónPatente10!L63)>0,EvaluaciónPatente10!L63,\"\")","v":""},null,null,null,null,null,null,{"$f":"IF(COUNTA(EvaluaciónPatente10!C62)>0,0,IF(COUNTA(EvaluaciónPatente10!F62)>0,1,IF(COUNTA(EvaluaciónPatente10!I62)>0,2,\"\")))","v":""}]
[null,"3.5 Entorno competitiva ",{"$f":"IF(COUNTA(EvaluaciónPatente10!L66)>0,EvaluaciónPatente10!L66,\"\")","v":""},null,null,null,null,null,null,{"$f":"IF(COUNTA(EvaluaciónPatente10!C65)>0,0,IF(COUNTA(EvaluaciónPatente10!F65)>0,1,IF(COUNTA(EvaluaciónPatente10!I65)>0,2,\"\")))","v":""}]
[null,"3.6 Permisos",{"$f":"IF(COUNTA(EvaluaciónPatente10!L69)>0,EvaluaciónPatente10!L69,\"\")","v":""},null,null,null,null,null,null,{"$f":"IF(COUNTA(EvaluaciónPatente10!C68)>0,0,IF(COUNTA(EvaluaciónPatente10!F68)>0,1,IF(COUNTA(EvaluaciónPatente10!I68)>0,2,\"\")))","v":""}]
[null,"3.7  Ventajas competitivas",{"$f":"IF(COUNTA(EvaluaciónPatente10!L72)>0,EvaluaciónPatente10!L72,\"\")","v":""},null,null,null,null,null,null,{"$f":"IF(COUNTA(EvaluaciónPatente10!C71)>0,0,IF(COUNTA(EvaluaciónPatente10!F71)>0,1,IF(COUNTA(EvaluaciónPatente10!I71)>0,2,\"\")))","v":""}]
[null,"3.8 Plazo de comercialización",{"$f":"IF(COUNTA(EvaluaciónPatente10!L75)>0,EvaluaciónPatente10!L75,\"\")","v":""},null,null,null,null,null,null,{"$f":"IF(COUNTA(EvaluaciónPatente10!C74)>0,0,IF(COUNTA(EvaluaciónPatente10!F74)>0,1,IF(COUNTA(EvaluaciónPatente10!I74)>0,2,\"\")))","v":""}]
[null,"3.9 Oportunidades comerciales y feedback",{"$f":"IF(COUNTA(EvaluaciónPatente10!L78)>0,EvaluaciónPatente10!L78,\"\")","v":""},null,null,null,null,null,null,{"$f":"IF(COUNTA(EvaluaciónPatente10!C77)>0,0,IF(COUNTA(EvaluaciónPatente10!F77)>0,1,IF(COUNTA(EvaluaciónPatente10!I77)>0,2,\"\")))","v":""}]
[null,null,null,null,null,null,null,null,null,null,null,"Cubrir solo donde esté indicado"]
[null,null,"E = Evaluación"]
[]
[]
[]
[]
[]
[]
[]
[]
["      2.2 Valoración general"]
[]
[]
[]
[]
[]
[]
[]
[]
[]
[]
[]
[]
[]
[]
[]
[]
[]
[]
[null,null,null,null,null,null,null,null,null,null,null,null,null,null,null,null," "]
[]
[]
[]
[]
["3. Conclusiones y observaciones"]
[]
["      3.1 Situación de la tecnología patentada de cara al proceso de una posible comercialización "]
[]
[null,"Tecnología patentada con alto potencial de transferencia o lista para transferir.",null,null,null,null,null,null,null,null,null,"Marcar una opción"]
[null,"Tecnología patentada pendiente de completar proceso de evaluación."]
[null,"Tecnología patentada con un grado de madurez que no es suficiente para iniciar un proceso de comercialización."]
[null,"Con la información aportada, la tecnología patentada no es de interés para un proceso de comercialización."]
[]
["         Justificación de la evaluación"]
[]
[null,null,null,null,null,null,null,null,null,null,null,"Indicar justificación de la evaluación"]
[{"$f":"IF(EvaluaciónPatente10!C19=\"x\", \"Patente no cumple con los requisitos mínimos. Patente revocada, expirada o caducada.\", \"\")","v":""}]
[{"$f":"IF(EvaluaciónPatente10!C22=\"x\", \"Patente no cumple con los requisitos mínimos. La protección de la patente es limitado a un mercado que no es su mercado principal. \", \"\")","v":""}]
[{"$f":"IF(EvaluaciónPatente10!C39=\"x\", \"Patente no cumple con los requisitos mínimos. Es muy difícil identificar los productos de imitación. \", \"\")","v":""}]
[{"$f":"IF(EvaluaciónPatente10!C53=\"x\", \"Patente no cumple con los requisitos mínimos. Recursos no asignados, la tecnología patentada no es clave para el equipo o el grupo. \", \"\")","v":""}]
[]
[]
[null,null,null,"   "]
["      3.2 Observaciones"]
[]
[null,null,null,null,null,null,null,null,null,null,null,"Indicar observaciones"]
[]
[]
[]
[]
[]
[]
[]
[]
[]
[]
[]
[]
[]
[]
[]
[]
[]
["      3.3 Implantación"]
[]
["Acciones",null,null,"Responsable",1,2,3,4,5,6,null,"Indicar proceso de implantación"]
[]
[]
[]
[]
[]
[]
[]
[]
[]
[]
[]
[]
[]
[]
[]
["4. Datos de la evaluación"]
[]
["Autor",null,null,null,null,"Fecha de realización"]
[{"$f":"IF(COUNTA(EvaluaciónPatente10!F12)>0,EvaluaciónPatente10!F12,\"\")","v":""},null,null,null,null,{"$f":"IF(COUNTA(EvaluaciónPatente10!F13)>0,EvaluaciónPatente10!F13,\"\")","v":""}]

{"sheet":"EvaluaciónPatente11","index":24,"n_rows":78,"n_cols":12,"rows_kept":78,"cut":false,"hidden":false,"merged":[[75,2,75,3],[57,2,57,3],[60,2,60,3],[63,2,63,3],[66,2,66,3],[69,2,69,3],[72,2,72,3],[54,2,54,3],[17,2,17,3],[20,2,20,8],[23,2,23,8],[26,2,26,8],[29,2,29,8],[32,2,32,8],[37,2,37,8],[40,2,40,8],[43,2,43,8],[46,2,46,8],[51,2,51,8],[10,1,10,3],[10,5,10,6],[11,1,11,3],[11,5,11,6],[12,1,12,3],[12,5,12,6]]}
[]
[]
[]
[]
[]
[]
[]
[]
[]
[]
[null,"Denominación de la tecnología patentada",null,null,null,null,null,null,null,"1. Incluir la denominación de la tecnología, el nombre del evaluador y la fecha de la evaluación"]
[null,"Nombre del evaluador",null,null,null,null,null,null,null,"2. Marcar con una «X» el nivel para cada criterio y los comentarios que justifiquen la elección"]
[null,"Fecha de evaluación de la tecnología patentada"]
[]
[null,"Criterios de evaluación"]
[]
[null,"1. Criterios legales"]
[null,null,"Criterio 1.1 Estado legal (Criterio de exclusión)"]
[null,null,null,"Desfavorable",null,null,"Neutro",null,null,"Favorable",null,"Comentarios"]
[null,null,null,"Patente revocada, expirada o caducada.",null,null,"-",null,null,"Por lo menos una solicitud de patente pendiente o patente concedida."]
[null,null,"Criterio 1.2 Alcance territorial (Criterio de exclusión)"]
[null,null,null,"Desfavorable",null,null,"Neutro",null,null,"Favorable",null,"Comentarios"]
[null,null,null,"La protección de la patente esta limitada a un mercado que no es su mercado principal. ",null,null,"-",null,null,"Protección en un país que es su mercado principal o en más de un país de la zona de mercado, o si la protección todavía está disponible para su elección (periodo de prioridad, PCT, EP)."]
[null,null,"Criterio 1.3 Fuerza de la protección"]
[null,null,null,"Desfavorable",null,null,"Neutro",null,null,"Favorable",null,"Comentarios"]
[null,null,null,"(PATENTES NO PUBLICADAS)\nNo se ha identificado el estado de\nla técnica o se ha identificado que\nel estado de la técnica no supone\nuna amenaza para la novedad y/o la\nactividad inventiva.\n(PATENTES PUBLICADAS)\nEvaluación de la patentabilidad por la\noficina nacional o similar existente, con\n2 o más documentos X.",null,null,"(PATENTES NO PUBLICADAS)\nSe ha identificado el estado de la\ntécnica y los documentos encontrados\nno suponen una amenaza para la\nnovedad. Sin embargo, la actividad\ninventiva es una cuestión de\ninterpretación.\n(PATENTES PUBLICADAS)\nExamen de la novedad por la oficina\nnacional o similar existente, con\ndocumentos X o Y, pero con potencial\nde conceder la patente.",null,null,"PATENTES NO PUBLICADAS)\nSe ha identificado el estado de la\ntécnica que no supone por el momento\nninguna amenaza para la novedad y la\nactividad inventiva.\n(PATENTES PUBLICADAS)\nExamen de la novedad por la oficina\nnacional o similar existente, sin\ndocumentos X o patente concedida."]
[null,null,"Criterio 1.4 Duración de la protección"]
[null,null,null,"Desfavorable",null,null,"Neutro",null,null,"Favorable",null,"Comentarios"]
[null,null,null,"A la patente le quedan menos de 6 años.",null,null,"A la patente le quedan 6-12 años",null,null,"A la patente le quedan más de 12 años"]
[null,null,"Criterio 1.5 Alcance de la protección "]
[null,null,null,"Desfavorable",null,null,"Neutro",null,null,"Favorable",null,"Comentarios"]
[null,null,null,"Las reivindicaciones son muy concretas y específicas.",null,null,"Las reivindicaciones son razonablemente amplias.",null,null,"Las reivindicaciones comprenden un principio general."]
[null,null,"Criterio 1.6 (In)dependencia"]
[null,null,null,"Desfavorable",null,null,"Neutro",null,null,"Favorable",null,"Comentarios"]
[null,null,null,"El uso de la patente depende de cotitulares fuera del ámbito habitual o de cotitulares con menos de 5% cotitularidad dentro del ámbito habitual.",null,null,"El uso de la patente depende de cotitulares, pero dentro del ámbito habitual.",null,null,"La patente no tiene cotitulares. El uso y la explotación de la patente es independiente de acuerdos con cotitulares."]
[]
[null,"2. Criterios tecnológicos "]
[null,null,"Criterio 2.1 Capacidad de detección (Criterio de exclusión y madurez)"]
[null,null,null,"Desfavorable",null,null,"Neutro",null,null,"Favorable",null,"Comentarios"]
[null,null,null,"Es muy difícil identificar los productos\nde imitación. Es prácticamente\nimposible de detectar el uso ilegal de\nun procedimiento, un método o el uso\nde un compuesto.",null,null,"Es difícil pero no imposible identificar\nproductos de imitación. La detección\nde un uso ilegal de un procedimiento,\nun método o el uso de un compuesto\nes posible, aunque difícil.",null,null,"Es fácil identificar los productos\nilegales de imitación. La detección de\nun uso ilegal de un procedimiento, un\nmétodo o el uso de un compuesto es\nfácil.",null," "]
[null,null,"Criterio 2.2 Capacidad de imitación"]
[null,null,null,"Desfavorable",null,null,"Neutro",null,null,"Favorable",null,"Comentarios"]
[null,null,null,"La tecnología patentada es fácil de identificar, copiar y producir.",null,null,"Es posible copiar y producir la tecnología patentada por ejemplo mediante ingeniería inversa.",null,null,"La tecnología patentada es muy difícil de copiar y producir."]
[null,null,"Criterio 2.3 Estado de desarrollo (TRL)"]
[null,null,null,"Desfavorable",null,null,"Neutro",null,null,"Favorable",null,"Comentarios"]
[null,null,null,"Entrono laboratorio: la invención ha sido probada, en teoría, de acuerdo con cálculos (TRL 1-2).",null,null,"Se han realizado experimentos, se han desarrollado prototipos (TRL 3-4).",null,null,"Demostración de la invención en un entorno real (TRL ≥5)."]
[null,null,"Criterio 2.4 Proceso de producción"]
[null,null,null,"Desfavorable",null,null,"Neutro",null,null,"Favorable",null,"Comentarios"]
[null,null,null,"La tecnología patentada requiere un proceso de producción completamente nuevo o modifica fundamentalmente el procedimiento actualmente en uso.",null,null,"Se requiere el desarrollo de los procesos de producción actualmente aplicados antes de poder utilizar o producir la tecnología patentada.",null,null,"La tecnología patentada puede utilizarse o producirse con el proceso de producción actualmente aplicado."]
[]
[null,"3. Criterios de mercado"]
[null,null,"Criterio 3.1 Compromiso con la comercialización (Criterio de exclusión y madurez)"]
[null,null,null,"Desfavorable",null,null,"Neutro",null,null,"Favorable",null,"Comentarios"]
[null,null,null,"Recursos no asignados, la tecnología patentada no es clave para el equipo o el grupo.",null,null,"Personas asignadas a la tecnología patentada, pero sin funciones definidas. El proceso de transferencia no es una prioridad. ",null,null,"Proyecto clave dentro de la estrategia de transferencia del grupo o equipo. Hay personas asignadas para participar en el proceso con roles establecidos."]
[null,null,"Criterio 3.2 Mercado potencial / Aplicaciones"]
[null,null,null,"Desfavorable",null,null,"Neutro",null,null,"Favorable",null,"Comentarios"]
[null,null,null,"La tecnología patentada aún no se ha dirigido a un mercado concreto o se dirige a un mercado pequeño. No está confirmado el sector de aplicación.",null,null,"Existe un mercado conocido para la tecnología patentada con un tamaño significativo dentro del -ámbito tecnológico. La aplicación se limita a un sector industrial.",null,null,"Existe un mercado conocido y grande, así como otros mercados significativos. Se han identificado numerosos ámbitos de aplicación."]
[null,null,"Criterio 3.3 Evolución del mercado"]
[null,null,null,"Desfavorable",null,null,"Neutro",null,null,"Favorable",null,"Comentarios"]
[null,null,null,"Bajo (CAGR < 4%).",null,null,"Medio (CAGR 4-8%).",null,null,"Alto (CAGR >8%)."]
[null,null,"Criterio 3.4 Esperanza de vida en el mercado"]
[null,null,null,"Desfavorable",null,null,"Neutro",null,null,"Favorable",null,"Comentarios"]
[null,null,null,"Inferior a 2 años.",null,null,"Entre 2 -5 años.",null,null,"Más de 5 años."]
[null,null,"Criterio 3.5 Entorno competitivo"]
[null,null,null,"Desfavorable",null,null,"Neutro",null,null,"Favorable",null,"Comentarios"]
[null,null,null,"No se identificaron los competidores ni productos sustitutivos.",null,null,"Situación dominante de un grupo restringido de empresas o limitado a un número escaso de empresas.",null,null,"Entorno competitivo detectado y definido. Mercado accesible y abierto."]
[null,null,"Criterio 3.6 Permisos y estándares de mercado"]
[null,null,null,"Desfavorable",null,null,"Neutro",null,null,"Favorable",null,"Comentarios"]
[null,null,null,"Se necesitan permisos o/y se tienen\nque cumplir estándares para vender\nproductos en el mercado, pero aún\nno se han identificado y analizado los\nrequisitos.",null,null,"Permisos y/o estándares necesarios\ndetectados y analizados o aplicación\nde permisos en proceso.",null,null,"No es necesario un permiso ni se\ntienen que cumplir estándares para la\nventa de productos en el mercado."]
[null,null,"Criterio 3.7 Ventajas competitivas"]
[null,null,null,"Desfavorable",null,null,"Neutro",null,null,"Favorable",null,"Comentarios"]
[null,null,null,"No se han detectado las ventajas competitivas.",null,null,"Se han definido las ventajas competitivas. La tecnología patentada ofrece al menos 1-2 ventajas sobre las tecnologías y productos existentes.",null,null,"La tecnología patentada proporciona características realmente innovadoras y distintivas que pueden utilizarse para la comercialización y la venta de posibles productos."]
[null,null,"Criterio 3.8 Plazo de comercialización"]
[null,null,null,"Desfavorable",null,null,"Neutro",null,null,"Favorable",null,"Comentarios"]
[null,null,null,"Superior a 3 años.",null,null,"Entre 2-3 años.",null,null,"Inferior a 2 años."]
[null,null,"Criterio 3.9 Oportunidades comerciales y feedback"]
[null,null,null,"Desfavorable",null,null,"Neutro",null,null,"Favorable",null,"Comentarios"]
[null,null,null,"El equipo investigador no tiene\nconocimiento sobre el entorno\ncomercial de la tecnología patentada.\nNo existe feedback por parte de\nempresas interesadas, o solo feedback\nnegativo.",null,null,"El equipo investigador tiene\noportunidades comerciales detectadas\ny conoce empresas y entidades\ninteresadas. Existe feedback por parte\nde empresas interesadas, pero sin\nintención para una cooperación.",null,null,"El equipo investigador ya ha tenido\ncontacto con empresas y entidades\ninteresadas y tiene varias oportunidades\ncomerciales detectadas. Existe feedback\npor parte de empresas interesadas, con\nintención para una cooperación."]

{"sheet":"InformePatente11","index":25,"n_rows":146,"n_cols":17,"rows_kept":146,"cut":false,"hidden":false,"merged":[[145,5,145,9],[46,2,46,8],[47,2,47,8],[48,2,48,8],[49,2,49,8],[50,2,50,8],[144,5,144,9],[28,0,31,0],[28,2,28,8],[29,2,29,8],[30,2,30,8],[31,2,31,8],[42,0,50,0],[42,2,42,8],[43,2,43,8],[44,2,44,8],[45,2,45,8],[14,0,14,9],[21,0,21,1],[22,0,27,0],[22,2,22,8],[23,2,23,8],[24,2,24,8],[25,2,25,8],[26,2,26,8],[27,2,27,8]]}
[]
[null,null,null,null,null,null,null,null,null,null,null,null,null,null,null,"Promedio"]
[null,null,null,null,null,null,null,null,null,null,null,null,null,null,null,"Criterios legales",{"$f":"IF(COUNT(SUM(J25,J26,J27,J28))>0,SUM(J25,J26,J27,J28)/8,-9999999999)","v":0}]
[null,null,null,null,null,null,null,null,null,null,null,null,null,null,null,"Criterios tecnológicos ",{"$f":"IF(COUNT(SUM(J29,J30,J31,J32))>0,SUM(J29,J30,J31,J32)/8,-9999999999)","v":0}]
[null,null,null,null,null,null,null,null,null,null,null,null,null,null,null,"Criterios de mercado",{"$f":"IF(COUNT(SUM(J43,J45,J44,J46,J47,J48,J49,J50,J51))>0,SUM(J43,J45,J44,J46,J47,J48,J49,J50,J51)/18,-9999999999)","v":0}]
[]
[]
[null,null,null,null,null,null,null,null,null,null,null,"Cubrir solo donde esté indicado"]
[]
[]
["INFORME DE EVALUACIÓN"]
[]
["1. Título"]
[]
[{"$f":"IF(COUNTA(EvaluaciónPatente11!F11)>0,EvaluaciónPatente11!F11,\"\")","v":""}]
[]
[]
["2. Evaluación"]
[]
["      2.1 Evaluación de criterios "]
[]
["Criterios",null,"Observaciones",null,null,null,null,null,null,"E"]
["1. Criterios legales","1.1 Estado legal ",{"$f":"IF(COUNTA(EvaluaciónPatente11!L20)>0,EvaluaciónPatente11!L20,\"\")","v":""},null,null,null,null,null,null,{"$f":"IF(COUNTA(EvaluaciónPatente11!C19)>0,0,IF(COUNTA(EvaluaciónPatente11!F19)>0,1,IF(COUNTA(EvaluaciónPatente11!I19)>0,2,\"\")))","v":""}]
[null,"1.2  Alcance territorial ",{"$f":"IF(COUNTA(EvaluaciónPatente11!L23)>0,EvaluaciónPatente11!L23,\"\")","v":""},null,null,null,null,null,null,{"$f":"IF(COUNTA(EvaluaciónPatente11!C22)>0,0,IF(COUNTA(EvaluaciónPatente11!F22)>0,1,IF(COUNTA(EvaluaciónPatente11!I22)>0,2,\"\")))","v":""}]
[null,"1.3 Fuerza de la protección",{"$f":"IF(COUNTA(EvaluaciónPatente11!L26)>0,EvaluaciónPatente11!L26,\"\")","v":""},null,null,null,null,null,null,{"$f":"IF(COUNTA(EvaluaciónPatente11!C25)>0,0,IF(COUNTA(EvaluaciónPatente11!F25)>0,1,IF(COUNTA(EvaluaciónPatente11!I25)>0,2,\"\")))","v":""}]
[null,"1.4 Duración de la protección",{"$f":"IF(COUNTA(EvaluaciónPatente11!L29)>0,EvaluaciónPatente11!L29,\"\")","v":""},null,null,null,null,null,null,{"$f":"IF(COUNTA(EvaluaciónPatente11!C28)>0,0,IF(COUNTA(EvaluaciónPatente11!F28)>0,1,IF(COUNTA(EvaluaciónPatente11!I28)>0,2,\"\")))","v":""}]
[null,"1.5 Alcance de la protección",{"$f":"IF(COUNTA(EvaluaciónPatente11!L32)>0,EvaluaciónPatente11!L32,\"\")","v":""},null,null,null,null,null,null,{"$f":"IF(COUNTA(EvaluaciónPatente11!C31)>0,0,IF(COUNTA(EvaluaciónPatente11!F31)>0,1,IF(COUNTA(EvaluaciónPatente11!I31)>0,2,\"\")))","v":""}]
[null,"1.6 (In)dependencia",{"$f":"IF(COUNTA(EvaluaciónPatente11!L35)>0,EvaluaciónPatente11!L35,\"\")","v":""},null,null,null,null,null,null,{"$f":"IF(COUNTA(EvaluaciónPatente11!C34)>0,0,IF(COUNTA(EvaluaciónPatente11!F34)>0,1,IF(COUNTA(EvaluaciónPatente11!I34)>0,2,\"\")))","v":""}]
["2. Criterios tecnológicos  ","2.1 Capacidad de detección",{"$f":"IF(COUNTA(EvaluaciónPatente11!L40)>0,EvaluaciónPatente11!L40,\"\")","v":" "},null,null,null,null,null,null,{"$f":"IF(COUNTA(EvaluaciónPatente11!C39)>0,0,IF(COUNTA(EvaluaciónPatente11!F39)>0,1,IF(COUNTA(EvaluaciónPatente11!I39)>0,2,\"\")))","v":""}]
[null,"2.2 Capacidad de imitación",{"$f":"IF(COUNTA(EvaluaciónPatente11!L43)>0,EvaluaciónPatente11!L43,\"\")","v":""},null,null,null,null,null,null,{"$f":"IF(COUNTA(EvaluaciónPatente11!C42)>0,0,IF(COUNTA(EvaluaciónPatente11!F42)>0,1,IF(COUNTA(EvaluaciónPatente11!I42)>0,2,\"\")))","v":""}]
[null,"2.3 Estado de desarrollo (TRL)",{"$f":"IF(COUNTA(EvaluaciónPatente11!L46)>0,EvaluaciónPatente11!L46,\"\")","v":""},null,null,null,null,null,null,{"$f":"IF(COUNTA(EvaluaciónPatente11!C45)>0,0,IF(COUNTA(EvaluaciónPatente11!F45)>0,1,IF(COUNTA(EvaluaciónPatente11!I45)>0,2,\"\")))","v":""}]
[null,"2.4 Proceso de producción / competencias ",{"$f":"IF(COUNTA(EvaluaciónPatente11!L49)>0,EvaluaciónPatente11!L49,\"\")","v":""},null,null,null,null,null,null,{"$f":"IF(COUNTA(EvaluaciónPatente11!C48)>0,0,IF(COUNTA(EvaluaciónPatente11!F48)>0,1,IF(COUNTA(EvaluaciónPatente11!I48)>0,2,\"\")))","v":""}]
[]
[null,null,"E = Evaluación",null,null,null,null,null,null,null,null,"Cubrir solo donde esté indicado"]
[]
[]
[]
[]
[]
[]
[]
["Criterios",null,"Observaciones",null,null,null,null,null,null,"E"]
["3. Criterios de mercado","3.1 Compromiso con la comercialización",{"$f":"IF(COUNTA(EvaluaciónPatente11!L54)>0,EvaluaciónPatente11!L54,\"\")","v":""},null,null,null,null,null,null,{"$f":"IF(COUNTA(EvaluaciónPatente11!C53)>0,0,IF(COUNTA(EvaluaciónPatente11!F53)>0,1,IF(COUNTA(EvaluaciónPatente11!I53)>0,2,\"\")))","v":""}]
[null,"3.2 Mercado potencial / Aplicaciones ",{"$f":"IF(COUNTA(EvaluaciónPatente11!L57)>0,EvaluaciónPatente11!L57,\"\")","v":""},null,null,null,null,null,null,{"$f":"IF(COUNTA(EvaluaciónPatente11!C56)>0,0,IF(COUNTA(EvaluaciónPatente11!F56)>0,1,IF(COUNTA(EvaluaciónPatente11!I56)>0,2,\"\")))","v":""}]
[null,"3.3 Evolución del mercado",{"$f":"IF(COUNTA(EvaluaciónPatente11!L60)>0,EvaluaciónPatente11!L60,\"\")","v":""},null,null,null,null,null,null,{"$f":"IF(COUNTA(EvaluaciónPatente11!C59)>0,0,IF(COUNTA(EvaluaciónPatente11!F59)>0,1,IF(COUNTA(EvaluaciónPatente11!I59)>0,2,\"\")))","v":""}]
[null,"3.4 Esperanza de vida en el mercado ",{"$f":"IF(COUNTA(EvaluaciónPatente11!L63)>0,EvaluaciónPatente11!L63,\"\")","v":""},null,null,null,null,null,null,{"$f":"IF(COUNTA(EvaluaciónPatente11!C62)>0,0,IF(COUNTA(EvaluaciónPatente11!F62)>0,1,IF(COUNTA(EvaluaciónPatente11!I62)>0,2,\"\")))","v":""}]
[null,"3.5 Entorno competitiva ",{"$f":"IF(COUNTA(EvaluaciónPatente11!L66)>0,EvaluaciónPatente11!L66,\"\")","v":""},null,null,null,null,null,null,{"$f":"IF(COUNTA(EvaluaciónPatente11!C65)>0,0,IF(COUNTA(EvaluaciónPatente11!F65)>0,1,IF(COUNTA(EvaluaciónPatente11!I65)>0,2,\"\")))","v":""}]
[null,"3.6 Permisos",{"$f":"IF(COUNTA(EvaluaciónPatente11!L69)>0,EvaluaciónPatente11!L69,\"\")","v":""},null,null,null,null,null,null,{"$f":"IF(COUNTA(EvaluaciónPatente11!C68)>0,0,IF(COUNTA(EvaluaciónPatente11!F68)>0,1,IF(COUNTA(EvaluaciónPatente11!I68)>0,2,\"\")))","v":""}]
[null,"3.7  Ventajas competitivas",{"$f":"IF(COUNTA(EvaluaciónPatente11!L72)>0,EvaluaciónPatente11!L72,\"\")","v":""},null,null,null,null,null,null,{"$f":"IF(COUNTA(EvaluaciónPatente11!C71)>0,0,IF(COUNTA(EvaluaciónPatente11!F71)>0,1,IF(COUNTA(EvaluaciónPatente11!I71)>0,2,\"\")))","v":""}]
[null,"3.8 Plazo de comercialización",{"$f":"IF(COUNTA(EvaluaciónPatente11!L75)>0,EvaluaciónPatente11!L75,\"\")","v":""},null,null,null,null,null,null,{"$f":"IF(COUNTA(EvaluaciónPatente11!C74)>0,0,IF(COUNTA(EvaluaciónPatente11!F74)>0,1,IF(COUNTA(EvaluaciónPatente11!I74)>0,2,\"\")))","v":""}]
[null,"3.9 Oportunidades comerciales y feedback",{"$f":"IF(COUNTA(EvaluaciónPatente11!L78)>0,EvaluaciónPatente11!L78,\"\")","v":""},null,null,null,null,null,null,{"$f":"IF(COUNTA(EvaluaciónPatente11!C77)>0,0,IF(COUNTA(EvaluaciónPatente11!F77)>0,1,IF(COUNTA(EvaluaciónPatente11!I77)>0,2,\"\")))","v":""}]
[null,null,null,null,null,null,null,null,null,null,null,"Cubrir solo donde esté indicado"]
[null,null,"E = Evaluación"]
[]
[]
[]
[]
[]
[]
[]
[]
["      2.2 Valoración general"]
[]
[]
[]
[]
[]
[]
[]
[]
[]
[]
[]
[]
[]
[]
[]
[]
[]
[]
[null,null,null,null,null,null,null,null,null,null,null,null,null,null,null,null," "]
[]
[]
[]
[]
["3. Conclusiones y observaciones"]
[]
["      3.1 Situación de la tecnología patentada de cara al proceso de una posible comercialización "]
[]
[null,"Tecnología patentada con alto potencial de transferencia o lista para transferir.",null,null,null,null,null,null,null,null,null,"Marcar una opción"]
[null,"Tecnología patentada pendiente de completar proceso de evaluación."]
[null,"Tecnología patentada con un grado de madurez que no es suficiente para iniciar un proceso de comercialización."]
[null,"Con la información aportada, la tecnología patentada no es de interés para un proceso de comercialización."]
[]
["         Justificación de la evaluación"]
[]
[null,null,null,null,null,null,null,null,null,null,null,"Indicar justificación de la evaluación"]
[{"$f":"IF(EvaluaciónPatente11!C19=\"x\", \"Patente no cumple con los requisitos mínimos. Patente revocada, expirada o caducada.\", \"\")","v":""}]
[{"$f":"IF(EvaluaciónPatente11!C22=\"x\", \"Patente no cumple con los requisitos mínimos. La protección de la patente es limitado a un mercado que no es su mercado principal. \", \"\")","v":""}]
[{"$f":"IF(EvaluaciónPatente11!C39=\"x\", \"Patente no cumple con los requisitos mínimos. Es muy difícil identificar los productos de imitación. \", \"\")","v":""}]
[{"$f":"IF(EvaluaciónPatente11!C53=\"x\", \"Patente no cumple con los requisitos mínimos. Recursos no asignados, la tecnología patentada no es clave para el equipo o el grupo. \", \"\")","v":""}]
[]
[]
[null,null,null,"   "]
["      3.2 Observaciones"]
[]
[null,null,null,null,null,null,null,null,null,null,null,"Indicar observaciones"]
[]
[]
[]
[]
[]
[]
[]
[]
[]
[]
[]
[]
[]
[]
[]
[]
[]
["      3.3 Implantación"]
[]
["Acciones",null,null,"Responsable",1,2,3,4,5,6,null,"Indicar proceso de implantación"]
[]
[]
[]
[]
[]
[]
[]
[]
[]
[]
[]
[]
[]
[]
[]
["4. Datos de la evaluación"]
[]
["Autor",null,null,null,null,"Fecha de realización"]
[{"$f":"IF(COUNTA(EvaluaciónPatente11!F12)>0,EvaluaciónPatente11!F12,\"\")","v":""},null,null,null,null,{"$f":"IF(COUNTA(EvaluaciónPatente11!F13)>0,EvaluaciónPatente11!F13,\"\")","v":""}]

{"sheet":"EvaluaciónPatente12","index":26,"n_rows":78,"n_cols":12,"rows_kept":78,"cut":false,"hidden":false,"merged":[[75,2,75,3],[57,2,57,3],[60,2,60,3],[63,2,63,3],[66,2,66,3],[69,2,69,3],[72,2,72,3],[54,2,54,3],[17,2,17,3],[20,2,20,8],[23,2,23,8],[26,2,26,8],[29,2,29,8],[32,2,32,8],[37,2,37,8],[40,2,40,8],[43,2,43,8],[46,2,46,8],[51,2,51,8],[10,1,10,3],[10,5,10,6],[11,1,11,3],[11,5,11,6],[12,1,12,3],[12,5,12,6]]}
[]
[]
[]
[]
[]
[]
[]
[]
[]
[]
[null,"Denominación de la tecnología patentada",null,null,null,null,null,null,null,"1. Incluir la denominación de la tecnología, el nombre del evaluador y la fecha de la evaluación"]
[null,"Nombre del evaluador",null,null,null,null,null,null,null,"2. Marcar con una «X» el nivel para cada criterio y los comentarios que justifiquen la elección"]
[null,"Fecha de evaluación de la tecnología patentada"]
[]
[null,"Criterios de evaluación"]
[]
[null,"1. Criterios legales"]
[null,null,"Criterio 1.1 Estado legal (Criterio de exclusión)"]
[null,null,null,"Desfavorable",null,null,"Neutro",null,null,"Favorable",null,"Comentarios"]
[null,null,null,"Patente revocada, expirada o caducada.",null,null,"-",null,null,"Por lo menos una solicitud de patente pendiente o patente concedida."]
[null,null,"Criterio 1.2 Alcance territorial (Criterio de exclusión)"]
[null,null,null,"Desfavorable",null,null,"Neutro",null,null,"Favorable",null,"Comentarios"]
[null,null,null,"La protección de la patente esta limitada a un mercado que no es su mercado principal. ",null,null,"-",null,null,"Protección en un país que es su mercado principal o en más de un país de la zona de mercado, o si la protección todavía está disponible para su elección (periodo de prioridad, PCT, EP)."]
[null,null,"Criterio 1.3 Fuerza de la protección"]
[null,null,null,"Desfavorable",null,null,"Neutro",null,null,"Favorable",null,"Comentarios"]
[null,null,null,"(PATENTES NO PUBLICADAS)\nNo se ha identificado el estado de\nla técnica o se ha identificado que\nel estado de la técnica no supone\nuna amenaza para la novedad y/o la\nactividad inventiva.\n(PATENTES PUBLICADAS)\nEvaluación de la patentabilidad por la\noficina nacional o similar existente, con\n2 o más documentos X.",null,null,"(PATENTES NO PUBLICADAS)\nSe ha identificado el estado de la\ntécnica y los documentos encontrados\nno suponen una amenaza para la\nnovedad. Sin embargo, la actividad\ninventiva es una cuestión de\ninterpretación.\n(PATENTES PUBLICADAS)\nExamen de la novedad por la oficina\nnacional o similar existente, con\ndocumentos X o Y, pero con potencial\nde conceder la patente.",null,null,"PATENTES NO PUBLICADAS)\nSe ha identificado el estado de la\ntécnica que no supone por el momento\nninguna amenaza para la novedad y la\nactividad inventiva.\n(PATENTES PUBLICADAS)\nExamen de la novedad por la oficina\nnacional o similar existente, sin\ndocumentos X o patente concedida."]
[null,null,"Criterio 1.4 Duración de la protección"]
[null,null,null,"Desfavorable",null,null,"Neutro",null,null,"Favorable",null,"Comentarios"]
[null,null,null,"A la patente le quedan menos de 6 años.",null,null,"A la patente le quedan 6-12 años",null,null,"A la patente le quedan más de 12 años"]
[null,null,"Criterio 1.5 Alcance de la protección "]
[null,null,null,"Desfavorable",null,null,"Neutro",null,null,"Favorable",null,"Comentarios"]
[null,null,null,"Las reivindicaciones son muy concretas y específicas.",null,null,"Las reivindicaciones son razonablemente amplias.",null,null,"Las reivindicaciones comprenden un principio general."]
[null,null,"Criterio 1.6 (In)dependencia"]
[null,null,null,"Desfavorable",null,null,"Neutro",null,null,"Favorable",null,"Comentarios"]
[null,null,null,"El uso de la patente depende de cotitulares fuera del ámbito habitual o de cotitulares con menos de 5% cotitularidad dentro del ámbito habitual.",null,null,"El uso de la patente depende de cotitulares, pero dentro del ámbito habitual.",null,null,"La patente no tiene cotitulares. El uso y la explotación de la patente es independiente de acuerdos con cotitulares."]
[]
[null,"2. Criterios tecnológicos "]
[null,null,"Criterio 2.1 Capacidad de detección (Criterio de exclusión y madurez)"]
[null,null,null,"Desfavorable",null,null,"Neutro",null,null,"Favorable",null,"Comentarios"]
[null,null,null,"Es muy difícil identificar los productos\nde imitación. Es prácticamente\nimposible de detectar el uso ilegal de\nun procedimiento, un método o el uso\nde un compuesto.",null,null,"Es difícil pero no imposible identificar\nproductos de imitación. La detección\nde un uso ilegal de un procedimiento,\nun método o el uso de un compuesto\nes posible, aunque difícil.",null,null,"Es fácil identificar los productos\nilegales de imitación. La detección de\nun uso ilegal de un procedimiento, un\nmétodo o el uso de un compuesto es\nfácil.",null," "]
[null,null,"Criterio 2.2 Capacidad de imitación"]
[null,null,null,"Desfavorable",null,null,"Neutro",null,null,"Favorable",null,"Comentarios"]
[null,null,null,"La tecnología patentada es fácil de identificar, copiar y producir.",null,null,"Es posible copiar y producir la tecnología patentada por ejemplo mediante ingeniería inversa.",null,null,"La tecnología patentada es muy difícil de copiar y producir."]
[null,null,"Criterio 2.3 Estado de desarrollo (TRL)"]
[null,null,null,"Desfavorable",null,null,"Neutro",null,null,"Favorable",null,"Comentarios"]
[null,null,null,"Entrono laboratorio: la invención ha sido probada, en teoría, de acuerdo con cálculos (TRL 1-2).",null,null,"Se han realizado experimentos, se han desarrollado prototipos (TRL 3-4).",null,null,"Demostración de la invención en un entorno real (TRL ≥5)."]
[null,null,"Criterio 2.4 Proceso de producción"]
[null,null,null,"Desfavorable",null,null,"Neutro",null,null,"Favorable",null,"Comentarios"]
[null,null,null,"La tecnología patentada requiere un proceso de producción completamente nuevo o modifica fundamentalmente el procedimiento actualmente en uso.",null,null,"Se requiere el desarrollo de los procesos de producción actualmente aplicados antes de poder utilizar o producir la tecnología patentada.",null,null,"La tecnología patentada puede utilizarse o producirse con el proceso de producción actualmente aplicado."]
[]
[null,"3. Criterios de mercado"]
[null,null,"Criterio 3.1 Compromiso con la comercialización (Criterio de exclusión y madurez)"]
[null,null,null,"Desfavorable",null,null,"Neutro",null,null,"Favorable",null,"Comentarios"]
[null,null,null,"Recursos no asignados, la tecnología patentada no es clave para el equipo o el grupo.",null,null,"Personas asignadas a la tecnología patentada, pero sin funciones definidas. El proceso de transferencia no es una prioridad. ",null,null,"Proyecto clave dentro de la estrategia de transferencia del grupo o equipo. Hay personas asignadas para participar en el proceso con roles establecidos."]
[null,null,"Criterio 3.2 Mercado potencial / Aplicaciones"]
[null,null,null,"Desfavorable",null,null,"Neutro",null,null,"Favorable",null,"Comentarios"]
[null,null,null,"La tecnología patentada aún no se ha dirigido a un mercado concreto o se dirige a un mercado pequeño. No está confirmado el sector de aplicación.",null,null,"Existe un mercado conocido para la tecnología patentada con un tamaño significativo dentro del -ámbito tecnológico. La aplicación se limita a un sector industrial.",null,null,"Existe un mercado conocido y grande, así como otros mercados significativos. Se han identificado numerosos ámbitos de aplicación."]
[null,null,"Criterio 3.3 Evolución del mercado"]
[null,null,null,"Desfavorable",null,null,"Neutro",null,null,"Favorable",null,"Comentarios"]
[null,null,null,"Bajo (CAGR < 4%).",null,null,"Medio (CAGR 4-8%).",null,null,"Alto (CAGR >8%)."]
[null,null,"Criterio 3.4 Esperanza de vida en el mercado"]
[null,null,null,"Desfavorable",null,null,"Neutro",null,null,"Favorable",null,"Comentarios"]
[null,null,null,"Inferior a 2 años.",null,null,"Entre 2 -5 años.",null,null,"Más de 5 años."]
[null,null,"Criterio 3.5 Entorno competitivo"]
[null,null,null,"Desfavorable",null,null,"Neutro",null,null,"Favorable",null,"Comentarios"]
[null,null,null,"No se identificaron los competidores ni productos sustitutivos.",null,null,"Situación dominante de un grupo restringido de empresas o limitado a un número escaso de empresas.",null,null,"Entorno competitivo detectado y definido. Mercado accesible y abierto."]
[null,null,"Criterio 3.6 Permisos y estándares de mercado"]
[null,null,null,"Desfavorable",null,null,"Neutro",null,null,"Favorable",null,"Comentarios"]
[null,null,null,"Se necesitan permisos o/y se tienen\nque cumplir estándares para vender\nproductos en el mercado, pero aún\nno se han identificado y analizado los\nrequisitos.",null,null,"Permisos y/o estándares necesarios\ndetectados y analizados o aplicación\nde permisos en proceso.",null,null,"No es necesario un permiso ni se\ntienen que cumplir estándares para la\nventa de productos en el mercado."]
[null,null,"Criterio 3.7 Ventajas competitivas"]
[null,null,null,"Desfavorable",null,null,"Neutro",null,null,"Favorable",null,"Comentarios"]
[null,null,null,"No se han detectado las ventajas competitivas.",null,null,"Se han definido las ventajas competitivas. La tecnología patentada ofrece al menos 1-2 ventajas sobre las tecnologías y productos existentes.",null,null,"La tecnología patentada proporciona características realmente innovadoras y distintivas que pueden utilizarse para la comercialización y la venta de posibles productos."]
[null,null,"Criterio 3.8 Plazo de comercialización"]
[null,null,null,"Desfavorable",null,null,"Neutro",null,null,"Favorable",null,"Comentarios"]
[null,null,null,"Superior a 3 años.",null,null,"Entre 2-3 años.",null,null,"Inferior a 2 años."]
[null,null,"Criterio 3.9 Oportunidades comerciales y feedback"]
[null,null,null,"Desfavorable",null,null,"Neutro",null,null,"Favorable",null,"Comentarios"]
[null,null,null,"El equipo investigador no tiene\nconocimiento sobre el entorno\ncomercial de la tecnología patentada.\nNo existe feedback por parte de\nempresas interesadas, o solo feedback\nnegativo.",null,null,"El equipo investigador tiene\noportunidades comerciales detectadas\ny conoce empresas y entidades\ninteresadas. Existe feedback por parte\nde empresas interesadas, pero sin\nintención para una cooperación.",null,null,"El equipo investigador ya ha tenido\ncontacto con empresas y entidades\ninteresadas y tiene varias oportunidades\ncomerciales detectadas. Existe feedback\npor parte de empresas interesadas, con\nintención para una cooperación."]

{"sheet":"InformePatente12","index":27,"n_rows":146,"n_cols":17,"rows_kept":146,"cut":false,"hidden":false,"merged":[[145,5,145,9],[46,2,46,8],[47,2,47,8],[48,2,48,8],[49,2,49,8],[50,2,50,8],[144,5,144,9],[28,0,31,0],[28,2,28,8],[29,2,29,8],[30,2,30,8],[31,2,31,8],[42,0,50,0],[42,2,42,8],[43,2,43,8],[44,2,44,8],[45,2,45,8],[14,0,14,9],[21,0,21,1],[22,0,27,0],[22,2,22,8],[23,2,23,8],[24,2,24,8],[25,2,25,8],[26,2,26,8],[27,2,27,8]]}
[]
[null,null,null,null,null,null,null,null,null,null,null,null,null,null,null,"Promedio"]
[null,null,null,null,null,null,null,null,null,null,null,null,null,null,null,"Criterios legales",{"$f":"IF(COUNT(SUM(J25,J26,J27,J28))>0,SUM(J25,J26,J27,J28)/8,-9999999999)","v":0}]
[null,null,null,null,null,null,null,null,null,null,null,null,null,null,null,"Criterios tecnológicos ",{"$f":"IF(COUNT(SUM(J29,J30,J31,J32))>0,SUM(J29,J30,J31,J32)/8,-9999999999)","v":0}]
[null,null,null,null,null,null,null,null,null,null,null,null,null,null,null,"Criterios de mercado",{"$f":"IF(COUNT(SUM(J43,J45,J44,J46,J47,J48,J49,J50,J51))>0,SUM(J43,J45,J44,J46,J47,J48,J49,J50,J51)/18,-9999999999)","v":0}]
[]
[]
[null,null,null,null,null,null,null,null,null,null,null,"Cubrir solo donde esté indicado"]
[]
[]
["INFORME DE EVALUACIÓN"]
[]
["1. Título"]
[]
[{"$f":"IF(COUNTA(EvaluaciónPatente12!F11)>0,EvaluaciónPatente12!F11,\"\")","v":""}]
[]
[]
["2. Evaluación"]
[]
["      2.1 Evaluación de criterios "]
[]
["Criterios",null,"Observaciones",null,null,null,null,null,null,"E"]
["1. Criterios legales","1.1 Estado legal ",{"$f":"IF(COUNTA(EvaluaciónPatente12!L20)>0,EvaluaciónPatente12!L20,\"\")","v":""},null,null,null,null,null,null,{"$f":"IF(COUNTA(EvaluaciónPatente12!C19)>0,0,IF(COUNTA(EvaluaciónPatente12!F19)>0,1,IF(COUNTA(EvaluaciónPatente12!I19)>0,2,\"\")))","v":""}]
[null,"1.2  Alcance territorial ",{"$f":"IF(COUNTA(EvaluaciónPatente12!L23)>0,EvaluaciónPatente12!L23,\"\")","v":""},null,null,null,null,null,null,{"$f":"IF(COUNTA(EvaluaciónPatente12!C22)>0,0,IF(COUNTA(EvaluaciónPatente12!F22)>0,1,IF(COUNTA(EvaluaciónPatente12!I22)>0,2,\"\")))","v":""}]
[null,"1.3 Fuerza de la protección",{"$f":"IF(COUNTA(EvaluaciónPatente12!L26)>0,EvaluaciónPatente12!L26,\"\")","v":""},null,null,null,null,null,null,{"$f":"IF(COUNTA(EvaluaciónPatente12!C25)>0,0,IF(COUNTA(EvaluaciónPatente12!F25)>0,1,IF(COUNTA(EvaluaciónPatente12!I25)>0,2,\"\")))","v":""}]
[null,"1.4 Duración de la protección",{"$f":"IF(COUNTA(EvaluaciónPatente12!L29)>0,EvaluaciónPatente12!L29,\"\")","v":""},null,null,null,null,null,null,{"$f":"IF(COUNTA(EvaluaciónPatente12!C28)>0,0,IF(COUNTA(EvaluaciónPatente12!F28)>0,1,IF(COUNTA(EvaluaciónPatente12!I28)>0,2,\"\")))","v":""}]
[null,"1.5 Alcance de la protección",{"$f":"IF(COUNTA(EvaluaciónPatente12!L32)>0,EvaluaciónPatente12!L32,\"\")","v":""},null,null,null,null,null,null,{"$f":"IF(COUNTA(EvaluaciónPatente12!C31)>0,0,IF(COUNTA(EvaluaciónPatente12!F31)>0,1,IF(COUNTA(EvaluaciónPatente12!I31)>0,2,\"\")))","v":""}]
[null,"1.6 (In)dependencia",{"$f":"IF(COUNTA(EvaluaciónPatente12!L35)>0,EvaluaciónPatente12!L35,\"\")","v":""},null,null,null,null,null,null,{"$f":"IF(COUNTA(EvaluaciónPatente12!C34)>0,0,IF(COUNTA(EvaluaciónPatente12!F34)>0,1,IF(COUNTA(EvaluaciónPatente12!I34)>0,2,\"\")))","v":""}]
["2. Criterios tecnológicos  ","2.1 Capacidad de detección",{"$f":"IF(COUNTA(EvaluaciónPatente12!L40)>0,EvaluaciónPatente12!L40,\"\")","v":" "},null,null,null,null,null,null,{"$f":"IF(COUNTA(EvaluaciónPatente12!C39)>0,0,IF(COUNTA(EvaluaciónPatente12!F39)>0,1,IF(COUNTA(EvaluaciónPatente12!I39)>0,2,\"\")))","v":""}]
[null,"2.2 Capacidad de imitación",{"$f":"IF(COUNTA(EvaluaciónPatente12!L43)>0,EvaluaciónPatente12!L43,\"\")","v":""},null,null,null,null,null,null,{"$f":"IF(COUNTA(EvaluaciónPatente12!C42)>0,0,IF(COUNTA(EvaluaciónPatente12!F42)>0,1,IF(COUNTA(EvaluaciónPatente12!I42)>0,2,\"\")))","v":""}]
[null,"2.3 Estado de desarrollo (TRL)",{"$f":"IF(COUNTA(EvaluaciónPatente12!L46)>0,EvaluaciónPatente12!L46,\"\")","v":""},null,null,null,null,null,null,{"$f":"IF(COUNTA(EvaluaciónPatente12!C45)>0,0,IF(COUNTA(EvaluaciónPatente12!F45)>0,1,IF(COUNTA(EvaluaciónPatente12!I45)>0,2,\"\")))","v":""}]
[null,"2.4 Proceso de producción / competencias ",{"$f":"IF(COUNTA(EvaluaciónPatente12!L49)>0,EvaluaciónPatente12!L49,\"\")","v":""},null,null,null,null,null,null,{"$f":"IF(COUNTA(EvaluaciónPatente12!C48)>0,0,IF(COUNTA(EvaluaciónPatente12!F48)>0,1,IF(COUNTA(EvaluaciónPatente12!I48)>0,2,\"\")))","v":""}]
[]
[null,null,"E = Evaluación",null,null,null,null,null,null,null,null,"Cubrir solo donde esté indicado"]
[]
[]
[]
[]
[]
[]
[]
["Criterios",null,"Observaciones",null,null,null,null,null,null,"E"]
["3. Criterios de mercado","3.1 Compromiso con la comercialización",{"$f":"IF(COUNTA(EvaluaciónPatente12!L54)>0,EvaluaciónPatente12!L54,\"\")","v":""},null,null,null,null,null,null,{"$f":"IF(COUNTA(EvaluaciónPatente12!C53)>0,0,IF(COUNTA(EvaluaciónPatente12!F53)>0,1,IF(COUNTA(EvaluaciónPatente12!I53)>0,2,\"\")))","v":""}]
[null,"3.2 Mercado potencial / Aplicaciones ",{"$f":"IF(COUNTA(EvaluaciónPatente12!L57)>0,EvaluaciónPatente12!L57,\"\")","v":""},null,null,null,null,null,null,{"$f":"IF(COUNTA(EvaluaciónPatente12!C56)>0,0,IF(COUNTA(EvaluaciónPatente12!F56)>0,1,IF(COUNTA(EvaluaciónPatente12!I56)>0,2,\"\")))","v":""}]
[null,"3.3 Evolución del mercado",{"$f":"IF(COUNTA(EvaluaciónPatente12!L60)>0,EvaluaciónPatente12!L60,\"\")","v":""},null,null,null,null,null,null,{"$f":"IF(COUNTA(EvaluaciónPatente12!C59)>0,0,IF(COUNTA(EvaluaciónPatente12!F59)>0,1,IF(COUNTA(EvaluaciónPatente12!I59)>0,2,\"\")))","v":""}]
[null,"3.4 Esperanza de vida en el mercado ",{"$f":"IF(COUNTA(EvaluaciónPatente12!L63)>0,EvaluaciónPatente12!L63,\"\")","v":""},null,null,null,null,null,null,{"$f":"IF(COUNTA(EvaluaciónPatente12!C62)>0,0,IF(COUNTA(EvaluaciónPatente12!F62)>0,1,IF(COUNTA(EvaluaciónPatente12!I62)>0,2,\"\")))","v":""}]
[null,"3.5 Entorno competitiva ",{"$f":"IF(COUNTA(EvaluaciónPatente12!L66)>0,EvaluaciónPatente12!L66,\"\")","v":""},null,null,null,null,null,null,{"$f":"IF(COUNTA(EvaluaciónPatente12!C65)>0,0,IF(COUNTA(EvaluaciónPatente12!F65)>0,1,IF(COUNTA(EvaluaciónPatente12!I65)>0,2,\"\")))","v":""}]
[null,"3.6 Permisos",{"$f":"IF(COUNTA(EvaluaciónPatente12!L69)>0,EvaluaciónPatente12!L69,\"\")","v":""},null,null,null,null,null,null,{"$f":"IF(COUNTA(EvaluaciónPatente12!C68)>0,0,IF(COUNTA(EvaluaciónPatente12!F68)>0,1,IF(COUNTA(EvaluaciónPatente12!I68)>0,2,\"\")))","v":""}]
[null,"3.7  Ventajas competitivas",{"$f":"IF(COUNTA(EvaluaciónPatente12!L72)>0,EvaluaciónPatente12!L72,\"\")","v":""},null,null,null,null,null,null,{"$f":"IF(COUNTA(EvaluaciónPatente12!C71)>0,0,IF(COUNTA(EvaluaciónPatente12!F71)>0,1,IF(COUNTA(EvaluaciónPatente12!I71)>0,2,\"\")))","v":""}]
[null,"3.8 Plazo de comercialización",{"$f":"IF(COUNTA(EvaluaciónPatente12!L75)>0,EvaluaciónPatente12!L75,\"\")","v":""},null,null,null,null,null,null,{"$f":"IF(COUNTA(EvaluaciónPatente12!C74)>0,0,IF(COUNTA(EvaluaciónPatente12!F74)>0,1,IF(COUNTA(EvaluaciónPatente12!I74)>0,2,\"\")))","v":""}]
[null,"3.9 Oportunidades comerciales y feedback",{"$f":"IF(COUNTA(EvaluaciónPatente12!L78)>0,EvaluaciónPatente12!L78,\"\")","v":""},null,null,null,null,null,null,{"$f":"IF(COUNTA(EvaluaciónPatente12!C77)>0,0,IF(COUNTA(EvaluaciónPatente12!F77)>0,1,IF(COUNTA(EvaluaciónPatente12!I77)>0,2,\"\")))","v":""}]
[null,null,null,null,null,null,null,null,null,null,null,"Cubrir solo donde esté indicado"]
[null,null,"E = Evaluación"]
[]
[]
[]
[]
[]
[]
[]
[]
["      2.2 Valoración general"]
[]
[]
[]
[]
[]
[]
[]
[]
[]
[]
[]
[]
[]
[]
[]
[]
[]
[]
[null,null,null,null,null,null,null,null,null,null,null,null,null,null,null,null," "]
[]
[]
[]
[]
["3. Conclusiones y observaciones"]
[]
["      3.1 Situación de la tecnología patentada de cara al proceso de una posible comercialización "]
[]
[null,"Tecnología patentada con alto potencial de transferencia o lista para transferir.",null,null,null,null,null,null,null,null,null,"Marcar una opción"]
[null,"Tecnología patentada pendiente de completar proceso de evaluación."]
[null,"Tecnología patentada con un grado de madurez que no es suficiente para iniciar un proceso de comercialización."]
[null,"Con la información aportada, la tecnología patentada no es de interés para un proceso de comercialización."]
[]
["         Justificación de la evaluación"]
[]
[null,null,null,null,null,null,null,null,null,null,null,"Indicar justificación de la evaluación"]
[{"$f":"IF(EvaluaciónPatente12!C19=\"x\", \"Patente no cumple con los requisitos mínimos. Patente revocada, expirada o caducada.\", \"\")","v":""}]
[{"$f":"IF(EvaluaciónPatente12!C22=\"x\", \"Patente no cumple con los requisitos mínimos. La protección de la patente es limitado a un mercado que no es su mercado principal. \", \"\")","v":""}]
[{"$f":"IF(EvaluaciónPatente12!C39=\"x\", \"Patente no cumple con los requisitos mínimos. Es muy difícil identificar los productos de imitación. \", \"\")","v":""}]
[{"$f":"IF(EvaluaciónPatente12!C53=\"x\", \"Patente no cumple con los requisitos mínimos. Recursos no asignados, la tecnología patentada no es clave para el equipo o el grupo. \", \"\")","v":""}]
[]
[]
[null,null,null,"   "]
["      3.2 Observaciones"]
[]
[null,null,null,null,null,null,null,null,null,null,null,"Indicar observaciones"]
[]
[]
[]
[]
[]
[]
[]
[]
[]
[]
[]
[]
[]
[]
[]
[]
[]
["      3.3 Implantación"]
[]
["Acciones",null,null,"Responsable",1,2,3,4,5,6,null,"Indicar proceso de implantación"]
[]
[]
[]
[]
[]
[]
[]
[]
[]
[]
[]
[]
[]
[]
[]
["4. Datos de la evaluación"]
[]
["Autor",null,null,null,null,"Fecha de realización"]
[{"$f":"IF(COUNTA(EvaluaciónPatente12!F12)>0,EvaluaciónPatente12!F12,\"\")","v":""},null,null,null,null,{"$f":"IF(COUNTA(EvaluaciónPatente12!F13)>0,EvaluaciónPatente12!F13,\"\")","v":""}]

{"sheet":"EvaluaciónPatente13","index":28,"n_rows":78,"n_cols":12,"rows_kept":78,"cut":false,"hidden":false,"merged":[[75,2,75,3],[57,2,57,3],[60,2,60,3],[63,2,63,3],[66,2,66,3],[69,2,69,3],[72,2,72,3],[54,2,54,3],[17,2,17,3],[20,2,20,8],[23,2,23,8],[26,2,26,8],[29,2,29,8],[32,2,32,8],[37,2,37,8],[40,2,40,8],[43,2,43,8],[46,2,46,8],[51,2,51,8],[10,1,10,3],[10,5,10,6],[11,1,11,3],[11,5,11,6],[12,1,12,3],[12,5,12,6]]}
[]
[]
[]
[]
[]
[]
[]
[]
[]
[]
[null,"Denominación de la tecnología patentada",null,null,null,null,null,null,null,"1. Incluir la denominación de la tecnología, el nombre del evaluador y la fecha de la evaluación"]
[null,"Nombre del evaluador",null,null,null,null,null,null,null,"2. Marcar con una «X» el nivel para cada criterio y los comentarios que justifiquen la elección"]
[null,"Fecha de evaluación de la tecnología patentada"]
[]
[null,"Criterios de evaluación"]
[]
[null,"1. Criterios legales"]
[null,null,"Criterio 1.1 Estado legal (Criterio de exclusión)"]
[null,null,null,"Desfavorable",null,null,"Neutro",null,null,"Favorable",null,"Comentarios"]
[null,null,null,"Patente revocada, expirada o caducada.",null,null,"-",null,null,"Por lo menos una solicitud de patente pendiente o patente concedida."]
[null,null,"Criterio 1.2 Alcance territorial (Criterio de exclusión)"]
[null,null,null,"Desfavorable",null,null,"Neutro",null,null,"Favorable",null,"Comentarios"]
[null,null,null,"La protección de la patente esta limitada a un mercado que no es su mercado principal. ",null,null,"-",null,null,"Protección en un país que es su mercado principal o en más de un país de la zona de mercado, o si la protección todavía está disponible para su elección (periodo de prioridad, PCT, EP)."]
[null,null,"Criterio 1.3 Fuerza de la protección"]
[null,null,null,"Desfavorable",null,null,"Neutro",null,null,"Favorable",null,"Comentarios"]
[null,null,null,"(PATENTES NO PUBLICADAS)\nNo se ha identificado el estado de\nla técnica o se ha identificado que\nel estado de la técnica no supone\nuna amenaza para la novedad y/o la\nactividad inventiva.\n(PATENTES PUBLICADAS)\nEvaluación de la patentabilidad por la\noficina nacional o similar existente, con\n2 o más documentos X.",null,null,"(PATENTES NO PUBLICADAS)\nSe ha identificado el estado de la\ntécnica y los documentos encontrados\nno suponen una amenaza para la\nnovedad. Sin embargo, la actividad\ninventiva es una cuestión de\ninterpretación.\n(PATENTES PUBLICADAS)\nExamen de la novedad por la oficina\nnacional o similar existente, con\ndocumentos X o Y, pero con potencial\nde conceder la patente.",null,null,"PATENTES NO PUBLICADAS)\nSe ha identificado el estado de la\ntécnica que no supone por el momento\nninguna amenaza para la novedad y la\nactividad inventiva.\n(PATENTES PUBLICADAS)\nExamen de la novedad por la oficina\nnacional o similar existente, sin\ndocumentos X o patente concedida."]
[null,null,"Criterio 1.4 Duración de la protección"]
[null,null,null,"Desfavorable",null,null,"Neutro",null,null,"Favorable",null,"Comentarios"]
[null,null,null,"A la patente le quedan menos de 6 años.",null,null,"A la patente le quedan 6-12 años",null,null,"A la patente le quedan más de 12 años"]
[null,null,"Criterio 1.5 Alcance de la protección "]
[null,null,null,"Desfavorable",null,null,"Neutro",null,null,"Favorable",null,"Comentarios"]
[null,null,null,"Las reivindicaciones son muy concretas y específicas.",null,null,"Las reivindicaciones son razonablemente amplias.",null,null,"Las reivindicaciones comprenden un principio general."]
[null,null,"Criterio 1.6 (In)dependencia"]
[null,null,null,"Desfavorable",null,null,"Neutro",null,null,"Favorable",null,"Comentarios"]
[null,null,null,"El uso de la patente depende de cotitulares fuera del ámbito habitual o de cotitulares con menos de 5% cotitularidad dentro del ámbito habitual.",null,null,"El uso de la patente depende de cotitulares, pero dentro del ámbito habitual.",null,null,"La patente no tiene cotitulares. El uso y la explotación de la patente es independiente de acuerdos con cotitulares."]
[]
[null,"2. Criterios tecnológicos "]
[null,null,"Criterio 2.1 Capacidad de detección (Criterio de exclusión y madurez)"]
[null,null,null,"Desfavorable",null,null,"Neutro",null,null,"Favorable",null,"Comentarios"]
[null,null,null,"Es muy difícil identificar los productos\nde imitación. Es prácticamente\nimposible de detectar el uso ilegal de\nun procedimiento, un método o el uso\nde un compuesto.",null,null,"Es difícil pero no imposible identificar\nproductos de imitación. La detección\nde un uso ilegal de un procedimiento,\nun método o el uso de un compuesto\nes posible, aunque difícil.",null,null,"Es fácil identificar los productos\nilegales de imitación. La detección de\nun uso ilegal de un procedimiento, un\nmétodo o el uso de un compuesto es\nfácil.",null," "]
[null,null,"Criterio 2.2 Capacidad de imitación"]
[null,null,null,"Desfavorable",null,null,"Neutro",null,null,"Favorable",null,"Comentarios"]
[null,null,null,"La tecnología patentada es fácil de identificar, copiar y producir.",null,null,"Es posible copiar y producir la tecnología patentada por ejemplo mediante ingeniería inversa.",null,null,"La tecnología patentada es muy difícil de copiar y producir."]
[null,null,"Criterio 2.3 Estado de desarrollo (TRL)"]
[null,null,null,"Desfavorable",null,null,"Neutro",null,null,"Favorable",null,"Comentarios"]
[null,null,null,"Entrono laboratorio: la invención ha sido probada, en teoría, de acuerdo con cálculos (TRL 1-2).",null,null,"Se han realizado experimentos, se han desarrollado prototipos (TRL 3-4).",null,null,"Demostración de la invención en un entorno real (TRL ≥5)."]
[null,null,"Criterio 2.4 Proceso de producción"]
[null,null,null,"Desfavorable",null,null,"Neutro",null,null,"Favorable",null,"Comentarios"]
[null,null,null,"La tecnología patentada requiere un proceso de producción completamente nuevo o modifica fundamentalmente el procedimiento actualmente en uso.",null,null,"Se requiere el desarrollo de los procesos de producción actualmente aplicados antes de poder utilizar o producir la tecnología patentada.",null,null,"La tecnología patentada puede utilizarse o producirse con el proceso de producción actualmente aplicado."]
[]
[null,"3. Criterios de mercado"]
[null,null,"Criterio 3.1 Compromiso con la comercialización (Criterio de exclusión y madurez)"]
[null,null,null,"Desfavorable",null,null,"Neutro",null,null,"Favorable",null,"Comentarios"]
[null,null,null,"Recursos no asignados, la tecnología patentada no es clave para el equipo o el grupo.",null,null,"Personas asignadas a la tecnología patentada, pero sin funciones definidas. El proceso de transferencia no es una prioridad. ",null,null,"Proyecto clave dentro de la estrategia de transferencia del grupo o equipo. Hay personas asignadas para participar en el proceso con roles establecidos."]
[null,null,"Criterio 3.2 Mercado potencial / Aplicaciones"]
[null,null,null,"Desfavorable",null,null,"Neutro",null,null,"Favorable",null,"Comentarios"]
[null,null,null,"La tecnología patentada aún no se ha dirigido a un mercado concreto o se dirige a un mercado pequeño. No está confirmado el sector de aplicación.",null,null,"Existe un mercado conocido para la tecnología patentada con un tamaño significativo dentro del -ámbito tecnológico. La aplicación se limita a un sector industrial.",null,null,"Existe un mercado conocido y grande, así como otros mercados significativos. Se han identificado numerosos ámbitos de aplicación."]
[null,null,"Criterio 3.3 Evolución del mercado"]
[null,null,null,"Desfavorable",null,null,"Neutro",null,null,"Favorable",null,"Comentarios"]
[null,null,null,"Bajo (CAGR < 4%).",null,null,"Medio (CAGR 4-8%).",null,null,"Alto (CAGR >8%)."]
[null,null,"Criterio 3.4 Esperanza de vida en el mercado"]
[null,null,null,"Desfavorable",null,null,"Neutro",null,null,"Favorable",null,"Comentarios"]
[null,null,null,"Inferior a 2 años.",null,null,"Entre 2 -5 años.",null,null,"Más de 5 años."]
[null,null,"Criterio 3.5 Entorno competitivo"]
[null,null,null,"Desfavorable",null,null,"Neutro",null,null,"Favorable",null,"Comentarios"]
[null,null,null,"No se identificaron los competidores ni productos sustitutivos.",null,null,"Situación dominante de un grupo restringido de empresas o limitado a un número escaso de empresas.",null,null,"Entorno competitivo detectado y definido. Mercado accesible y abierto."]
[null,null,"Criterio 3.6 Permisos y estándares de mercado"]
[null,null,null,"Desfavorable",null,null,"Neutro",null,null,"Favorable",null,"Comentarios"]
[null,null,null,"Se necesitan permisos o/y se tienen\nque cumplir estándares para vender\nproductos en el mercado, pero aún\nno se han identificado y analizado los\nrequisitos.",null,null,"Permisos y/o estándares necesarios\ndetectados y analizados o aplicación\nde permisos en proceso.",null,null,"No es necesario un permiso ni se\ntienen que cumplir estándares para la\nventa de productos en el mercado."]
[null,null,"Criterio 3.7 Ventajas competitivas"]
[null,null,null,"Desfavorable",null,null,"Neutro",null,null,"Favorable",null,"Comentarios"]
[null,null,null,"No se han detectado las ventajas competitivas.",null,null,"Se han definido las ventajas competitivas. La tecnología patentada ofrece al menos 1-2 ventajas sobre las tecnologías y productos existentes.",null,null,"La tecnología patentada proporciona características realmente innovadoras y distintivas que pueden utilizarse para la comercialización y la venta de posibles productos."]
[null,null,"Criterio 3.8 Plazo de comercialización"]
[null,null,null,"Desfavorable",null,null,"Neutro",null,null,"Favorable",null,"Comentarios"]
[null,null,null,"Superior a 3 años.",null,null,"Entre 2-3 años.",null,null,"Inferior a 2 años."]
[null,null,"Criterio 3.9 Oportunidades comerciales y feedback"]
[null,null,null,"Desfavorable",null,null,"Neutro",null,null,"Favorable",null,"Comentarios"]
[null,null,null,"El equipo investigador no tiene\nconocimiento sobre el entorno\ncomercial de la tecnología patentada.\nNo existe feedback por parte de\nempresas interesadas, o solo feedback\nnegativo.",null,null,"El equipo investigador tiene\noportunidades comerciales detectadas\ny conoce empresas y entidades\ninteresadas. Existe feedback por parte\nde empresas interesadas, pero sin\nintención para una cooperación.",null,null,"El equipo investigador ya ha tenido\ncontacto con empresas y entidades\ninteresadas y tiene varias oportunidades\ncomerciales detectadas. Existe feedback\npor parte de empresas interesadas, con\nintención para una cooperación."]

{"sheet":"InformePatente13","index":29,"n_rows":146,"n_cols":17,"rows_kept":146,"cut":false,"hidden":false,"merged":[[145,5,145,9],[46,2,46,8],[47,2,47,8],[48,2,48,8],[49,2,49,8],[50,2,50,8],[144,5,144,9],[28,0,31,0],[28,2,28,8],[29,2,29,8],[30,2,30,8],[31,2,31,8],[42,0,50,0],[42,2,42,8],[43,2,43,8],[44,2,44,8],[45,2,45,8],[14,0,14,9],[21,0,21,1],[22,0,27,0],[22,2,22,8],[23,2,23,8],[24,2,24,8],[25,2,25,8],[26,2,26,8],[27,2,27,8]]}
[]
[null,null,null,null,null,null,null,null,null,null,null,null,null,null,null,"Promedio"]
[null,null,null,null,null,null,null,null,null,null,null,null,null,null,null,"Criterios legales",{"$f":"IF(COUNT(SUM(J25,J26,J27,J28))>0,SUM(J25,J26,J27,J28)/8,-9999999999)","v":0}]
[null,null,null,null,null,null,null,null,null,null,null,null,null,null,null,"Criterios tecnológicos ",{"$f":"IF(COUNT(SUM(J29,J30,J31,J32))>0,SUM(J29,J30,J31,J32)/8,-9999999999)","v":0}]
[null,null,null,null,null,null,null,null,null,null,null,null,null,null,null,"Criterios de mercado",{"$f":"IF(COUNT(SUM(J43,J45,J44,J46,J47,J48,J49,J50,J51))>0,SUM(J43,J45,J44,J46,J47,J48,J49,J50,J51)/18,-9999999999)","v":0}]
[]
[]
[null,null,null,null,null,null,null,null,null,null,null,"Cubrir solo donde esté indicado"]
[]
[]
["INFORME DE EVALUACIÓN"]
[]
["1. Título"]
[]
[{"$f":"IF(COUNTA(EvaluaciónPatente13!F11)>0,EvaluaciónPatente13!F11,\"\")","v":""}]
[]
[]
["2. Evaluación"]
[]
["      2.1 Evaluación de criterios "]
[]
["Criterios",null,"Observaciones",null,null,null,null,null,null,"E"]
["1. Criterios legales","1.1 Estado legal ",{"$f":"IF(COUNTA(EvaluaciónPatente13!L20)>0,EvaluaciónPatente13!L20,\"\")","v":""},null,null,null,null,null,null,{"$f":"IF(COUNTA(EvaluaciónPatente13!C19)>0,0,IF(COUNTA(EvaluaciónPatente13!F19)>0,1,IF(COUNTA(EvaluaciónPatente13!I19)>0,2,\"\")))","v":""}]
[null,"1.2  Alcance territorial ",{"$f":"IF(COUNTA(EvaluaciónPatente13!L23)>0,EvaluaciónPatente13!L23,\"\")","v":""},null,null,null,null,null,null,{"$f":"IF(COUNTA(EvaluaciónPatente13!C22)>0,0,IF(COUNTA(EvaluaciónPatente13!F22)>0,1,IF(COUNTA(EvaluaciónPatente13!I22)>0,2,\"\")))","v":""}]
[null,"1.3 Fuerza de la protección",{"$f":"IF(COUNTA(EvaluaciónPatente13!L26)>0,EvaluaciónPatente13!L26,\"\")","v":""},null,null,null,null,null,null,{"$f":"IF(COUNTA(EvaluaciónPatente13!C25)>0,0,IF(COUNTA(EvaluaciónPatente13!F25)>0,1,IF(COUNTA(EvaluaciónPatente13!I25)>0,2,\"\")))","v":""}]
[null,"1.4 Duración de la protección",{"$f":"IF(COUNTA(EvaluaciónPatente13!L29)>0,EvaluaciónPatente13!L29,\"\")","v":""},null,null,null,null,null,null,{"$f":"IF(COUNTA(EvaluaciónPatente13!C28)>0,0,IF(COUNTA(EvaluaciónPatente13!F28)>0,1,IF(COUNTA(EvaluaciónPatente13!I28)>0,2,\"\")))","v":""}]
[null,"1.5 Alcance de la protección",{"$f":"IF(COUNTA(EvaluaciónPatente13!L32)>0,EvaluaciónPatente13!L32,\"\")","v":""},null,null,null,null,null,null,{"$f":"IF(COUNTA(EvaluaciónPatente13!C31)>0,0,IF(COUNTA(EvaluaciónPatente13!F31)>0,1,IF(COUNTA(EvaluaciónPatente13!I31)>0,2,\"\")))","v":""}]
[null,"1.6 (In)dependencia",{"$f":"IF(COUNTA(EvaluaciónPatente13!L35)>0,EvaluaciónPatente13!L35,\"\")","v":""},null,null,null,null,null,null,{"$f":"IF(COUNTA(EvaluaciónPatente13!C34)>0,0,IF(COUNTA(EvaluaciónPatente13!F34)>0,1,IF(COUNTA(EvaluaciónPatente13!I34)>0,2,\"\")))","v":""}]
["2. Criterios tecnológicos  ","2.1 Capacidad de detección",{"$f":"IF(COUNTA(EvaluaciónPatente13!L40)>0,EvaluaciónPatente13!L40,\"\")","v":" "},null,null,null,null,null,null,{"$f":"IF(COUNTA(EvaluaciónPatente13!C39)>0,0,IF(COUNTA(EvaluaciónPatente13!F39)>0,1,IF(COUNTA(EvaluaciónPatente13!I39)>0,2,\"\")))","v":""}]
[null,"2.2 Capacidad de imitación",{"$f":"IF(COUNTA(EvaluaciónPatente13!L43)>0,EvaluaciónPatente13!L43,\"\")","v":""},null,null,null,null,null,null,{"$f":"IF(COUNTA(EvaluaciónPatente13!C42)>0,0,IF(COUNTA(EvaluaciónPatente13!F42)>0,1,IF(COUNTA(EvaluaciónPatente13!I42)>0,2,\"\")))","v":""}]
[null,"2.3 Estado de desarrollo (TRL)",{"$f":"IF(COUNTA(EvaluaciónPatente13!L46)>0,EvaluaciónPatente13!L46,\"\")","v":""},null,null,null,null,null,null,{"$f":"IF(COUNTA(EvaluaciónPatente13!C45)>0,0,IF(COUNTA(EvaluaciónPatente13!F45)>0,1,IF(COUNTA(EvaluaciónPatente13!I45)>0,2,\"\")))","v":""}]
[null,"2.4 Proceso de producción / competencias ",{"$f":"IF(COUNTA(EvaluaciónPatente13!L49)>0,EvaluaciónPatente13!L49,\"\")","v":""},null,null,null,null,null,null,{"$f":"IF(COUNTA(EvaluaciónPatente13!C48)>0,0,IF(COUNTA(EvaluaciónPatente13!F48)>0,1,IF(COUNTA(EvaluaciónPatente13!I48)>0,2,\"\")))","v":""}]
[]
[null,null,"E = Evaluación",null,null,null,null,null,null,null,null,"Cubrir solo donde esté indicado"]
[]
[]
[]
[]
[]
[]
[]
["Criterios",null,"Observaciones",null,null,null,null,null,null,"E"]
["3. Criterios de mercado","3.1 Compromiso con la comercialización",{"$f":"IF(COUNTA(EvaluaciónPatente13!L54)>0,EvaluaciónPatente13!L54,\"\")","v":""},null,null,null,null,null,null,{"$f":"IF(COUNTA(EvaluaciónPatente13!C53)>0,0,IF(COUNTA(EvaluaciónPatente13!F53)>0,1,IF(COUNTA(EvaluaciónPatente13!I53)>0,2,\"\")))","v":""}]
[null,"3.2 Mercado potencial / Aplicaciones ",{"$f":"IF(COUNTA(EvaluaciónPatente13!L57)>0,EvaluaciónPatente13!L57,\"\")","v":""},null,null,null,null,null,null,{"$f":"IF(COUNTA(EvaluaciónPatente13!C56)>0,0,IF(COUNTA(EvaluaciónPatente13!F56)>0,1,IF(COUNTA(EvaluaciónPatente13!I56)>0,2,\"\")))","v":""}]
[null,"3.3 Evolución del mercado",{"$f":"IF(COUNTA(EvaluaciónPatente13!L60)>0,EvaluaciónPatente13!L60,\"\")","v":""},null,null,null,null,null,null,{"$f":"IF(COUNTA(EvaluaciónPatente13!C59)>0,0,IF(COUNTA(EvaluaciónPatente13!F59)>0,1,IF(COUNTA(EvaluaciónPatente13!I59)>0,2,\"\")))","v":""}]
[null,"3.4 Esperanza de vida en el mercado ",{"$f":"IF(COUNTA(EvaluaciónPatente13!L63)>0,EvaluaciónPatente13!L63,\"\")","v":""},null,null,null,null,null,null,{"$f":"IF(COUNTA(EvaluaciónPatente13!C62)>0,0,IF(COUNTA(EvaluaciónPatente13!F62)>0,1,IF(COUNTA(EvaluaciónPatente13!I62)>0,2,\"\")))","v":""}]
[null,"3.5 Entorno competitiva ",{"$f":"IF(COUNTA(EvaluaciónPatente13!L66)>0,EvaluaciónPatente13!L66,\"\")","v":""},null,null,null,null,null,null,{"$f":"IF(COUNTA(EvaluaciónPatente13!C65)>0,0,IF(COUNTA(EvaluaciónPatente13!F65)>0,1,IF(COUNTA(EvaluaciónPatente13!I65)>0,2,\"\")))","v":""}]
[null,"3.6 Permisos",{"$f":"IF(COUNTA(EvaluaciónPatente13!L69)>0,EvaluaciónPatente13!L69,\"\")","v":""},null,null,null,null,null,null,{"$f":"IF(COUNTA(EvaluaciónPatente13!C68)>0,0,IF(COUNTA(EvaluaciónPatente13!F68)>0,1,IF(COUNTA(EvaluaciónPatente13!I68)>0,2,\"\")))","v":""}]
[null,"3.7  Ventajas competitivas",{"$f":"IF(COUNTA(EvaluaciónPatente13!L72)>0,EvaluaciónPatente13!L72,\"\")","v":""},null,null,null,null,null,null,{"$f":"IF(COUNTA(EvaluaciónPatente13!C71)>0,0,IF(COUNTA(EvaluaciónPatente13!F71)>0,1,IF(COUNTA(EvaluaciónPatente13!I71)>0,2,\"\")))","v":""}]
[null,"3.8 Plazo de comercialización",{"$f":"IF(COUNTA(EvaluaciónPatente13!L75)>0,EvaluaciónPatente13!L75,\"\")","v":""},null,null,null,null,null,null,{"$f":"IF(COUNTA(EvaluaciónPatente13!C74)>0,0,IF(COUNTA(EvaluaciónPatente13!F74)>0,1,IF(COUNTA(EvaluaciónPatente13!I74)>0,2,\"\")))","v":""}]
[null,"3.9 Oportunidades comerciales y feedback",{"$f":"IF(COUNTA(EvaluaciónPatente13!L78)>0,EvaluaciónPatente13!L78,\"\")","v":""},null,null,null,null,null,null,{"$f":"IF(COUNTA(EvaluaciónPatente13!C77)>0,0,IF(COUNTA(EvaluaciónPatente13!F77)>0,1,IF(COUNTA(EvaluaciónPatente13!I77)>0,2,\"\")))","v":""}]
[null,null,null,null,null,null,null,null,null,null,null,"Cubrir solo donde esté indicado"]
[null,null,"E = Evaluación"]
[]
[]
[]
[]
[]
[]
[]
[]
["      2.2 Valoración general"]
[]
[]
[]
[]
[]
[]
[]
[]
[]
[]
[]
[]
[]
[]
[]
[]
[]
[]
[null,null,null,null,null,null,null,null,null,null,null,null,null,null,null,null," "]
[]
[]
[]
[]
["3. Conclusiones y observaciones"]
[]
["      3.1 Situación de la tecnología patentada de cara al proceso de una posible comercialización "]
[]
[null,"Tecnología patentada con alto potencial de transferencia o lista para transferir.",null,null,null,null,null,null,null,null,null,"Marcar una opción"]
[null,"Tecnología patentada pendiente de completar proceso de evaluación."]
[null,"Tecnología patentada con un grado de madurez que no es suficiente para iniciar un proceso de comercialización."]
[null,"Con la información aportada, la tecnología patentada no es de interés para un proceso de comercialización."]
[]
["         Justificación de la evaluación"]
[]
[null,null,null,null,null,null,null,null,null,null,null,"Indicar justificación de la evaluación"]
[{"$f":"IF(EvaluaciónPatente13!C19=\"x\", \"Patente no cumple con los requisitos mínimos. Patente revocada, expirada o caducada.\", \"\")","v":""}]
[{"$f":"IF(EvaluaciónPatente13!C22=\"x\", \"Patente no cumple con los requisitos mínimos. La protección de la patente es limitado a un mercado que no es su mercado principal. \", \"\")","v":""}]
[{"$f":"IF(EvaluaciónPatente13!C39=\"x\", \"Patente no cumple con los requisitos mínimos. Es muy difícil identificar los productos de imitación. \", \"\")","v":""}]
[{"$f":"IF(EvaluaciónPatente13!C53=\"x\", \"Patente no cumple con los requisitos mínimos. Recursos no asignados, la tecnología patentada no es clave para el equipo o el grupo. \", \"\")","v":""}]
[]
[]
[null,null,null,"   "]
["      3.2 Observaciones"]
[]
[null,null,null,null,null,null,null,null,null,null,null,"Indicar observaciones"]
[]
[]
[]
[]
[]
[]
[]
[]
[]
[]
[]
[]
[]
[]
[]
[]
[]
["      3.3 Implantación"]
[]
["Acciones",null,null,"Responsable",1,2,3,4,5,6,null,"Indicar proceso de implantación"]
[]
[]
[]
[]
[]
[]
[]
[]
[]
[]
[]
[]
[]
[]
[]
["4. Datos de la evaluación"]
[]
["Autor",null,null,null,null,"Fecha de realización"]
[{"$f":"IF(COUNTA(EvaluaciónPatente13!F12)>0,EvaluaciónPatente13!F12,\"\")","v":""},null,null,null,null,{"$f":"IF(COUNTA(EvaluaciónPatente13!F13)>0,EvaluaciónPatente13!F13,\"\")","v":""}]

{"sheet":"EvaluaciónPatente14","index":30,"n_rows":78,"n_cols":12,"rows_kept":78,"cut":false,"hidden":false,"merged":[[75,2,75,3],[57,2,57,3],[60,2,60,3],[63,2,63,3],[66,2,66,3],[69,2,69,3],[72,2,72,3],[54,2,54,3],[17,2,17,3],[20,2,20,8],[23,2,23,8],[26,2,26,8],[29,2,29,8],[32,2,32,8],[37,2,37,8],[40,2,40,8],[43,2,43,8],[46,2,46,8],[51,2,51,8],[10,1,10,3],[10,5,10,6],[11,1,11,3],[11,5,11,6],[12,1,12,3],[12,5,12,6]]}
[]
[]
[]
[]
[]
[]
[]
[]
[]
[]
[null,"Denominación de la tecnología patentada",null,null,null,null,null,null,null,"1. Incluir la denominación de la tecnología, el nombre del evaluador y la fecha de la evaluación"]
[null,"Nombre del evaluador",null,null,null,null,null,null,null,"2. Marcar con una «X» el nivel para cada criterio y los comentarios que justifiquen la elección"]
[null,"Fecha de evaluación de la tecnología patentada"]
[]
[null,"Criterios de evaluación"]
[]
[null,"1. Criterios legales"]
[null,null,"Criterio 1.1 Estado legal (Criterio de exclusión)"]
[null,null,null,"Desfavorable",null,null,"Neutro",null,null,"Favorable",null,"Comentarios"]
[null,null,null,"Patente revocada, expirada o caducada.",null,null,"-",null,null,"Por lo menos una solicitud de patente pendiente o patente concedida."]
[null,null,"Criterio 1.2 Alcance territorial (Criterio de exclusión)"]
[null,null,null,"Desfavorable",null,null,"Neutro",null,null,"Favorable",null,"Comentarios"]
[null,null,null,"La protección de la patente esta limitada a un mercado que no es su mercado principal. ",null,null,"-",null,null,"Protección en un país que es su mercado principal o en más de un país de la zona de mercado, o si la protección todavía está disponible para su elección (periodo de prioridad, PCT, EP)."]
[null,null,"Criterio 1.3 Fuerza de la protección"]
[null,null,null,"Desfavorable",null,null,"Neutro",null,null,"Favorable",null,"Comentarios"]
[null,null,null,"(PATENTES NO PUBLICADAS)\nNo se ha identificado el estado de\nla técnica o se ha identificado que\nel estado de la técnica no supone\nuna amenaza para la novedad y/o la\nactividad inventiva.\n(PATENTES PUBLICADAS)\nEvaluación de la patentabilidad por la\noficina nacional o similar existente, con\n2 o más documentos X.",null,null,"(PATENTES NO PUBLICADAS)\nSe ha identificado el estado de la\ntécnica y los documentos encontrados\nno suponen una amenaza para la\nnovedad. Sin embargo, la actividad\ninventiva es una cuestión de\ninterpretación.\n(PATENTES PUBLICADAS)\nExamen de la novedad por la oficina\nnacional o similar existente, con\ndocumentos X o Y, pero con potencial\nde conceder la patente.",null,null,"PATENTES NO PUBLICADAS)\nSe ha identificado el estado de la\ntécnica que no supone por el momento\nninguna amenaza para la novedad y la\nactividad inventiva.\n(PATENTES PUBLICADAS)\nExamen de la novedad por la oficina\nnacional o similar existente, sin\ndocumentos X o patente concedida."]
[null,null,"Criterio 1.4 Duración de la protección"]
[null,null,null,"Desfavorable",null,null,"Neutro",null,null,"Favorable",null,"Comentarios"]
[null,null,null,"A la patente le quedan menos de 6 años.",null,null,"A la patente le quedan 6-12 años",null,null,"A la patente le quedan más de 12 años"]
[null,null,"Criterio 1.5 Alcance de la protección "]
[null,null,null,"Desfavorable",null,null,"Neutro",null,null,"Favorable",null,"Comentarios"]
[null,null,null,"Las reivindicaciones son muy concretas y específicas.",null,null,"Las reivindicaciones son razonablemente amplias.",null,null,"Las reivindicaciones comprenden un principio general."]
[null,null,"Criterio 1.6 (In)dependencia"]
[null,null,null,"Desfavorable",null,null,"Neutro",null,null,"Favorable",null,"Comentarios"]
[null,null,null,"El uso de la patente depende de cotitulares fuera del ámbito habitual o de cotitulares con menos de 5% cotitularidad dentro del ámbito habitual.",null,null,"El uso de la patente depende de cotitulares, pero dentro del ámbito habitual.",null,null,"La patente no tiene cotitulares. El uso y la explotación de la patente es independiente de acuerdos con cotitulares."]
[]
[null,"2. Criterios tecnológicos "]
[null,null,"Criterio 2.1 Capacidad de detección (Criterio de exclusión y madurez)"]
[null,null,null,"Desfavorable",null,null,"Neutro",null,null,"Favorable",null,"Comentarios"]
[null,null,null,"Es muy difícil identificar los productos\nde imitación. Es prácticamente\nimposible de detectar el uso ilegal de\nun procedimiento, un método o el uso\nde un compuesto.",null,null,"Es difícil pero no imposible identificar\nproductos de imitación. La detección\nde un uso ilegal de un procedimiento,\nun método o el uso de un compuesto\nes posible, aunque difícil.",null,null,"Es fácil identificar los productos\nilegales de imitación. La detección de\nun uso ilegal de un procedimiento, un\nmétodo o el uso de un compuesto es\nfácil.",null," "]
[null,null,"Criterio 2.2 Capacidad de imitación"]
[null,null,null,"Desfavorable",null,null,"Neutro",null,null,"Favorable",null,"Comentarios"]
[null,null,null,"La tecnología patentada es fácil de identificar, copiar y producir.",null,null,"Es posible copiar y producir la tecnología patentada por ejemplo mediante ingeniería inversa.",null,null,"La tecnología patentada es muy difícil de copiar y producir."]
[null,null,"Criterio 2.3 Estado de desarrollo (TRL)"]
[null,null,null,"Desfavorable",null,null,"Neutro",null,null,"Favorable",null,"Comentarios"]
[null,null,null,"Entrono laboratorio: la invención ha sido probada, en teoría, de acuerdo con cálculos (TRL 1-2).",null,null,"Se han realizado experimentos, se han desarrollado prototipos (TRL 3-4).",null,null,"Demostración de la invención en un entorno real (TRL ≥5)."]
[null,null,"Criterio 2.4 Proceso de producción"]
[null,null,null,"Desfavorable",null,null,"Neutro",null,null,"Favorable",null,"Comentarios"]
[null,null,null,"La tecnología patentada requiere un proceso de producción completamente nuevo o modifica fundamentalmente el procedimiento actualmente en uso.",null,null,"Se requiere el desarrollo de los procesos de producción actualmente aplicados antes de poder utilizar o producir la tecnología patentada.",null,null,"La tecnología patentada puede utilizarse o producirse con el proceso de producción actualmente aplicado."]
[]
[null,"3. Criterios de mercado"]
[null,null,"Criterio 3.1 Compromiso con la comercialización (Criterio de exclusión y madurez)"]
[null,null,null,"Desfavorable",null,null,"Neutro",null,null,"Favorable",null,"Comentarios"]
[null,null,null,"Recursos no asignados, la tecnología patentada no es clave para el equipo o el grupo.",null,null,"Personas asignadas a la tecnología patentada, pero sin funciones definidas. El proceso de transferencia no es una prioridad. ",null,null,"Proyecto clave dentro de la estrategia de transferencia del grupo o equipo. Hay personas asignadas para participar en el proceso con roles establecidos."]
[null,null,"Criterio 3.2 Mercado potencial / Aplicaciones"]
[null,null,null,"Desfavorable",null,null,"Neutro",null,null,"Favorable",null,"Comentarios"]
[null,null,null,"La tecnología patentada aún no se ha dirigido a un mercado concreto o se dirige a un mercado pequeño. No está confirmado el sector de aplicación.",null,null,"Existe un mercado conocido para la tecnología patentada con un tamaño significativo dentro del -ámbito tecnológico. La aplicación se limita a un sector industrial.",null,null,"Existe un mercado conocido y grande, así como otros mercados significativos. Se han identificado numerosos ámbitos de aplicación."]
[null,null,"Criterio 3.3 Evolución del mercado"]
[null,null,null,"Desfavorable",null,null,"Neutro",null,null,"Favorable",null,"Comentarios"]
[null,null,null,"Bajo (CAGR < 4%).",null,null,"Medio (CAGR 4-8%).",null,null,"Alto (CAGR >8%)."]
[null,null,"Criterio 3.4 Esperanza de vida en el mercado"]
[null,null,null,"Desfavorable",null,null,"Neutro",null,null,"Favorable",null,"Comentarios"]
[null,null,null,"Inferior a 2 años.",null,null,"Entre 2 -5 años.",null,null,"Más de 5 años."]
[null,null,"Criterio 3.5 Entorno competitivo"]
[null,null,null,"Desfavorable",null,null,"Neutro",null,null,"Favorable",null,"Comentarios"]
[null,null,null,"No se identificaron los competidores ni productos sustitutivos.",null,null,"Situación dominante de un grupo restringido de empresas o limitado a un número escaso de empresas.",null,null,"Entorno competitivo detectado y definido. Mercado accesible y abierto."]
[null,null,"Criterio 3.6 Permisos y estándares de mercado"]
[null,null,null,"Desfavorable",null,null,"Neutro",null,null,"Favorable",null,"Comentarios"]
[null,null,null,"Se necesitan permisos o/y se tienen\nque cumplir estándares para vender\nproductos en el mercado, pero aún\nno se han identificado y analizado los\nrequisitos.",null,null,"Permisos y/o estándares necesarios\ndetectados y analizados o aplicación\nde permisos en proceso.",null,null,"No es necesario un permiso ni se\ntienen que cumplir estándares para la\nventa de productos en el mercado."]
[null,null,"Criterio 3.7 Ventajas competitivas"]
[null,null,null,"Desfavorable",null,null,"Neutro",null,null,"Favorable",null,"Comentarios"]
[null,null,null,"No se han detectado las ventajas competitivas.",null,null,"Se han definido las ventajas competitivas. La tecnología patentada ofrece al menos 1-2 ventajas sobre las tecnologías y productos existentes.",null,null,"La tecnología patentada proporciona características realmente innovadoras y distintivas que pueden utilizarse para la comercialización y la venta de posibles productos."]
[null,null,"Criterio 3.8 Plazo de comercialización"]
[null,null,null,"Desfavorable",null,null,"Neutro",null,null,"Favorable",null,"Comentarios"]
[null,null,null,"Superior a 3 años.",null,null,"Entre 2-3 años.",null,null,"Inferior a 2 años."]
[null,null,"Criterio 3.9 Oportunidades comerciales y feedback"]
[null,null,null,"Desfavorable",null,null,"Neutro",null,null,"Favorable",null,"Comentarios"]
[null,null,null,"El equipo investigador no tiene\nconocimiento sobre el entorno\ncomercial de la tecnología patentada.\nNo existe feedback por parte de\nempresas interesadas, o solo feedback\nnegativo.",null,null,"El equipo investigador tiene\noportunidades comerciales detectadas\ny conoce empresas y entidades\ninteresadas. Existe feedback por parte\nde empresas interesadas, pero sin\nintención para una cooperación.",null,null,"El equipo investigador ya ha tenido\ncontacto con empresas y entidades\ninteresadas y tiene varias oportunidades\ncomerciales detectadas. Existe feedback\npor parte de empresas interesadas, con\nintención para una cooperación."]

{"sheet":"InformePatente14","index":31,"n_rows":146,"n_cols":17,"rows_kept":146,"cut":false,"hidden":false,"merged":[[145,5,145,9],[46,2,46,8],[47,2,47,8],[48,2,48,8],[49,2,49,8],[50,2,50,8],[144,5,144,9],[28,0,31,0],[28,2,28,8],[29,2,29,8],[30,2,30,8],[31,2,31,8],[42,0,50,0],[42,2,42,8],[43,2,43,8],[44,2,44,8],[45,2,45,8],[14,0,14,9],[21,0,21,1],[22,0,27,0],[22,2,22,8],[23,2,23,8],[24,2,24,8],[25,2,25,8],[26,2,26,8],[27,2,27,8]]}
[]
[null,null,null,null,null,null,null,null,null,null,null,null,null,null,null,"Promedio"]
[null,null,null,null,null,null,null,null,null,null,null,null,null,null,null,"Criterios legales",{"$f":"IF(COUNT(SUM(J25,J26,J27,J28))>0,SUM(J25,J26,J27,J28)/8,-9999999999)","v":0}]
[null,null,null,null,null,null,null,null,null,null,null,null,null,null,null,"Criterios tecnológicos ",{"$f":"IF(COUNT(SUM(J29,J30,J31,J32))>0,SUM(J29,J30,J31,J32)/8,-9999999999)","v":0}]
[null,null,null,null,null,null,null,null,null,null,null,null,null,null,null,"Criterios de mercado",{"$f":"IF(COUNT(SUM(J43,J45,J44,J46,J47,J48,J49,J50,J51))>0,SUM(J43,J45,J44,J46,J47,J48,J49,J50,J51)/18,-9999999999)","v":0}]
[]
[]
[null,null,null,null,null,null,null,null,null,null,null,"Cubrir solo donde esté indicado"]
[]
[]
["INFORME DE EVALUACIÓN"]
[]
["1. Título"]
[]
[{"$f":"IF(COUNTA(EvaluaciónPatente14!F11)>0,EvaluaciónPatente14!F11,\"\")","v":""}]
[]
[]
["2. Evaluación"]
[]
["      2.1 Evaluación de criterios "]
[]
["Criterios",null,"Observaciones",null,null,null,null,null,null,"E"]
["1. Criterios legales","1.1 Estado legal ",{"$f":"IF(COUNTA(EvaluaciónPatente14!L20)>0,EvaluaciónPatente14!L20,\"\")","v":""},null,null,null,null,null,null,{"$f":"IF(COUNTA(EvaluaciónPatente14!C19)>0,0,IF(COUNTA(EvaluaciónPatente14!F19)>0,1,IF(COUNTA(EvaluaciónPatente14!I19)>0,2,\"\")))","v":""}]
[null,"1.2  Alcance territorial ",{"$f":"IF(COUNTA(EvaluaciónPatente14!L23)>0,EvaluaciónPatente14!L23,\"\")","v":""},null,null,null,null,null,null,{"$f":"IF(COUNTA(EvaluaciónPatente14!C22)>0,0,IF(COUNTA(EvaluaciónPatente14!F22)>0,1,IF(COUNTA(EvaluaciónPatente14!I22)>0,2,\"\")))","v":""}]
[null,"1.3 Fuerza de la protección",{"$f":"IF(COUNTA(EvaluaciónPatente14!L26)>0,EvaluaciónPatente14!L26,\"\")","v":""},null,null,null,null,null,null,{"$f":"IF(COUNTA(EvaluaciónPatente14!C25)>0,0,IF(COUNTA(EvaluaciónPatente14!F25)>0,1,IF(COUNTA(EvaluaciónPatente14!I25)>0,2,\"\")))","v":""}]
[null,"1.4 Duración de la protección",{"$f":"IF(COUNTA(EvaluaciónPatente14!L29)>0,EvaluaciónPatente14!L29,\"\")","v":""},null,null,null,null,null,null,{"$f":"IF(COUNTA(EvaluaciónPatente14!C28)>0,0,IF(COUNTA(EvaluaciónPatente14!F28)>0,1,IF(COUNTA(EvaluaciónPatente14!I28)>0,2,\"\")))","v":""}]
[null,"1.5 Alcance de la protección",{"$f":"IF(COUNTA(EvaluaciónPatente14!L32)>0,EvaluaciónPatente14!L32,\"\")","v":""},null,null,null,null,null,null,{"$f":"IF(COUNTA(EvaluaciónPatente14!C31)>0,0,IF(COUNTA(EvaluaciónPatente14!F31)>0,1,IF(COUNTA(EvaluaciónPatente14!I31)>0,2,\"\")))","v":""}]
[null,"1.6 (In)dependencia",{"$f":"IF(COUNTA(EvaluaciónPatente14!L35)>0,EvaluaciónPatente14!L35,\"\")","v":""},null,null,null,null,null,null,{"$f":"IF(COUNTA(EvaluaciónPatente14!C34)>0,0,IF(COUNTA(EvaluaciónPatente14!F34)>0,1,IF(COUNTA(EvaluaciónPatente14!I34)>0,2,\"\")))","v":""}]
["2. Criterios tecnológicos  ","2.1 Capacidad de detección",{"$f":"IF(COUNTA(EvaluaciónPatente14!L40)>0,EvaluaciónPatente14!L40,\"\")","v":" "},null,null,null,null,null,null,{"$f":"IF(COUNTA(EvaluaciónPatente14!C39)>0,0,IF(COUNTA(EvaluaciónPatente14!F39)>0,1,IF(COUNTA(EvaluaciónPatente14!I39)>0,2,\"\")))","v":""}]
[null,"2.2 Capacidad de imitación",{"$f":"IF(COUNTA(EvaluaciónPatente14!L43)>0,EvaluaciónPatente14!L43,\"\")","v":""},null,null,null,null,null,null,{"$f":"IF(COUNTA(EvaluaciónPatente14!C42)>0,0,IF(COUNTA(EvaluaciónPatente14!F42)>0,1,IF(COUNTA(EvaluaciónPatente14!I42)>0,2,\"\")))","v":""}]
[null,"2.3 Estado de desarrollo (TRL)",{"$f":"IF(COUNTA(EvaluaciónPatente14!L46)>0,EvaluaciónPatente14!L46,\"\")","v":""},null,null,null,null,null,null,{"$f":"IF(COUNTA(EvaluaciónPatente14!C45)>0,0,IF(COUNTA(EvaluaciónPatente14!F45)>0,1,IF(COUNTA(EvaluaciónPatente14!I45)>0,2,\"\")))","v":""}]
[null,"2.4 Proceso de producción / competencias ",{"$f":"IF(COUNTA(EvaluaciónPatente14!L49)>0,EvaluaciónPatente14!L49,\"\")","v":""},null,null,null,null,null,null,{"$f":"IF(COUNTA(EvaluaciónPatente14!C48)>0,0,IF(COUNTA(EvaluaciónPatente14!F48)>0,1,IF(COUNTA(EvaluaciónPatente14!I48)>0,2,\"\")))","v":""}]
[]
[null,null,"E = Evaluación",null,null,null,null,null,null,null,null,"Cubrir solo donde esté indicado"]
[]
[]
[]
[]
[]
[]
[]
["Criterios",null,"Observaciones",null,null,null,null,null,null,"E"]
["3. Criterios de mercado","3.1 Compromiso con la comercialización",{"$f":"IF(COUNTA(EvaluaciónPatente14!L54)>0,EvaluaciónPatente14!L54,\"\")","v":""},null,null,null,null,null,null,{"$f":"IF(COUNTA(EvaluaciónPatente14!C53)>0,0,IF(COUNTA(EvaluaciónPatente14!F53)>0,1,IF(COUNTA(EvaluaciónPatente14!I53)>0,2,\"\")))","v":""}]
[null,"3.2 Mercado potencial / Aplicaciones ",{"$f":"IF(COUNTA(EvaluaciónPatente14!L57)>0,EvaluaciónPatente14!L57,\"\")","v":""},null,null,null,null,null,null,{"$f":"IF(COUNTA(EvaluaciónPatente14!C56)>0,0,IF(COUNTA(EvaluaciónPatente14!F56)>0,1,IF(COUNTA(EvaluaciónPatente14!I56)>0,2,\"\")))","v":""}]
[null,"3.3 Evolución del mercado",{"$f":"IF(COUNTA(EvaluaciónPatente14!L60)>0,EvaluaciónPatente14!L60,\"\")","v":""},null,null,null,null,null,null,{"$f":"IF(COUNTA(EvaluaciónPatente14!C59)>0,0,IF(COUNTA(EvaluaciónPatente14!F59)>0,1,IF(COUNTA(EvaluaciónPatente14!I59)>0,2,\"\")))","v":""}]
[null,"3.4 Esperanza de vida en el mercado ",{"$f":"IF(COUNTA(EvaluaciónPatente14!L63)>0,EvaluaciónPatente14!L63,\"\")","v":""},null,null,null,null,null,null,{"$f":"IF(COUNTA(EvaluaciónPatente14!C62)>0,0,IF(COUNTA(EvaluaciónPatente14!F62)>0,1,IF(COUNTA(EvaluaciónPatente14!I62)>0,2,\"\")))","v":""}]
[null,"3.5 Entorno competitiva ",{"$f":"IF(COUNTA(EvaluaciónPatente14!L66)>0,EvaluaciónPatente14!L66,\"\")","v":""},null,null,null,null,null,null,{"$f":"IF(COUNTA(EvaluaciónPatente14!C65)>0,0,IF(COUNTA(EvaluaciónPatente14!F65)>0,1,IF(COUNTA(EvaluaciónPatente14!I65)>0,2,\"\")))","v":""}]
[null,"3.6 Permisos",{"$f":"IF(COUNTA(EvaluaciónPatente14!L69)>0,EvaluaciónPatente14!L69,\"\")","v":""},null,null,null,null,null,null,{"$f":"IF(COUNTA(EvaluaciónPatente14!C68)>0,0,IF(COUNTA(EvaluaciónPatente14!F68)>0,1,IF(COUNTA(EvaluaciónPatente14!I68)>0,2,\"\")))","v":""}]
[null,"3.7  Ventajas competitivas",{"$f":"IF(COUNTA(EvaluaciónPatente14!L72)>0,EvaluaciónPatente14!L72,\"\")","v":""},null,null,null,null,null,null,{"$f":"IF(COUNTA(EvaluaciónPatente14!C71)>0,0,IF(COUNTA(EvaluaciónPatente14!F71)>0,1,IF(COUNTA(EvaluaciónPatente14!I71)>0,2,\"\")))","v":""}]
[null,"3.8 Plazo de comercialización",{"$f":"IF(COUNTA(EvaluaciónPatente14!L75)>0,EvaluaciónPatente14!L75,\"\")","v":""},null,null,null,null,null,null,{"$f":"IF(COUNTA(EvaluaciónPatente14!C74)>0,0,IF(COUNTA(EvaluaciónPatente14!F74)>0,1,IF(COUNTA(EvaluaciónPatente14!I74)>0,2,\"\")))","v":""}]
[null,"3.9 Oportunidades comerciales y feedback",{"$f":"IF(COUNTA(EvaluaciónPatente14!L78)>0,EvaluaciónPatente14!L78,\"\")","v":""},null,null,null,null,null,null,{"$f":"IF(COUNTA(EvaluaciónPatente14!C77)>0,0,IF(COUNTA(EvaluaciónPatente14!F77)>0,1,IF(COUNTA(EvaluaciónPatente14!I77)>0,2,\"\")))","v":""}]
[null,null,null,null,null,null,null,null,null,null,null,"Cubrir solo donde esté indicado"]
[null,null,"E = Evaluación"]
[]
[]
[]
[]
[]
[]
[]
[]
["      2.2 Valoración general"]
[]
[]
[]
[]
[]
[]
[]
[]
[]
[]
[]
[]
[]
[]
[]
[]
[]
[]
[null,null,null,null,null,null,null,null,null,null,null,null,null,null,null,null," "]
[]
[]
[]
[]
["3. Conclusiones y observaciones"]
[]
["      3.1 Situación de la tecnología patentada de cara al proceso de una posible comercialización "]
[]
[null,"Tecnología patentada con alto potencial de transferencia o lista para transferir.",null,null,null,null,null,null,null,null,null,"Marcar una opción"]
[null,"Tecnología patentada pendiente de completar proceso de evaluación."]
[null,"Tecnología patentada con un grado de madurez que no es suficiente para iniciar un proceso de comercialización."]
[null,"Con la información aportada, la tecnología patentada no es de interés para un proceso de comercialización."]
[]
["         Justificación de la evaluación"]
[]
[null,null,null,null,null,null,null,null,null,null,null,"Indicar justificación de la evaluación"]
[{"$f":"IF(EvaluaciónPatente14!C19=\"x\", \"Patente no cumple con los requisitos mínimos. Patente revocada, expirada o caducada.\", \"\")","v":""}]
[{"$f":"IF(EvaluaciónPatente14!C22=\"x\", \"Patente no cumple con los requisitos mínimos. La protección de la patente es limitado a un mercado que no es su mercado principal. \", \"\")","v":""}]
[{"$f":"IF(EvaluaciónPatente14!C39=\"x\", \"Patente no cumple con los requisitos mínimos. Es muy difícil identificar los productos de imitación. \", \"\")","v":""}]
[{"$f":"IF(EvaluaciónPatente14!C53=\"x\", \"Patente no cumple con los requisitos mínimos. Recursos no asignados, la tecnología patentada no es clave para el equipo o el grupo. \", \"\")","v":""}]
[]
[]
[null,null,null,"   "]
["      3.2 Observaciones"]
[]
[null,null,null,null,null,null,null,null,null,null,null,"Indicar observaciones"]
[]
[]
[]
[]
[]
[]
[]
[]
[]
[]
[]
[]
[]
[]
[]
[]
[]
["      3.3 Implantación"]
[]
["Acciones",null,null,"Responsable",1,2,3,4,5,6,null,"Indicar proceso de implantación"]
[]
[]
[]
[]
[]
[]
[]
[]
[]
[]
[]
[]
[]
[]
[]
["4. Datos de la evaluación"]
[]
["Autor",null,null,null,null,"Fecha de realización"]
[{"$f":"IF(COUNTA(EvaluaciónPatente14!F12)>0,EvaluaciónPatente14!F12,\"\")","v":""},null,null,null,null,{"$f":"IF(COUNTA(EvaluaciónPatente14!F13)>0,EvaluaciónPatente14!F13,\"\")","v":""}]

{"sheet":"EvaluaciónPatente15","index":32,"n_rows":78,"n_cols":12,"rows_kept":78,"cut":false,"hidden":false,"merged":[[75,2,75,3],[57,2,57,3],[60,2,60,3],[63,2,63,3],[66,2,66,3],[69,2,69,3],[72,2,72,3],[54,2,54,3],[17,2,17,3],[20,2,20,8],[23,2,23,8],[26,2,26,8],[29,2,29,8],[32,2,32,8],[37,2,37,8],[40,2,40,8],[43,2,43,8],[46,2,46,8],[51,2,51,8],[10,1,10,3],[10,5,10,6],[11,1,11,3],[11,5,11,6],[12,1,12,3],[12,5,12,6]]}
[]
[]
[]
[]
[]
[]
[]
[]
[]
[]
[null,"Denominación de la tecnología patentada",null,null,null,null,null,null,null,"1. Incluir la denominación de la tecnología, el nombre del evaluador y la fecha de la evaluación"]
[null,"Nombre del evaluador",null,null,null,null,null,null,null,"2. Marcar con una «X» el nivel para cada criterio y los comentarios que justifiquen la elección"]
[null,"Fecha de evaluación de la tecnología patentada"]
[]
[null,"Criterios de evaluación"]
[]
[null,"1. Criterios legales"]
[null,null,"Criterio 1.1 Estado legal (Criterio de exclusión)"]
[null,null,null,"Desfavorable",null,null,"Neutro",null,null,"Favorable",null,"Comentarios"]
[null,null,null,"Patente revocada, expirada o caducada.",null,null,"-",null,null,"Por lo menos una solicitud de patente pendiente o patente concedida."]
[null,null,"Criterio 1.2 Alcance territorial (Criterio de exclusión)"]
[null,null,null,"Desfavorable",null,null,"Neutro",null,null,"Favorable",null,"Comentarios"]
[null,null,null,"La protección de la patente esta limitada a un mercado que no es su mercado principal. ",null,null,"-",null,null,"Protección en un país que es su mercado principal o en más de un país de la zona de mercado, o si la protección todavía está disponible para su elección (periodo de prioridad, PCT, EP)."]
[null,null,"Criterio 1.3 Fuerza de la protección"]
[null,null,null,"Desfavorable",null,null,"Neutro",null,null,"Favorable",null,"Comentarios"]
[null,null,null,"(PATENTES NO PUBLICADAS)\nNo se ha identificado el estado de\nla técnica o se ha identificado que\nel estado de la técnica no supone\nuna amenaza para la novedad y/o la\nactividad inventiva.\n(PATENTES PUBLICADAS)\nEvaluación de la patentabilidad por la\noficina nacional o similar existente, con\n2 o más documentos X.",null,null,"(PATENTES NO PUBLICADAS)\nSe ha identificado el estado de la\ntécnica y los documentos encontrados\nno suponen una amenaza para la\nnovedad. Sin embargo, la actividad\ninventiva es una cuestión de\ninterpretación.\n(PATENTES PUBLICADAS)\nExamen de la novedad por la oficina\nnacional o similar existente, con\ndocumentos X o Y, pero con potencial\nde conceder la patente.",null,null,"PATENTES NO PUBLICADAS)\nSe ha identificado el estado de la\ntécnica que no supone por el momento\nninguna amenaza para la novedad y la\nactividad inventiva.\n(PATENTES PUBLICADAS)\nExamen de la novedad por la oficina\nnacional o similar existente, sin\ndocumentos X o patente concedida."]
[null,null,"Criterio 1.4 Duración de la protección"]
[null,null,null,"Desfavorable",null,null,"Neutro",null,null,"Favorable",null,"Comentarios"]
[null,null,null,"A la patente le quedan menos de 6 años.",null,null,"A la patente le quedan 6-12 años",null,null,"A la patente le quedan más de 12 años"]
[null,null,"Criterio 1.5 Alcance de la protección "]
[null,null,null,"Desfavorable",null,null,"Neutro",null,null,"Favorable",null,"Comentarios"]
[null,null,null,"Las reivindicaciones son muy concretas y específicas.",null,null,"Las reivindicaciones son razonablemente amplias.",null,null,"Las reivindicaciones comprenden un principio general."]
[null,null,"Criterio 1.6 (In)dependencia"]
[null,null,null,"Desfavorable",null,null,"Neutro",null,null,"Favorable",null,"Comentarios"]
[null,null,null,"El uso de la patente depende de cotitulares fuera del ámbito habitual o de cotitulares con menos de 5% cotitularidad dentro del ámbito habitual.",null,null,"El uso de la patente depende de cotitulares, pero dentro del ámbito habitual.",null,null,"La patente no tiene cotitulares. El uso y la explotación de la patente es independiente de acuerdos con cotitulares."]
[]
[null,"2. Criterios tecnológicos "]
[null,null,"Criterio 2.1 Capacidad de detección (Criterio de exclusión y madurez)"]
[null,null,null,"Desfavorable",null,null,"Neutro",null,null,"Favorable",null,"Comentarios"]
[null,null,null,"Es muy difícil identificar los productos\nde imitación. Es prácticamente\nimposible de detectar el uso ilegal de\nun procedimiento, un método o el uso\nde un compuesto.",null,null,"Es difícil pero no imposible identificar\nproductos de imitación. La detección\nde un uso ilegal de un procedimiento,\nun método o el uso de un compuesto\nes posible, aunque difícil.",null,null,"Es fácil identificar los productos\nilegales de imitación. La detección de\nun uso ilegal de un procedimiento, un\nmétodo o el uso de un compuesto es\nfácil.",null," "]
[null,null,"Criterio 2.2 Capacidad de imitación"]
[null,null,null,"Desfavorable",null,null,"Neutro",null,null,"Favorable",null,"Comentarios"]
[null,null,null,"La tecnología patentada es fácil de identificar, copiar y producir.",null,null,"Es posible copiar y producir la tecnología patentada por ejemplo mediante ingeniería inversa.",null,null,"La tecnología patentada es muy difícil de copiar y producir."]
[null,null,"Criterio 2.3 Estado de desarrollo (TRL)"]
[null,null,null,"Desfavorable",null,null,"Neutro",null,null,"Favorable",null,"Comentarios"]
[null,null,null,"Entrono laboratorio: la invención ha sido probada, en teoría, de acuerdo con cálculos (TRL 1-2).",null,null,"Se han realizado experimentos, se han desarrollado prototipos (TRL 3-4).",null,null,"Demostración de la invención en un entorno real (TRL ≥5)."]
[null,null,"Criterio 2.4 Proceso de producción"]
[null,null,null,"Desfavorable",null,null,"Neutro",null,null,"Favorable",null,"Comentarios"]
[null,null,null,"La tecnología patentada requiere un proceso de producción completamente nuevo o modifica fundamentalmente el procedimiento actualmente en uso.",null,null,"Se requiere el desarrollo de los procesos de producción actualmente aplicados antes de poder utilizar o producir la tecnología patentada.",null,null,"La tecnología patentada puede utilizarse o producirse con el proceso de producción actualmente aplicado."]
[]
[null,"3. Criterios de mercado"]
[null,null,"Criterio 3.1 Compromiso con la comercialización (Criterio de exclusión y madurez)"]
[null,null,null,"Desfavorable",null,null,"Neutro",null,null,"Favorable",null,"Comentarios"]
[null,null,null,"Recursos no asignados, la tecnología patentada no es clave para el equipo o el grupo.",null,null,"Personas asignadas a la tecnología patentada, pero sin funciones definidas. El proceso de transferencia no es una prioridad. ",null,null,"Proyecto clave dentro de la estrategia de transferencia del grupo o equipo. Hay personas asignadas para participar en el proceso con roles establecidos."]
[null,null,"Criterio 3.2 Mercado potencial / Aplicaciones"]
[null,null,null,"Desfavorable",null,null,"Neutro",null,null,"Favorable",null,"Comentarios"]
[null,null,null,"La tecnología patentada aún no se ha dirigido a un mercado concreto o se dirige a un mercado pequeño. No está confirmado el sector de aplicación.",null,null,"Existe un mercado conocido para la tecnología patentada con un tamaño significativo dentro del -ámbito tecnológico. La aplicación se limita a un sector industrial.",null,null,"Existe un mercado conocido y grande, así como otros mercados significativos. Se han identificado numerosos ámbitos de aplicación."]
[null,null,"Criterio 3.3 Evolución del mercado"]
[null,null,null,"Desfavorable",null,null,"Neutro",null,null,"Favorable",null,"Comentarios"]
[null,null,null,"Bajo (CAGR < 4%).",null,null,"Medio (CAGR 4-8%).",null,null,"Alto (CAGR >8%)."]
[null,null,"Criterio 3.4 Esperanza de vida en el mercado"]
[null,null,null,"Desfavorable",null,null,"Neutro",null,null,"Favorable",null,"Comentarios"]
[null,null,null,"Inferior a 2 años.",null,null,"Entre 2 -5 años.",null,null,"Más de 5 años."]
[null,null,"Criterio 3.5 Entorno competitivo"]
[null,null,null,"Desfavorable",null,null,"Neutro",null,null,"Favorable",null,"Comentarios"]
[null,null,null,"No se identificaron los competidores ni productos sustitutivos.",null,null,"Situación dominante de un grupo restringido de empresas o limitado a un número escaso de empresas.",null,null,"Entorno competitivo detectado y definido. Mercado accesible y abierto."]
[null,null,"Criterio 3.6 Permisos y estándares de mercado"]
[null,null,null,"Desfavorable",null,null,"Neutro",null,null,"Favorable",null,"Comentarios"]
[null,null,null,"Se necesitan permisos o/y se tienen\nque cumplir estándares para vender\nproductos en el mercado, pero aún\nno se han identificado y analizado los\nrequisitos.",null,null,"Permisos y/o estándares necesarios\ndetectados y analizados o aplicación\nde permisos en proceso.",null,null,"No es necesario un permiso ni se\ntienen que cumplir estándares para la\nventa de productos en el mercado."]
[null,null,"Criterio 3.7 Ventajas competitivas"]
[null,null,null,"Desfavorable",null,null,"Neutro",null,null,"Favorable",null,"Comentarios"]
[null,null,null,"No se han detectado las ventajas competitivas.",null,null,"Se han definido las ventajas competitivas. La tecnología patentada ofrece al menos 1-2 ventajas sobre las tecnologías y productos existentes.",null,null,"La tecnología patentada proporciona características realmente innovadoras y distintivas que pueden utilizarse para la comercialización y la venta de posibles productos."]
[null,null,"Criterio 3.8 Plazo de comercialización"]
[null,null,null,"Desfavorable",null,null,"Neutro",null,null,"Favorable",null,"Comentarios"]
[null,null,null,"Superior a 3 años.",null,null,"Entre 2-3 años.",null,null,"Inferior a 2 años."]
[null,null,"Criterio 3.9 Oportunidades comerciales y feedback"]
[null,null,null,"Desfavorable",null,null,"Neutro",null,null,"Favorable",null,"Comentarios"]
[null,null,null,"El equipo investigador no tiene\nconocimiento sobre el entorno\ncomercial de la tecnología patentada.\nNo existe feedback por parte de\nempresas interesadas, o solo feedback\nnegativo.",null,null,"El equipo investigador tiene\noportunidades comerciales detectadas\ny conoce empresas y entidades\ninteresadas. Existe feedback por parte\nde empresas interesadas, pero sin\nintención para una cooperación.",null,null,"El equipo investigador ya ha tenido\ncontacto con empresas y entidades\ninteresadas y tiene varias oportunidades\ncomerciales detectadas. Existe feedback\npor parte de empresas interesadas, con\nintención para una cooperación."]

{"sheet":"InformePatente15","index":33,"n_rows":146,"n_cols":17,"rows_kept":146,"cut":false,"hidden":false,"merged":[[145,5,145,9],[46,2,46,8],[47,2,47,8],[48,2,48,8],[49,2,49,8],[50,2,50,8],[144,5,144,9],[28,0,31,0],[28,2,28,8],[29,2,29,8],[30,2,30,8],[31,2,31,8],[42,0,50,0],[42,2,42,8],[43,2,43,8],[44,2,44,8],[45,2,45,8],[14,0,14,9],[21,0,21,1],[22,0,27,0],[22,2,22,8],[23,2,23,8],[24,2,24,8],[25,2,25,8],[26,2,26,8],[27,2,27,8]]}
[]
[null,null,null,null,null,null,null,null,null,null,null,null,null,null,null,"Promedio"]
[null,null,null,null,null,null,null,null,null,null,null,null,null,null,null,"Criterios legales",{"$f":"IF(COUNT(SUM(J25,J26,J27,J28))>0,SUM(J25,J26,J27,J28)/8,-9999999999)","v":0}]
[null,null,null,null,null,null,null,null,null,null,null,null,null,null,null,"Criterios tecnológicos ",{"$f":"IF(COUNT(SUM(J29,J30,J31,J32))>0,SUM(J29,J30,J31,J32)/8,-9999999999)","v":0}]
[null,null,null,null,null,null,null,null,null,null,null,null,null,null,null,"Criterios de mercado",{"$f":"IF(COUNT(SUM(J43,J45,J44,J46,J47,J48,J49,J50,J51))>0,SUM(J43,J45,J44,J46,J47,J48,J49,J50,J51)/18,-9999999999)","v":0}]
[]
[]
[null,null,null,null,null,null,null,null,null,null,null,"Cubrir solo donde esté indicado"]
[]
[]
["INFORME DE EVALUACIÓN"]
[]
["1. Título"]
[]
[{"$f":"IF(COUNTA(EvaluaciónPatente15!F11)>0,EvaluaciónPatente15!F11,\"\")","v":""}]
[]
[]
["2. Evaluación"]
[]
["      2.1 Evaluación de criterios "]
[]
["Criterios",null,"Observaciones",null,null,null,null,null,null,"E"]
["1. Criterios legales","1.1 Estado legal ",{"$f":"IF(COUNTA(EvaluaciónPatente15!L20)>0,EvaluaciónPatente15!L20,\"\")","v":""},null,null,null,null,null,null,{"$f":"IF(COUNTA(EvaluaciónPatente15!C19)>0,0,IF(COUNTA(EvaluaciónPatente15!F19)>0,1,IF(COUNTA(EvaluaciónPatente15!I19)>0,2,\"\")))","v":""}]
[null,"1.2  Alcance territorial ",{"$f":"IF(COUNTA(EvaluaciónPatente15!L23)>0,EvaluaciónPatente15!L23,\"\")","v":""},null,null,null,null,null,null,{"$f":"IF(COUNTA(EvaluaciónPatente15!C22)>0,0,IF(COUNTA(EvaluaciónPatente15!F22)>0,1,IF(COUNTA(EvaluaciónPatente15!I22)>0,2,\"\")))","v":""}]
[null,"1.3 Fuerza de la protección",{"$f":"IF(COUNTA(EvaluaciónPatente15!L26)>0,EvaluaciónPatente15!L26,\"\")","v":""},null,null,null,null,null,null,{"$f":"IF(COUNTA(EvaluaciónPatente15!C25)>0,0,IF(COUNTA(EvaluaciónPatente15!F25)>0,1,IF(COUNTA(EvaluaciónPatente15!I25)>0,2,\"\")))","v":""}]
[null,"1.4 Duración de la protección",{"$f":"IF(COUNTA(EvaluaciónPatente15!L29)>0,EvaluaciónPatente15!L29,\"\")","v":""},null,null,null,null,null,null,{"$f":"IF(COUNTA(EvaluaciónPatente15!C28)>0,0,IF(COUNTA(EvaluaciónPatente15!F28)>0,1,IF(COUNTA(EvaluaciónPatente15!I28)>0,2,\"\")))","v":""}]
[null,"1.5 Alcance de la protección",{"$f":"IF(COUNTA(EvaluaciónPatente15!L32)>0,EvaluaciónPatente15!L32,\"\")","v":""},null,null,null,null,null,null,{"$f":"IF(COUNTA(EvaluaciónPatente15!C31)>0,0,IF(COUNTA(EvaluaciónPatente15!F31)>0,1,IF(COUNTA(EvaluaciónPatente15!I31)>0,2,\"\")))","v":""}]
[null,"1.6 (In)dependencia",{"$f":"IF(COUNTA(EvaluaciónPatente15!L35)>0,EvaluaciónPatente15!L35,\"\")","v":""},null,null,null,null,null,null,{"$f":"IF(COUNTA(EvaluaciónPatente15!C34)>0,0,IF(COUNTA(EvaluaciónPatente15!F34)>0,1,IF(COUNTA(EvaluaciónPatente15!I34)>0,2,\"\")))","v":""}]
["2. Criterios tecnológicos  ","2.1 Capacidad de detección",{"$f":"IF(COUNTA(EvaluaciónPatente15!L40)>0,EvaluaciónPatente15!L40,\"\")","v":" "},null,null,null,null,null,null,{"$f":"IF(COUNTA(EvaluaciónPatente15!C39)>0,0,IF(COUNTA(EvaluaciónPatente15!F39)>0,1,IF(COUNTA(EvaluaciónPatente15!I39)>0,2,\"\")))","v":""}]
[null,"2.2 Capacidad de imitación",{"$f":"IF(COUNTA(EvaluaciónPatente15!L43)>0,EvaluaciónPatente15!L43,\"\")","v":""},null,null,null,null,null,null,{"$f":"IF(COUNTA(EvaluaciónPatente15!C42)>0,0,IF(COUNTA(EvaluaciónPatente15!F42)>0,1,IF(COUNTA(EvaluaciónPatente15!I42)>0,2,\"\")))","v":""}]
[null,"2.3 Estado de desarrollo (TRL)",{"$f":"IF(COUNTA(EvaluaciónPatente15!L46)>0,EvaluaciónPatente15!L46,\"\")","v":""},null,null,null,null,null,null,{"$f":"IF(COUNTA(EvaluaciónPatente15!C45)>0,0,IF(COUNTA(EvaluaciónPatente15!F45)>0,1,IF(COUNTA(EvaluaciónPatente15!I45)>0,2,\"\")))","v":""}]
[null,"2.4 Proceso de producción / competencias ",{"$f":"IF(COUNTA(EvaluaciónPatente15!L49)>0,EvaluaciónPatente15!L49,\"\")","v":""},null,null,null,null,null,null,{"$f":"IF(COUNTA(EvaluaciónPatente15!C48)>0,0,IF(COUNTA(EvaluaciónPatente15!F48)>0,1,IF(COUNTA(EvaluaciónPatente15!I48)>0,2,\"\")))","v":""}]
[]
[null,null,"E = Evaluación",null,null,null,null,null,null,null,null,"Cubrir solo donde esté indicado"]
[]
[]
[]
[]
[]
[]
[]
["Criterios",null,"Observaciones",null,null,null,null,null,null,"E"]
["3. Criterios de mercado","3.1 Compromiso con la comercialización",{"$f":"IF(COUNTA(EvaluaciónPatente15!L54)>0,EvaluaciónPatente15!L54,\"\")","v":""},null,null,null,null,null,null,{"$f":"IF(COUNTA(EvaluaciónPatente15!C53)>0,0,IF(COUNTA(EvaluaciónPatente15!F53)>0,1,IF(COUNTA(EvaluaciónPatente15!I53)>0,2,\"\")))","v":""}]
[null,"3.2 Mercado potencial / Aplicaciones ",{"$f":"IF(COUNTA(EvaluaciónPatente15!L57)>0,EvaluaciónPatente15!L57,\"\")","v":""},null,null,null,null,null,null,{"$f":"IF(COUNTA(EvaluaciónPatente15!C56)>0,0,IF(COUNTA(EvaluaciónPatente15!F56)>0,1,IF(COUNTA(EvaluaciónPatente15!I56)>0,2,\"\")))","v":""}]
[null,"3.3 Evolución del mercado",{"$f":"IF(COUNTA(EvaluaciónPatente15!L60)>0,EvaluaciónPatente15!L60,\"\")","v":""},null,null,null,null,null,null,{"$f":"IF(COUNTA(EvaluaciónPatente15!C59)>0,0,IF(COUNTA(EvaluaciónPatente15!F59)>0,1,IF(COUNTA(EvaluaciónPatente15!I59)>0,2,\"\")))","v":""}]
[null,"3.4 Esperanza de vida en el mercado ",{"$f":"IF(COUNTA(EvaluaciónPatente15!L63)>0,EvaluaciónPatente15!L63,\"\")","v":""},null,null,null,null,null,null,{"$f":"IF(COUNTA(EvaluaciónPatente15!C62)>0,0,IF(COUNTA(EvaluaciónPatente15!F62)>0,1,IF(COUNTA(EvaluaciónPatente15!I62)>0,2,\"\")))","v":""}]
[null,"3.5 Entorno competitiva ",{"$f":"IF(COUNTA(EvaluaciónPatente15!L66)>0,EvaluaciónPatente15!L66,\"\")","v":""},null,null,null,null,null,null,{"$f":"IF(COUNTA(EvaluaciónPatente15!C65)>0,0,IF(COUNTA(EvaluaciónPatente15!F65)>0,1,IF(COUNTA(EvaluaciónPatente15!I65)>0,2,\"\")))","v":""}]
[null,"3.6 Permisos",{"$f":"IF(COUNTA(EvaluaciónPatente15!L69)>0,EvaluaciónPatente15!L69,\"\")","v":""},null,null,null,null,null,null,{"$f":"IF(COUNTA(EvaluaciónPatente15!C68)>0,0,IF(COUNTA(EvaluaciónPatente15!F68)>0,1,IF(COUNTA(EvaluaciónPatente15!I68)>0,2,\"\")))","v":""}]
[null,"3.7  Ventajas competitivas",{"$f":"IF(COUNTA(EvaluaciónPatente15!L72)>0,EvaluaciónPatente15!L72,\"\")","v":""},null,null,null,null,null,null,{"$f":"IF(COUNTA(EvaluaciónPatente15!C71)>0,0,IF(COUNTA(EvaluaciónPatente15!F71)>0,1,IF(COUNTA(EvaluaciónPatente15!I71)>0,2,\"\")))","v":""}]
[null,"3.8 Plazo de comercialización",{"$f":"IF(COUNTA(EvaluaciónPatente15!L75)>0,EvaluaciónPatente15!L75,\"\")","v":""},null,null,null,null,null,null,{"$f":"IF(COUNTA(EvaluaciónPatente15!C74)>0,0,IF(COUNTA(EvaluaciónPatente15!F74)>0,1,IF(COUNTA(EvaluaciónPatente15!I74)>0,2,\"\")))","v":""}]
[null,"3.9 Oportunidades comerciales y feedback",{"$f":"IF(COUNTA(EvaluaciónPatente15!L78)>0,EvaluaciónPatente15!L78,\"\")","v":""},null,null,null,null,null,null,{"$f":"IF(COUNTA(EvaluaciónPatente15!C77)>0,0,IF(COUNTA(EvaluaciónPatente15!F77)>0,1,IF(COUNTA(EvaluaciónPatente15!I77)>0,2,\"\")))","v":""}]
[null,null,null,null,null,null,null,null,null,null,null,"Cubrir solo donde esté indicado"]
[null,null,"E = Evaluación"]
[]
[]
[]
[]
[]
[]
[]
[]
["      2.2 Valoración general"]
[]
[]
[]
[]
[]
[]
[]
[]
[]
[]
[]
[]
[]
[]
[]
[]
[]
[]
[null,null,null,null,null,null,null,null,null,null,null,null,null,null,null,null," "]
[]
[]
[]
[]
["3. Conclusiones y observaciones"]
[]
["      3.1 Situación de la tecnología patentada de cara al proceso de una posible comercialización "]
[]
[null,"Tecnología patentada con alto potencial de transferencia o lista para transferir.",null,null,null,null,null,null,null,null,null,"Marcar una opción"]
[null,"Tecnología patentada pendiente de completar proceso de evaluación."]
[null,"Tecnología patentada con un grado de madurez que no es suficiente para iniciar un proceso de comercialización."]
[null,"Con la información aportada, la tecnología patentada no es de interés para un proceso de comercialización."]
[]
["         Justificación de la evaluación"]
[]
[null,null,null,null,null,null,null,null,null,null,null,"Indicar justificación de la evaluación"]
[{"$f":"IF(EvaluaciónPatente15!C19=\"x\", \"Patente no cumple con los requisitos mínimos. Patente revocada, expirada o caducada.\", \"\")","v":""}]
[{"$f":"IF(EvaluaciónPatente15!C22=\"x\", \"Patente no cumple con los requisitos mínimos. La protección de la patente es limitado a un mercado que no es su mercado principal. \", \"\")","v":""}]
[{"$f":"IF(EvaluaciónPatente15!C39=\"x\", \"Patente no cumple con los requisitos mínimos. Es muy difícil identificar los productos de imitación. \", \"\")","v":""}]
[{"$f":"IF(EvaluaciónPatente15!C53=\"x\", \"Patente no cumple con los requisitos mínimos. Recursos no asignados, la tecnología patentada no es clave para el equipo o el grupo. \", \"\")","v":""}]
[]
[]
[null,null,null,"   "]
["      3.2 Observaciones"]
[]
[null,null,null,null,null,null,null,null,null,null,null,"Indicar observaciones"]
[]
[]
[]
[]
[]
[]
[]
[]
[]
[]
[]
[]
[]
[]
[]
[]
[]
["      3.3 Implantación"]
[]
["Acciones",null,null,"Responsable",1,2,3,4,5,6,null,"Indicar proceso de implantación"]
[]
[]
[]
[]
[]
[]
[]
[]
[]
[]
[]
[]
[]
[]
[]
["4. Datos de la evaluación"]
[]
["Autor",null,null,null,null,"Fecha de realización"]
[{"$f":"IF(COUNTA(EvaluaciónPatente15!F12)>0,EvaluaciónPatente15!F12,\"\")","v":""},null,null,null,null,{"$f":"IF(COUNTA(EvaluaciónPatente15!F13)>0,EvaluaciónPatente15!F13,\"\")","v":""}]

{"sheet":"EvaluaciónPatente16","index":34,"n_rows":78,"n_cols":12,"rows_kept":78,"cut":false,"hidden":false,"merged":[[75,2,75,3],[57,2,57,3],[60,2,60,3],[63,2,63,3],[66,2,66,3],[69,2,69,3],[72,2,72,3],[54,2,54,3],[17,2,17,3],[20,2,20,8],[23,2,23,8],[26,2,26,8],[29,2,29,8],[32,2,32,8],[37,2,37,8],[40,2,40,8],[43,2,43,8],[46,2,46,8],[51,2,51,8],[10,1,10,3],[10,5,10,6],[11,1,11,3],[11,5,11,6],[12,1,12,3],[12,5,12,6]]}
[]
[]
[]
[]
[]
[]
[]
[]
[]
[]
[null,"Denominación de la tecnología patentada",null,null,null,null,null,null,null,"1. Incluir la denominación de la tecnología, el nombre del evaluador y la fecha de la evaluación"]
[null,"Nombre del evaluador",null,null,null,null,null,null,null,"2. Marcar con una «X» el nivel para cada criterio y los comentarios que justifiquen la elección"]
[null,"Fecha de evaluación de la tecnología patentada"]
[]
[null,"Criterios de evaluación"]
[]
[null,"1. Criterios legales"]
[null,null,"Criterio 1.1 Estado legal (Criterio de exclusión)"]
[null,null,null,"Desfavorable",null,null,"Neutro",null,null,"Favorable",null,"Comentarios"]
[null,null,null,"Patente revocada, expirada o caducada.",null,null,"-",null,null,"Por lo menos una solicitud de patente pendiente o patente concedida."]
[null,null,"Criterio 1.2 Alcance territorial (Criterio de exclusión)"]
[null,null,null,"Desfavorable",null,null,"Neutro",null,null,"Favorable",null,"Comentarios"]
[null,null,null,"La protección de la patente esta limitada a un mercado que no es su mercado principal. ",null,null,"-",null,null,"Protección en un país que es su mercado principal o en más de un país de la zona de mercado, o si la protección todavía está disponible para su elección (periodo de prioridad, PCT, EP)."]
[null,null,"Criterio 1.3 Fuerza de la protección"]
[null,null,null,"Desfavorable",null,null,"Neutro",null,null,"Favorable",null,"Comentarios"]
[null,null,null,"(PATENTES NO PUBLICADAS)\nNo se ha identificado el estado de\nla técnica o se ha identificado que\nel estado de la técnica no supone\nuna amenaza para la novedad y/o la\nactividad inventiva.\n(PATENTES PUBLICADAS)\nEvaluación de la patentabilidad por la\noficina nacional o similar existente, con\n2 o más documentos X.",null,null,"(PATENTES NO PUBLICADAS)\nSe ha identificado el estado de la\ntécnica y los documentos encontrados\nno suponen una amenaza para la\nnovedad. Sin embargo, la actividad\ninventiva es una cuestión de\ninterpretación.\n(PATENTES PUBLICADAS)\nExamen de la novedad por la oficina\nnacional o similar existente, con\ndocumentos X o Y, pero con potencial\nde conceder la patente.",null,null,"PATENTES NO PUBLICADAS)\nSe ha identificado el estado de la\ntécnica que no supone por el momento\nninguna amenaza para la novedad y la\nactividad inventiva.\n(PATENTES PUBLICADAS)\nExamen de la novedad por la oficina\nnacional o similar existente, sin\ndocumentos X o patente concedida."]
[null,null,"Criterio 1.4 Duración de la protección"]
[null,null,null,"Desfavorable",null,null,"Neutro",null,null,"Favorable",null,"Comentarios"]
[null,null,null,"A la patente le quedan menos de 6 años.",null,null,"A la patente le quedan 6-12 años",null,null,"A la patente le quedan más de 12 años"]
[null,null,"Criterio 1.5 Alcance de la protección "]
[null,null,null,"Desfavorable",null,null,"Neutro",null,null,"Favorable",null,"Comentarios"]
[null,null,null,"Las reivindicaciones son muy concretas y específicas.",null,null,"Las reivindicaciones son razonablemente amplias.",null,null,"Las reivindicaciones comprenden un principio general."]
[null,null,"Criterio 1.6 (In)dependencia"]
[null,null,null,"Desfavorable",null,null,"Neutro",null,null,"Favorable",null,"Comentarios"]
[null,null,null,"El uso de la patente depende de cotitulares fuera del ámbito habitual o de cotitulares con menos de 5% cotitularidad dentro del ámbito habitual.",null,null,"El uso de la patente depende de cotitulares, pero dentro del ámbito habitual.",null,null,"La patente no tiene cotitulares. El uso y la explotación de la patente es independiente de acuerdos con cotitulares."]
[]
[null,"2. Criterios tecnológicos "]
[null,null,"Criterio 2.1 Capacidad de detección (Criterio de exclusión y madurez)"]
[null,null,null,"Desfavorable",null,null,"Neutro",null,null,"Favorable",null,"Comentarios"]
[null,null,null,"Es muy difícil identificar los productos\nde imitación. Es prácticamente\nimposible de detectar el uso ilegal de\nun procedimiento, un método o el uso\nde un compuesto.",null,null,"Es difícil pero no imposible identificar\nproductos de imitación. La detección\nde un uso ilegal de un procedimiento,\nun método o el uso de un compuesto\nes posible, aunque difícil.",null,null,"Es fácil identificar los productos\nilegales de imitación. La detección de\nun uso ilegal de un procedimiento, un\nmétodo o el uso de un compuesto es\nfácil.",null," "]
[null,null,"Criterio 2.2 Capacidad de imitación"]
[null,null,null,"Desfavorable",null,null,"Neutro",null,null,"Favorable",null,"Comentarios"]
[null,null,null,"La tecnología patentada es fácil de identificar, copiar y producir.",null,null,"Es posible copiar y producir la tecnología patentada por ejemplo mediante ingeniería inversa.",null,null,"La tecnología patentada es muy difícil de copiar y producir."]
[null,null,"Criterio 2.3 Estado de desarrollo (TRL)"]
[null,null,null,"Desfavorable",null,null,"Neutro",null,null,"Favorable",null,"Comentarios"]
[null,null,null,"Entrono laboratorio: la invención ha sido probada, en teoría, de acuerdo con cálculos (TRL 1-2).",null,null,"Se han realizado experimentos, se han desarrollado prototipos (TRL 3-4).",null,null,"Demostración de la invención en un entorno real (TRL ≥5)."]
[null,null,"Criterio 2.4 Proceso de producción"]
[null,null,null,"Desfavorable",null,null,"Neutro",null,null,"Favorable",null,"Comentarios"]
[null,null,null,"La tecnología patentada requiere un proceso de producción completamente nuevo o modifica fundamentalmente el procedimiento actualmente en uso.",null,null,"Se requiere el desarrollo de los procesos de producción actualmente aplicados antes de poder utilizar o producir la tecnología patentada.",null,null,"La tecnología patentada puede utilizarse o producirse con el proceso de producción actualmente aplicado."]
[]
[null,"3. Criterios de mercado"]
[null,null,"Criterio 3.1 Compromiso con la comercialización (Criterio de exclusión y madurez)"]
[null,null,null,"Desfavorable",null,null,"Neutro",null,null,"Favorable",null,"Comentarios"]
[null,null,null,"Recursos no asignados, la tecnología patentada no es clave para el equipo o el grupo.",null,null,"Personas asignadas a la tecnología patentada, pero sin funciones definidas. El proceso de transferencia no es una prioridad. ",null,null,"Proyecto clave dentro de la estrategia de transferencia del grupo o equipo. Hay personas asignadas para participar en el proceso con roles establecidos."]
[null,null,"Criterio 3.2 Mercado potencial / Aplicaciones"]
[null,null,null,"Desfavorable",null,null,"Neutro",null,null,"Favorable",null,"Comentarios"]
[null,null,null,"La tecnología patentada aún no se ha dirigido a un mercado concreto o se dirige a un mercado pequeño. No está confirmado el sector de aplicación.",null,null,"Existe un mercado conocido para la tecnología patentada con un tamaño significativo dentro del -ámbito tecnológico. La aplicación se limita a un sector industrial.",null,null,"Existe un mercado conocido y grande, así como otros mercados significativos. Se han identificado numerosos ámbitos de aplicación."]
[null,null,"Criterio 3.3 Evolución del mercado"]
[null,null,null,"Desfavorable",null,null,"Neutro",null,null,"Favorable",null,"Comentarios"]
[null,null,null,"Bajo (CAGR < 4%).",null,null,"Medio (CAGR 4-8%).",null,null,"Alto (CAGR >8%)."]
[null,null,"Criterio 3.4 Esperanza de vida en el mercado"]
[null,null,null,"Desfavorable",null,null,"Neutro",null,null,"Favorable",null,"Comentarios"]
[null,null,null,"Inferior a 2 años.",null,null,"Entre 2 -5 años.",null,null,"Más de 5 años."]
[null,null,"Criterio 3.5 Entorno competitivo"]
[null,null,null,"Desfavorable",null,null,"Neutro",null,null,"Favorable",null,"Comentarios"]
[null,null,null,"No se identificaron los competidores ni productos sustitutivos.",null,null,"Situación dominante de un grupo restringido de empresas o limitado a un número escaso de empresas.",null,null,"Entorno competitivo detectado y definido. Mercado accesible y abierto."]
[null,null,"Criterio 3.6 Permisos y estándares de mercado"]
[null,null,null,"Desfavorable",null,null,"Neutro",null,null,"Favorable",null,"Comentarios"]
[null,null,null,"Se necesitan permisos o/y se tienen\nque cumplir estándares para vender\nproductos en el mercado, pero aún\nno se han identificado y analizado los\nrequisitos.",null,null,"Permisos y/o estándares necesarios\ndetectados y analizados o aplicación\nde permisos en proceso.",null,null,"No es necesario un permiso ni se\ntienen que cumplir estándares para la\nventa de productos en el mercado."]
[null,null,"Criterio 3.7 Ventajas competitivas"]
[null,null,null,"Desfavorable",null,null,"Neutro",null,null,"Favorable",null,"Comentarios"]
[null,null,null,"No se han detectado las ventajas competitivas.",null,null,"Se han definido las ventajas competitivas. La tecnología patentada ofrece al menos 1-2 ventajas sobre las tecnologías y productos existentes.",null,null,"La tecnología patentada proporciona características realmente innovadoras y distintivas que pueden utilizarse para la comercialización y la venta de posibles productos."]
[null,null,"Criterio 3.8 Plazo de comercialización"]
[null,null,null,"Desfavorable",null,null,"Neutro",null,null,"Favorable",null,"Comentarios"]
[null,null,null,"Superior a 3 años.",null,null,"Entre 2-3 años.",null,null,"Inferior a 2 años."]
[null,null,"Criterio 3.9 Oportunidades comerciales y feedback"]
[null,null,null,"Desfavorable",null,null,"Neutro",null,null,"Favorable",null,"Comentarios"]
[null,null,null,"El equipo investigador no tiene\nconocimiento sobre el entorno\ncomercial de la tecnología patentada.\nNo existe feedback por parte de\nempresas interesadas, o solo feedback\nnegativo.",null,null,"El equipo investigador tiene\noportunidades comerciales detectadas\ny conoce empresas y entidades\ninteresadas. Existe feedback por parte\nde empresas interesadas, pero sin\nintención para una cooperación.",null,null,"El equipo investigador ya ha tenido\ncontacto con empresas y entidades\ninteresadas y tiene varias oportunidades\ncomerciales detectadas. Existe feedback\npor parte de empresas interesadas, con\nintención para una cooperación."]

{"sheet":"InformePatente16","index":35,"n_rows":146,"n_cols":17,"rows_kept":146,"cut":false,"hidden":false,"merged":[[145,5,145,9],[46,2,46,8],[47,2,47,8],[48,2,48,8],[49,2,49,8],[50,2,50,8],[144,5,144,9],[28,0,31,0],[28,2,28,8],[29,2,29,8],[30,2,30,8],[31,2,31,8],[42,0,50,0],[42,2,42,8],[43,2,43,8],[44,2,44,8],[45,2,45,8],[14,0,14,9],[21,0,21,1],[22,0,27,0],[22,2,22,8],[23,2,23,8],[24,2,24,8],[25,2,25,8],[26,2,26,8],[27,2,27,8]]}
[]
[null,null,null,null,null,null,null,null,null,null,null,null,null,null,null,"Promedio"]
[null,null,null,null,null,null,null,null,null,null,null,null,null,null,null,"Criterios legales",{"$f":"IF(COUNT(SUM(J25,J26,J27,J28))>0,SUM(J25,J26,J27,J28)/8,-9999999999)","v":0}]
[null,null,null,null,null,null,null,null,null,null,null,null,null,null,null,"Criterios tecnológicos ",{"$f":"IF(COUNT(SUM(J29,J30,J31,J32))>0,SUM(J29,J30,J31,J32)/8,-9999999999)","v":0}]
[null,null,null,null,null,null,null,null,null,null,null,null,null,null,null,"Criterios de mercado",{"$f":"IF(COUNT(SUM(J43,J45,J44,J46,J47,J48,J49,J50,J51))>0,SUM(J43,J45,J44,J46,J47,J48,J49,J50,J51)/18,-9999999999)","v":0}]
[]
[]
[null,null,null,null,null,null,null,null,null,null,null,"Cubrir solo donde esté indicado"]
[]
[]
["INFORME DE EVALUACIÓN"]
[]
["1. Título"]
[]
[{"$f":"IF(COUNTA(EvaluaciónPatente16!F11)>0,EvaluaciónPatente16!F11,\"\")","v":""}]
[]
[]
["2. Evaluación"]
[]
["      2.1 Evaluación de criterios "]
[]
["Criterios",null,"Observaciones",null,null,null,null,null,null,"E"]
["1. Criterios legales","1.1 Estado legal ",{"$f":"IF(COUNTA(EvaluaciónPatente16!L20)>0,EvaluaciónPatente16!L20,\"\")","v":""},null,null,null,null,null,null,{"$f":"IF(COUNTA(EvaluaciónPatente16!C19)>0,0,IF(COUNTA(EvaluaciónPatente16!F19)>0,1,IF(COUNTA(EvaluaciónPatente16!I19)>0,2,\"\")))","v":""}]
[null,"1.2  Alcance territorial ",{"$f":"IF(COUNTA(EvaluaciónPatente16!L23)>0,EvaluaciónPatente16!L23,\"\")","v":""},null,null,null,null,null,null,{"$f":"IF(COUNTA(EvaluaciónPatente16!C22)>0,0,IF(COUNTA(EvaluaciónPatente16!F22)>0,1,IF(COUNTA(EvaluaciónPatente16!I22)>0,2,\"\")))","v":""}]
[null,"1.3 Fuerza de la protección",{"$f":"IF(COUNTA(EvaluaciónPatente16!L26)>0,EvaluaciónPatente16!L26,\"\")","v":""},null,null,null,null,null,null,{"$f":"IF(COUNTA(EvaluaciónPatente16!C25)>0,0,IF(COUNTA(EvaluaciónPatente16!F25)>0,1,IF(COUNTA(EvaluaciónPatente16!I25)>0,2,\"\")))","v":""}]
[null,"1.4 Duración de la protección",{"$f":"IF(COUNTA(EvaluaciónPatente16!L29)>0,EvaluaciónPatente16!L29,\"\")","v":""},null,null,null,null,null,null,{"$f":"IF(COUNTA(EvaluaciónPatente16!C28)>0,0,IF(COUNTA(EvaluaciónPatente16!F28)>0,1,IF(COUNTA(EvaluaciónPatente16!I28)>0,2,\"\")))","v":""}]
[null,"1.5 Alcance de la protección",{"$f":"IF(COUNTA(EvaluaciónPatente16!L32)>0,EvaluaciónPatente16!L32,\"\")","v":""},null,null,null,null,null,null,{"$f":"IF(COUNTA(EvaluaciónPatente16!C31)>0,0,IF(COUNTA(EvaluaciónPatente16!F31)>0,1,IF(COUNTA(EvaluaciónPatente16!I31)>0,2,\"\")))","v":""}]
[null,"1.6 (In)dependencia",{"$f":"IF(COUNTA(EvaluaciónPatente16!L35)>0,EvaluaciónPatente16!L35,\"\")","v":""},null,null,null,null,null,null,{"$f":"IF(COUNTA(EvaluaciónPatente16!C34)>0,0,IF(COUNTA(EvaluaciónPatente16!F34)>0,1,IF(COUNTA(EvaluaciónPatente16!I34)>0,2,\"\")))","v":""}]
["2. Criterios tecnológicos  ","2.1 Capacidad de detección",{"$f":"IF(COUNTA(EvaluaciónPatente16!L40)>0,EvaluaciónPatente16!L40,\"\")","v":" "},null,null,null,null,null,null,{"$f":"IF(COUNTA(EvaluaciónPatente16!C39)>0,0,IF(COUNTA(EvaluaciónPatente16!F39)>0,1,IF(COUNTA(EvaluaciónPatente16!I39)>0,2,\"\")))","v":""}]
[null,"2.2 Capacidad de imitación",{"$f":"IF(COUNTA(EvaluaciónPatente16!L43)>0,EvaluaciónPatente16!L43,\"\")","v":""},null,null,null,null,null,null,{"$f":"IF(COUNTA(EvaluaciónPatente16!C42)>0,0,IF(COUNTA(EvaluaciónPatente16!F42)>0,1,IF(COUNTA(EvaluaciónPatente16!I42)>0,2,\"\")))","v":""}]
[null,"2.3 Estado de desarrollo (TRL)",{"$f":"IF(COUNTA(EvaluaciónPatente16!L46)>0,EvaluaciónPatente16!L46,\"\")","v":""},null,null,null,null,null,null,{"$f":"IF(COUNTA(EvaluaciónPatente16!C45)>0,0,IF(COUNTA(EvaluaciónPatente16!F45)>0,1,IF(COUNTA(EvaluaciónPatente16!I45)>0,2,\"\")))","v":""}]
[null,"2.4 Proceso de producción / competencias ",{"$f":"IF(COUNTA(EvaluaciónPatente16!L49)>0,EvaluaciónPatente16!L49,\"\")","v":""},null,null,null,null,null,null,{"$f":"IF(COUNTA(EvaluaciónPatente16!C48)>0,0,IF(COUNTA(EvaluaciónPatente16!F48)>0,1,IF(COUNTA(EvaluaciónPatente16!I48)>0,2,\"\")))","v":""}]
[]
[null,null,"E = Evaluación",null,null,null,null,null,null,null,null,"Cubrir solo donde esté indicado"]
[]
[]
[]
[]
[]
[]
[]
["Criterios",null,"Observaciones",null,null,null,null,null,null,"E"]
["3. Criterios de mercado","3.1 Compromiso con la comercialización",{"$f":"IF(COUNTA(EvaluaciónPatente16!L54)>0,EvaluaciónPatente16!L54,\"\")","v":""},null,null,null,null,null,null,{"$f":"IF(COUNTA(EvaluaciónPatente16!C53)>0,0,IF(COUNTA(EvaluaciónPatente16!F53)>0,1,IF(COUNTA(EvaluaciónPatente16!I53)>0,2,\"\")))","v":""}]
[null,"3.2 Mercado potencial / Aplicaciones ",{"$f":"IF(COUNTA(EvaluaciónPatente16!L57)>0,EvaluaciónPatente16!L57,\"\")","v":""},null,null,null,null,null,null,{"$f":"IF(COUNTA(EvaluaciónPatente16!C56)>0,0,IF(COUNTA(EvaluaciónPatente16!F56)>0,1,IF(COUNTA(EvaluaciónPatente16!I56)>0,2,\"\")))","v":""}]
[null,"3.3 Evolución del mercado",{"$f":"IF(COUNTA(EvaluaciónPatente16!L60)>0,EvaluaciónPatente16!L60,\"\")","v":""},null,null,null,null,null,null,{"$f":"IF(COUNTA(EvaluaciónPatente16!C59)>0,0,IF(COUNTA(EvaluaciónPatente16!F59)>0,1,IF(COUNTA(EvaluaciónPatente16!I59)>0,2,\"\")))","v":""}]
[null,"3.4 Esperanza de vida en el mercado ",{"$f":"IF(COUNTA(EvaluaciónPatente16!L63)>0,EvaluaciónPatente16!L63,\"\")","v":""},null,null,null,null,null,null,{"$f":"IF(COUNTA(EvaluaciónPatente16!C62)>0,0,IF(COUNTA(EvaluaciónPatente16!F62)>0,1,IF(COUNTA(EvaluaciónPatente16!I62)>0,2,\"\")))","v":""}]
[null,"3.5 Entorno competitiva ",{"$f":"IF(COUNTA(EvaluaciónPatente16!L66)>0,EvaluaciónPatente16!L66,\"\")","v":""},null,null,null,null,null,null,{"$f":"IF(COUNTA(EvaluaciónPatente16!C65)>0,0,IF(COUNTA(EvaluaciónPatente16!F65)>0,1,IF(COUNTA(EvaluaciónPatente16!I65)>0,2,\"\")))","v":""}]
[null,"3.6 Permisos",{"$f":"IF(COUNTA(EvaluaciónPatente16!L69)>0,EvaluaciónPatente16!L69,\"\")","v":""},null,null,null,null,null,null,{"$f":"IF(COUNTA(EvaluaciónPatente16!C68)>0,0,IF(COUNTA(EvaluaciónPatente16!F68)>0,1,IF(COUNTA(EvaluaciónPatente16!I68)>0,2,\"\")))","v":""}]
[null,"3.7  Ventajas competitivas",{"$f":"IF(COUNTA(EvaluaciónPatente16!L72)>0,EvaluaciónPatente16!L72,\"\")","v":""},null,null,null,null,null,null,{"$f":"IF(COUNTA(EvaluaciónPatente16!C71)>0,0,IF(COUNTA(EvaluaciónPatente16!F71)>0,1,IF(COUNTA(EvaluaciónPatente16!I71)>0,2,\"\")))","v":""}]
[null,"3.8 Plazo de comercialización",{"$f":"IF(COUNTA(EvaluaciónPatente16!L75)>0,EvaluaciónPatente16!L75,\"\")","v":""},null,null,null,null,null,null,{"$f":"IF(COUNTA(EvaluaciónPatente16!C74)>0,0,IF(COUNTA(EvaluaciónPatente16!F74)>0,1,IF(COUNTA(EvaluaciónPatente16!I74)>0,2,\"\")))","v":""}]
[null,"3.9 Oportunidades comerciales y feedback",{"$f":"IF(COUNTA(EvaluaciónPatente16!L78)>0,EvaluaciónPatente16!L78,\"\")","v":""},null,null,null,null,null,null,{"$f":"IF(COUNTA(EvaluaciónPatente16!C77)>0,0,IF(COUNTA(EvaluaciónPatente16!F77)>0,1,IF(COUNTA(EvaluaciónPatente16!I77)>0,2,\"\")))","v":""}]
[null,null,null,null,null,null,null,null,null,null,null,"Cubrir solo donde esté indicado"]
[null,null,"E = Evaluación"]
[]
[]
[]
[]
[]
[]
[]
[]
["      2.2 Valoración general"]
[]
[]
[]
[]
[]
[]
[]
[]
[]
[]
[]
[]
[]
[]
[]
[]
[]
[]
[null,null,null,null,null,null,null,null,null,null,null,null,null,null,null,null," "]
[]
[]
[]
[]
["3. Conclusiones y observaciones"]
[]
["      3.1 Situación de la tecnología patentada de cara al proceso de una posible comercialización "]
[]
[null,"Tecnología patentada con alto potencial de transferencia o lista para transferir.",null,null,null,null,null,null,null,null,null,"Marcar una opción"]
[null,"Tecnología patentada pendiente de completar proceso de evaluación."]
[null,"Tecnología patentada con un grado de madurez que no es suficiente para iniciar un proceso de comercialización."]
[null,"Con la información aportada, la tecnología patentada no es de interés para un proceso de comercialización."]
[]
["         Justificación de la evaluación"]
[]
[null,null,null,null,null,null,null,null,null,null,null,"Indicar justificación de la evaluación"]
[{"$f":"IF(EvaluaciónPatente16!C19=\"x\", \"Patente no cumple con los requisitos mínimos. Patente revocada, expirada o caducada.\", \"\")","v":""}]
[{"$f":"IF(EvaluaciónPatente16!C22=\"x\", \"Patente no cumple con los requisitos mínimos. La protección de la patente es limitado a un mercado que no es su mercado principal. \", \"\")","v":""}]
[{"$f":"IF(EvaluaciónPatente16!C39=\"x\", \"Patente no cumple con los requisitos mínimos. Es muy difícil identificar los productos de imitación. \", \"\")","v":""}]
[{"$f":"IF(EvaluaciónPatente16!C53=\"x\", \"Patente no cumple con los requisitos mínimos. Recursos no asignados, la tecnología patentada no es clave para el equipo o el grupo. \", \"\")","v":""}]
[]
[]
[null,null,null,"   "]
["      3.2 Observaciones"]
[]
[null,null,null,null,null,null,null,null,null,null,null,"Indicar observaciones"]
[]
[]
[]
[]
[]
[]
[]
[]
[]
[]
[]
[]
[]
[]
[]
[]
[]
["      3.3 Implantación"]
[]
["Acciones",null,null,"Responsable",1,2,3,4,5,6,null,"Indicar proceso de implantación"]
[]
[]
[]
[]
[]
[]
[]
[]
[]
[]
[]
[]
[]
[]
[]
["4. Datos de la evaluación"]
[]
["Autor",null,null,null,null,"Fecha de realización"]
[{"$f":"IF(COUNTA(EvaluaciónPatente16!F12)>0,EvaluaciónPatente16!F12,\"\")","v":""},null,null,null,null,{"$f":"IF(COUNTA(EvaluaciónPatente16!F13)>0,EvaluaciónPatente16!F13,\"\")","v":""}]

{"sheet":"EvaluaciónPatente17","index":36,"n_rows":78,"n_cols":12,"rows_kept":78,"cut":false,"hidden":false,"merged":[[75,2,75,3],[57,2,57,3],[60,2,60,3],[63,2,63,3],[66,2,66,3],[69,2,69,3],[72,2,72,3],[54,2,54,3],[17,2,17,3],[20,2,20,8],[23,2,23,8],[26,2,26,8],[29,2,29,8],[32,2,32,8],[37,2,37,8],[40,2,40,8],[43,2,43,8],[46,2,46,8],[51,2,51,8],[10,1,10,3],[10,5,10,6],[11,1,11,3],[11,5,11,6],[12,1,12,3],[12,5,12,6]]}
[]
[]
[]
[]
[]
[]
[]
[]
[]
[]
[null,"Denominación de la tecnología patentada",null,null,null,null,null,null,null,"1. Incluir la denominación de la tecnología, el nombre del evaluador y la fecha de la evaluación"]
[null,"Nombre del evaluador",null,null,null,null,null,null,null,"2. Marcar con una «X» el nivel para cada criterio y los comentarios que justifiquen la elección"]
[null,"Fecha de evaluación de la tecnología patentada"]
[]
[null,"Criterios de evaluación"]
[]
[null,"1. Criterios legales"]
[null,null,"Criterio 1.1 Estado legal (Criterio de exclusión)"]
[null,null,null,"Desfavorable",null,null,"Neutro",null,null,"Favorable",null,"Comentarios"]
[null,null,null,"Patente revocada, expirada o caducada.",null,null,"-",null,null,"Por lo menos una solicitud de patente pendiente o patente concedida."]
[null,null,"Criterio 1.2 Alcance territorial (Criterio de exclusión)"]
[null,null,null,"Desfavorable",null,null,"Neutro",null,null,"Favorable",null,"Comentarios"]
[null,null,null,"La protección de la patente esta limitada a un mercado que no es su mercado principal. ",null,null,"-",null,null,"Protección en un país que es su mercado principal o en más de un país de la zona de mercado, o si la protección todavía está disponible para su elección (periodo de prioridad, PCT, EP)."]
[null,null,"Criterio 1.3 Fuerza de la protección"]
[null,null,null,"Desfavorable",null,null,"Neutro",null,null,"Favorable",null,"Comentarios"]
[null,null,null,"(PATENTES NO PUBLICADAS)\nNo se ha identificado el estado de\nla técnica o se ha identificado que\nel estado de la técnica no supone\nuna amenaza para la novedad y/o la\nactividad inventiva.\n(PATENTES PUBLICADAS)\nEvaluación de la patentabilidad por la\noficina nacional o similar existente, con\n2 o más documentos X.",null,null,"(PATENTES NO PUBLICADAS)\nSe ha identificado el estado de la\ntécnica y los documentos encontrados\nno suponen una amenaza para la\nnovedad. Sin embargo, la actividad\ninventiva es una cuestión de\ninterpretación.\n(PATENTES PUBLICADAS)\nExamen de la novedad por la oficina\nnacional o similar existente, con\ndocumentos X o Y, pero con potencial\nde conceder la patente.",null,null,"PATENTES NO PUBLICADAS)\nSe ha identificado el estado de la\ntécnica que no supone por el momento\nninguna amenaza para la novedad y la\nactividad inventiva.\n(PATENTES PUBLICADAS)\nExamen de la novedad por la oficina\nnacional o similar existente, sin\ndocumentos X o patente concedida."]
[null,null,"Criterio 1.4 Duración de la protección"]
[null,null,null,"Desfavorable",null,null,"Neutro",null,null,"Favorable",null,"Comentarios"]
[null,null,null,"A la patente le quedan menos de 6 años.",null,null,"A la patente le quedan 6-12 años",null,null,"A la patente le quedan más de 12 años"]
[null,null,"Criterio 1.5 Alcance de la protección "]
[null,null,null,"Desfavorable",null,null,"Neutro",null,null,"Favorable",null,"Comentarios"]
[null,null,null,"Las reivindicaciones son muy concretas y específicas.",null,null,"Las reivindicaciones son razonablemente amplias.",null,null,"Las reivindicaciones comprenden un principio general."]
[null,null,"Criterio 1.6 (In)dependencia"]
[null,null,null,"Desfavorable",null,null,"Neutro",null,null,"Favorable",null,"Comentarios"]
[null,null,null,"El uso de la patente depende de cotitulares fuera del ámbito habitual o de cotitulares con menos de 5% cotitularidad dentro del ámbito habitual.",null,null,"El uso de la patente depende de cotitulares, pero dentro del ámbito habitual.",null,null,"La patente no tiene cotitulares. El uso y la explotación de la patente es independiente de acuerdos con cotitulares."]
[]
[null,"2. Criterios tecnológicos "]
[null,null,"Criterio 2.1 Capacidad de detección (Criterio de exclusión y madurez)"]
[null,null,null,"Desfavorable",null,null,"Neutro",null,null,"Favorable",null,"Comentarios"]
[null,null,null,"Es muy difícil identificar los productos\nde imitación. Es prácticamente\nimposible de detectar el uso ilegal de\nun procedimiento, un método o el uso\nde un compuesto.",null,null,"Es difícil pero no imposible identificar\nproductos de imitación. La detección\nde un uso ilegal de un procedimiento,\nun método o el uso de un compuesto\nes posible, aunque difícil.",null,null,"Es fácil identificar los productos\nilegales de imitación. La detección de\nun uso ilegal de un procedimiento, un\nmétodo o el uso de un compuesto es\nfácil.",null," "]
[null,null,"Criterio 2.2 Capacidad de imitación"]
[null,null,null,"Desfavorable",null,null,"Neutro",null,null,"Favorable",null,"Comentarios"]
[null,null,null,"La tecnología patentada es fácil de identificar, copiar y producir.",null,null,"Es posible copiar y producir la tecnología patentada por ejemplo mediante ingeniería inversa.",null,null,"La tecnología patentada es muy difícil de copiar y producir."]
[null,null,"Criterio 2.3 Estado de desarrollo (TRL)"]
[null,null,null,"Desfavorable",null,null,"Neutro",null,null,"Favorable",null,"Comentarios"]
[null,null,null,"Entrono laboratorio: la invención ha sido probada, en teoría, de acuerdo con cálculos (TRL 1-2).",null,null,"Se han realizado experimentos, se han desarrollado prototipos (TRL 3-4).",null,null,"Demostración de la invención en un entorno real (TRL ≥5)."]
[null,null,"Criterio 2.4 Proceso de producción"]
[null,null,null,"Desfavorable",null,null,"Neutro",null,null,"Favorable",null,"Comentarios"]
[null,null,null,"La tecnología patentada requiere un proceso de producción completamente nuevo o modifica fundamentalmente el procedimiento actualmente en uso.",null,null,"Se requiere el desarrollo de los procesos de producción actualmente aplicados antes de poder utilizar o producir la tecnología patentada.",null,null,"La tecnología patentada puede utilizarse o producirse con el proceso de producción actualmente aplicado."]
[]
[null,"3. Criterios de mercado"]
[null,null,"Criterio 3.1 Compromiso con la comercialización (Criterio de exclusión y madurez)"]
[null,null,null,"Desfavorable",null,null,"Neutro",null,null,"Favorable",null,"Comentarios"]
[null,null,null,"Recursos no asignados, la tecnología patentada no es clave para el equipo o el grupo.",null,null,"Personas asignadas a la tecnología patentada, pero sin funciones definidas. El proceso de transferencia no es una prioridad. ",null,null,"Proyecto clave dentro de la estrategia de transferencia del grupo o equipo. Hay personas asignadas para participar en el proceso con roles establecidos."]
[null,null,"Criterio 3.2 Mercado potencial / Aplicaciones"]
[null,null,null,"Desfavorable",null,null,"Neutro",null,null,"Favorable",null,"Comentarios"]
[null,null,null,"La tecnología patentada aún no se ha dirigido a un mercado concreto o se dirige a un mercado pequeño. No está confirmado el sector de aplicación.",null,null,"Existe un mercado conocido para la tecnología patentada con un tamaño significativo dentro del -ámbito tecnológico. La aplicación se limita a un sector industrial.",null,null,"Existe un mercado conocido y grande, así como otros mercados significativos. Se han identificado numerosos ámbitos de aplicación."]
[null,null,"Criterio 3.3 Evolución del mercado"]
[null,null,null,"Desfavorable",null,null,"Neutro",null,null,"Favorable",null,"Comentarios"]
[null,null,null,"Bajo (CAGR < 4%).",null,null,"Medio (CAGR 4-8%).",null,null,"Alto (CAGR >8%)."]
[null,null,"Criterio 3.4 Esperanza de vida en el mercado"]
[null,null,null,"Desfavorable",null,null,"Neutro",null,null,"Favorable",null,"Comentarios"]
[null,null,null,"Inferior a 2 años.",null,null,"Entre 2 -5 años.",null,null,"Más de 5 años."]
[null,null,"Criterio 3.5 Entorno competitivo"]
[null,null,null,"Desfavorable",null,null,"Neutro",null,null,"Favorable",null,"Comentarios"]
[null,null,null,"No se identificaron los competidores ni productos sustitutivos.",null,null,"Situación dominante de un grupo restringido de empresas o limitado a un número escaso de empresas.",null,null,"Entorno competitivo detectado y definido. Mercado accesible y abierto."]
[null,null,"Criterio 3.6 Permisos y estándares de mercado"]
[null,null,null,"Desfavorable",null,null,"Neutro",null,null,"Favorable",null,"Comentarios"]
[null,null,null,"Se necesitan permisos o/y se tienen\nque cumplir estándares para vender\nproductos en el mercado, pero aún\nno se han identificado y analizado los\nrequisitos.",null,null,"Permisos y/o estándares necesarios\ndetectados y analizados o aplicación\nde permisos en proceso.",null,null,"No es necesario un permiso ni se\ntienen que cumplir estándares para la\nventa de productos en el mercado."]
[null,null,"Criterio 3.7 Ventajas competitivas"]
[null,null,null,"Desfavorable",null,null,"Neutro",null,null,"Favorable",null,"Comentarios"]
[null,null,null,"No se han detectado las ventajas competitivas.",null,null,"Se han definido las ventajas competitivas. La tecnología patentada ofrece al menos 1-2 ventajas sobre las tecnologías y productos existentes.",null,null,"La tecnología patentada proporciona características realmente innovadoras y distintivas que pueden utilizarse para la comercialización y la venta de posibles productos."]
[null,null,"Criterio 3.8 Plazo de comercialización"]
[null,null,null,"Desfavorable",null,null,"Neutro",null,null,"Favorable",null,"Comentarios"]
[null,null,null,"Superior a 3 años.",null,null,"Entre 2-3 años.",null,null,"Inferior a 2 años."]
[null,null,"Criterio 3.9 Oportunidades comerciales y feedback"]
[null,null,null,"Desfavorable",null,null,"Neutro",null,null,"Favorable",null,"Comentarios"]
[null,null,null,"El equipo investigador no tiene\nconocimiento sobre el entorno\ncomercial de la tecnología patentada.\nNo existe feedback por parte de\nempresas interesadas, o solo feedback\nnegativo.",null,null,"El equipo investigador tiene\noportunidades comerciales detectadas\ny conoce empresas y entidades\ninteresadas. Existe feedback por parte\nde empresas interesadas, pero sin\nintención para una cooperación.",null,null,"El equipo investigador ya ha tenido\ncontacto con empresas y entidades\ninteresadas y tiene varias oportunidades\ncomerciales detectadas. Existe feedback\npor parte de empresas interesadas, con\nintención para una cooperación."]

{"sheet":"InformePatente17","index":37,"n_rows":146,"n_cols":17,"rows_kept":146,"cut":false,"hidden":false,"merged":[[145,5,145,9],[46,2,46,8],[47,2,47,8],[48,2,48,8],[49,2,49,8],[50,2,50,8],[144,5,144,9],[28,0,31,0],[28,2,28,8],[29,2,29,8],[30,2,30,8],[31,2,31,8],[42,0,50,0],[42,2,42,8],[43,2,43,8],[44,2,44,8],[45,2,45,8],[14,0,14,9],[21,0,21,1],[22,0,27,0],[22,2,22,8],[23,2,23,8],[24,2,24,8],[25,2,25,8],[26,2,26,8],[27,2,27,8]]}
[]
[null,null,null,null,null,null,null,null,null,null,null,null,null,null,null,"Promedio"]
[null,null,null,null,null,null,null,null,null,null,null,null,null,null,null,"Criterios legales",{"$f":"IF(COUNT(SUM(J25,J26,J27,J28))>0,SUM(J25,J26,J27,J28)/8,-9999999999)","v":0}]
[null,null,null,null,null,null,null,null,null,null,null,null,null,null,null,"Criterios tecnológicos ",{"$f":"IF(COUNT(SUM(J29,J30,J31,J32))>0,SUM(J29,J30,J31,J32)/8,-9999999999)","v":0}]
[null,null,null,null,null,null,null,null,null,null,null,null,null,null,null,"Criterios de mercado",{"$f":"IF(COUNT(SUM(J43,J45,J44,J46,J47,J48,J49,J50,J51))>0,SUM(J43,J45,J44,J46,J47,J48,J49,J50,J51)/18,-9999999999)","v":0}]
[]
[]
[null,null,null,null,null,null,null,null,null,null,null,"Cubrir solo donde esté indicado"]
[]
[]
["INFORME DE EVALUACIÓN"]
[]
["1. Título"]
[]
[{"$f":"IF(COUNTA(EvaluaciónPatente17!F11)>0,EvaluaciónPatente17!F11,\"\")","v":""}]
[]
[]
["2. Evaluación"]
[]
["      2.1 Evaluación de criterios "]
[]
["Criterios",null,"Observaciones",null,null,null,null,null,null,"E"]
["1. Criterios legales","1.1 Estado legal ",{"$f":"IF(COUNTA(EvaluaciónPatente17!L20)>0,EvaluaciónPatente17!L20,\"\")","v":""},null,null,null,null,null,null,{"$f":"IF(COUNTA(EvaluaciónPatente17!C19)>0,0,IF(COUNTA(EvaluaciónPatente17!F19)>0,1,IF(COUNTA(EvaluaciónPatente17!I19)>0,2,\"\")))","v":""}]
[null,"1.2  Alcance territorial ",{"$f":"IF(COUNTA(EvaluaciónPatente17!L23)>0,EvaluaciónPatente17!L23,\"\")","v":""},null,null,null,null,null,null,{"$f":"IF(COUNTA(EvaluaciónPatente17!C22)>0,0,IF(COUNTA(EvaluaciónPatente17!F22)>0,1,IF(COUNTA(EvaluaciónPatente17!I22)>0,2,\"\")))","v":""}]
[null,"1.3 Fuerza de la protección",{"$f":"IF(COUNTA(EvaluaciónPatente17!L26)>0,EvaluaciónPatente17!L26,\"\")","v":""},null,null,null,null,null,null,{"$f":"IF(COUNTA(EvaluaciónPatente17!C25)>0,0,IF(COUNTA(EvaluaciónPatente17!F25)>0,1,IF(COUNTA(EvaluaciónPatente17!I25)>0,2,\"\")))","v":""}]
[null,"1.4 Duración de la protección",{"$f":"IF(COUNTA(EvaluaciónPatente17!L29)>0,EvaluaciónPatente17!L29,\"\")","v":""},null,null,null,null,null,null,{"$f":"IF(COUNTA(EvaluaciónPatente17!C28)>0,0,IF(COUNTA(EvaluaciónPatente17!F28)>0,1,IF(COUNTA(EvaluaciónPatente17!I28)>0,2,\"\")))","v":""}]
[null,"1.5 Alcance de la protección",{"$f":"IF(COUNTA(EvaluaciónPatente17!L32)>0,EvaluaciónPatente17!L32,\"\")","v":""},null,null,null,null,null,null,{"$f":"IF(COUNTA(EvaluaciónPatente17!C31)>0,0,IF(COUNTA(EvaluaciónPatente17!F31)>0,1,IF(COUNTA(EvaluaciónPatente17!I31)>0,2,\"\")))","v":""}]
[null,"1.6 (In)dependencia",{"$f":"IF(COUNTA(EvaluaciónPatente17!L35)>0,EvaluaciónPatente17!L35,\"\")","v":""},null,null,null,null,null,null,{"$f":"IF(COUNTA(EvaluaciónPatente17!C34)>0,0,IF(COUNTA(EvaluaciónPatente17!F34)>0,1,IF(COUNTA(EvaluaciónPatente17!I34)>0,2,\"\")))","v":""}]
["2. Criterios tecnológicos  ","2.1 Capacidad de detección",{"$f":"IF(COUNTA(EvaluaciónPatente17!L40)>0,EvaluaciónPatente17!L40,\"\")","v":" "},null,null,null,null,null,null,{"$f":"IF(COUNTA(EvaluaciónPatente17!C39)>0,0,IF(COUNTA(EvaluaciónPatente17!F39)>0,1,IF(COUNTA(EvaluaciónPatente17!I39)>0,2,\"\")))","v":""}]
[null,"2.2 Capacidad de imitación",{"$f":"IF(COUNTA(EvaluaciónPatente17!L43)>0,EvaluaciónPatente17!L43,\"\")","v":""},null,null,null,null,null,null,{"$f":"IF(COUNTA(EvaluaciónPatente17!C42)>0,0,IF(COUNTA(EvaluaciónPatente17!F42)>0,1,IF(COUNTA(EvaluaciónPatente17!I42)>0,2,\"\")))","v":""}]
[null,"2.3 Estado de desarrollo (TRL)",{"$f":"IF(COUNTA(EvaluaciónPatente17!L46)>0,EvaluaciónPatente17!L46,\"\")","v":""},null,null,null,null,null,null,{"$f":"IF(COUNTA(EvaluaciónPatente17!C45)>0,0,IF(COUNTA(EvaluaciónPatente17!F45)>0,1,IF(COUNTA(EvaluaciónPatente17!I45)>0,2,\"\")))","v":""}]
[null,"2.4 Proceso de producción / competencias ",{"$f":"IF(COUNTA(EvaluaciónPatente17!L49)>0,EvaluaciónPatente17!L49,\"\")","v":""},null,null,null,null,null,null,{"$f":"IF(COUNTA(EvaluaciónPatente17!C48)>0,0,IF(COUNTA(EvaluaciónPatente17!F48)>0,1,IF(COUNTA(EvaluaciónPatente17!I48)>0,2,\"\")))","v":""}]
[]
[null,null,"E = Evaluación",null,null,null,null,null,null,null,null,"Cubrir solo donde esté indicado"]
[]
[]
[]
[]
[]
[]
[]
["Criterios",null,"Observaciones",null,null,null,null,null,null,"E"]
["3. Criterios de mercado","3.1 Compromiso con la comercialización",{"$f":"IF(COUNTA(EvaluaciónPatente17!L54)>0,EvaluaciónPatente17!L54,\"\")","v":""},null,null,null,null,null,null,{"$f":"IF(COUNTA(EvaluaciónPatente17!C53)>0,0,IF(COUNTA(EvaluaciónPatente17!F53)>0,1,IF(COUNTA(EvaluaciónPatente17!I53)>0,2,\"\")))","v":""}]
[null,"3.2 Mercado potencial / Aplicaciones ",{"$f":"IF(COUNTA(EvaluaciónPatente17!L57)>0,EvaluaciónPatente17!L57,\"\")","v":""},null,null,null,null,null,null,{"$f":"IF(COUNTA(EvaluaciónPatente17!C56)>0,0,IF(COUNTA(EvaluaciónPatente17!F56)>0,1,IF(COUNTA(EvaluaciónPatente17!I56)>0,2,\"\")))","v":""}]
[null,"3.3 Evolución del mercado",{"$f":"IF(COUNTA(EvaluaciónPatente17!L60)>0,EvaluaciónPatente17!L60,\"\")","v":""},null,null,null,null,null,null,{"$f":"IF(COUNTA(EvaluaciónPatente17!C59)>0,0,IF(COUNTA(EvaluaciónPatente17!F59)>0,1,IF(COUNTA(EvaluaciónPatente17!I59)>0,2,\"\")))","v":""}]
[null,"3.4 Esperanza de vida en el mercado ",{"$f":"IF(COUNTA(EvaluaciónPatente17!L63)>0,EvaluaciónPatente17!L63,\"\")","v":""},null,null,null,null,null,null,{"$f":"IF(COUNTA(EvaluaciónPatente17!C62)>0,0,IF(COUNTA(EvaluaciónPatente17!F62)>0,1,IF(COUNTA(EvaluaciónPatente17!I62)>0,2,\"\")))","v":""}]
[null,"3.5 Entorno competitiva ",{"$f":"IF(COUNTA(EvaluaciónPatente17!L66)>0,EvaluaciónPatente17!L66,\"\")","v":""},null,null,null,null,null,null,{"$f":"IF(COUNTA(EvaluaciónPatente17!C65)>0,0,IF(COUNTA(EvaluaciónPatente17!F65)>0,1,IF(COUNTA(EvaluaciónPatente17!I65)>0,2,\"\")))","v":""}]
[null,"3.6 Permisos",{"$f":"IF(COUNTA(EvaluaciónPatente17!L69)>0,EvaluaciónPatente17!L69,\"\")","v":""},null,null,null,null,null,null,{"$f":"IF(COUNTA(EvaluaciónPatente17!C68)>0,0,IF(COUNTA(EvaluaciónPatente17!F68)>0,1,IF(COUNTA(EvaluaciónPatente17!I68)>0,2,\"\")))","v":""}]
[null,"3.7  Ventajas competitivas",{"$f":"IF(COUNTA(EvaluaciónPatente17!L72)>0,EvaluaciónPatente17!L72,\"\")","v":""},null,null,null,null,null,null,{"$f":"IF(COUNTA(EvaluaciónPatente17!C71)>0,0,IF(COUNTA(EvaluaciónPatente17!F71)>0,1,IF(COUNTA(EvaluaciónPatente17!I71)>0,2,\"\")))","v":""}]
[null,"3.8 Plazo de comercialización",{"$f":"IF(COUNTA(EvaluaciónPatente17!L75)>0,EvaluaciónPatente17!L75,\"\")","v":""},null,null,null,null,null,null,{"$f":"IF(COUNTA(EvaluaciónPatente17!C74)>0,0,IF(COUNTA(EvaluaciónPatente17!F74)>0,1,IF(COUNTA(EvaluaciónPatente17!I74)>0,2,\"\")))","v":""}]
[null,"3.9 Oportunidades comerciales y feedback",{"$f":"IF(COUNTA(EvaluaciónPatente17!L78)>0,EvaluaciónPatente17!L78,\"\")","v":""},null,null,null,null,null,null,{"$f":"IF(COUNTA(EvaluaciónPatente17!C77)>0,0,IF(COUNTA(EvaluaciónPatente17!F77)>0,1,IF(COUNTA(EvaluaciónPatente17!I77)>0,2,\"\")))","v":""}]
[null,null,null,null,null,null,null,null,null,null,null,"Cubrir solo donde esté indicado"]
[null,null,"E = Evaluación"]
[]
[]
[]
[]
[]
[]
[]
[]
["      2.2 Valoración general"]
[]
[]
[]
[]
[]
[]
[]
[]
[]
[]
[]
[]
[]
[]
[]
[]
[]
[]
[null,null,null,null,null,null,null,null,null,null,null,null,null,null,null,null," "]
[]
[]
[]
[]
["3. Conclusiones y observaciones"]
[]
["      3.1 Situación de la tecnología patentada de cara al proceso de una posible comercialización "]
[]
[null,"Tecnología patentada con alto potencial de transferencia o lista para transferir.",null,null,null,null,null,null,null,null,null,"Marcar una opción"]
[null,"Tecnología patentada pendiente de completar proceso de evaluación."]
[null,"Tecnología patentada con un grado de madurez que no es suficiente para iniciar un proceso de comercialización."]
[null,"Con la información aportada, la tecnología patentada no es de interés para un proceso de comercialización."]
[]
["         Justificación de la evaluación"]
[]
[null,null,null,null,null,null,null,null,null,null,null,"Indicar justificación de la evaluación"]
[{"$f":"IF(EvaluaciónPatente17!C19=\"x\", \"Patente no cumple con los requisitos mínimos. Patente revocada, expirada o caducada.\", \"\")","v":""}]
[{"$f":"IF(EvaluaciónPatente17!C22=\"x\", \"Patente no cumple con los requisitos mínimos. La protección de la patente es limitado a un mercado que no es su mercado principal. \", \"\")","v":""}]
[{"$f":"IF(EvaluaciónPatente17!C39=\"x\", \"Patente no cumple con los requisitos mínimos. Es muy difícil identificar los productos de imitación. \", \"\")","v":""}]
[{"$f":"IF(EvaluaciónPatente17!C53=\"x\", \"Patente no cumple con los requisitos mínimos. Recursos no asignados, la tecnología patentada no es clave para el equipo o el grupo. \", \"\")","v":""}]
[]
[]
[null,null,null,"   "]
["      3.2 Observaciones"]
[]
[null,null,null,null,null,null,null,null,null,null,null,"Indicar observaciones"]
[]
[]
[]
[]
[]
[]
[]
[]
[]
[]
[]
[]
[]
[]
[]
[]
[]
["      3.3 Implantación"]
[]
["Acciones",null,null,"Responsable",1,2,3,4,5,6,null,"Indicar proceso de implantación"]
[]
[]
[]
[]
[]
[]
[]
[]
[]
[]
[]
[]
[]
[]
[]
["4. Datos de la evaluación"]
[]
["Autor",null,null,null,null,"Fecha de realización"]
[{"$f":"IF(COUNTA(EvaluaciónPatente17!F12)>0,EvaluaciónPatente17!F12,\"\")","v":""},null,null,null,null,{"$f":"IF(COUNTA(EvaluaciónPatente17!F13)>0,EvaluaciónPatente17!F13,\"\")","v":""}]

{"sheet":"EvaluaciónPatente18","index":38,"n_rows":78,"n_cols":12,"rows_kept":78,"cut":false,"hidden":false,"merged":[[75,2,75,3],[57,2,57,3],[60,2,60,3],[63,2,63,3],[66,2,66,3],[69,2,69,3],[72,2,72,3],[54,2,54,3],[17,2,17,3],[20,2,20,8],[23,2,23,8],[26,2,26,8],[29,2,29,8],[32,2,32,8],[37,2,37,8],[40,2,40,8],[43,2,43,8],[46,2,46,8],[51,2,51,8],[10,1,10,3],[10,5,10,6],[11,1,11,3],[11,5,11,6],[12,1,12,3],[12,5,12,6]]}
[]
[]
[]
[]
[]
[]
[]
[]
[]
[]
[null,"Denominación de la tecnología patentada",null,null,null,null,null,null,null,"1. Incluir la denominación de la tecnología, el nombre del evaluador y la fecha de la evaluación"]
[null,"Nombre del evaluador",null,null,null,null,null,null,null,"2. Marcar con una «X» el nivel para cada criterio y los comentarios que justifiquen la elección"]
[null,"Fecha de evaluación de la tecnología patentada"]
[]
[null,"Criterios de evaluación"]
[]
[null,"1. Criterios legales"]
[null,null,"Criterio 1.1 Estado legal (Criterio de exclusión)"]
[null,null,null,"Desfavorable",null,null,"Neutro",null,null,"Favorable",null,"Comentarios"]
[null,null,null,"Patente revocada, expirada o caducada.",null,null,"-",null,null,"Por lo menos una solicitud de patente pendiente o patente concedida."]
[null,null,"Criterio 1.2 Alcance territorial (Criterio de exclusión)"]
[null,null,null,"Desfavorable",null,null,"Neutro",null,null,"Favorable",null,"Comentarios"]
[null,null,null,"La protección de la patente esta limitada a un mercado que no es su mercado principal. ",null,null,"-",null,null,"Protección en un país que es su mercado principal o en más de un país de la zona de mercado, o si la protección todavía está disponible para su elección (periodo de prioridad, PCT, EP)."]
[null,null,"Criterio 1.3 Fuerza de la protección"]
[null,null,null,"Desfavorable",null,null,"Neutro",null,null,"Favorable",null,"Comentarios"]
[null,null,null,"(PATENTES NO PUBLICADAS)\nNo se ha identificado el estado de\nla técnica o se ha identificado que\nel estado de la técnica no supone\nuna amenaza para la novedad y/o la\nactividad inventiva.\n(PATENTES PUBLICADAS)\nEvaluación de la patentabilidad por la\noficina nacional o similar existente, con\n2 o más documentos X.",null,null,"(PATENTES NO PUBLICADAS)\nSe ha identificado el estado de la\ntécnica y los documentos encontrados\nno suponen una amenaza para la\nnovedad. Sin embargo, la actividad\ninventiva es una cuestión de\ninterpretación.\n(PATENTES PUBLICADAS)\nExamen de la novedad por la oficina\nnacional o similar existente, con\ndocumentos X o Y, pero con potencial\nde conceder la patente.",null,null,"PATENTES NO PUBLICADAS)\nSe ha identificado el estado de la\ntécnica que no supone por el momento\nninguna amenaza para la novedad y la\nactividad inventiva.\n(PATENTES PUBLICADAS)\nExamen de la novedad por la oficina\nnacional o similar existente, sin\ndocumentos X o patente concedida."]
[null,null,"Criterio 1.4 Duración de la protección"]
[null,null,null,"Desfavorable",null,null,"Neutro",null,null,"Favorable",null,"Comentarios"]
[null,null,null,"A la patente le quedan menos de 6 años.",null,null,"A la patente le quedan 6-12 años",null,null,"A la patente le quedan más de 12 años"]
[null,null,"Criterio 1.5 Alcance de la protección "]
[null,null,null,"Desfavorable",null,null,"Neutro",null,null,"Favorable",null,"Comentarios"]
[null,null,null,"Las reivindicaciones son muy concretas y específicas.",null,null,"Las reivindicaciones son razonablemente amplias.",null,null,"Las reivindicaciones comprenden un principio general."]
[null,null,"Criterio 1.6 (In)dependencia"]
[null,null,null,"Desfavorable",null,null,"Neutro",null,null,"Favorable",null,"Comentarios"]
[null,null,null,"El uso de la patente depende de cotitulares fuera del ámbito habitual o de cotitulares con menos de 5% cotitularidad dentro del ámbito habitual.",null,null,"El uso de la patente depende de cotitulares, pero dentro del ámbito habitual.",null,null,"La patente no tiene cotitulares. El uso y la explotación de la patente es independiente de acuerdos con cotitulares."]
[]
[null,"2. Criterios tecnológicos "]
[null,null,"Criterio 2.1 Capacidad de detección (Criterio de exclusión y madurez)"]
[null,null,null,"Desfavorable",null,null,"Neutro",null,null,"Favorable",null,"Comentarios"]
[null,null,null,"Es muy difícil identificar los productos\nde imitación. Es prácticamente\nimposible de detectar el uso ilegal de\nun procedimiento, un método o el uso\nde un compuesto.",null,null,"Es difícil pero no imposible identificar\nproductos de imitación. La detección\nde un uso ilegal de un procedimiento,\nun método o el uso de un compuesto\nes posible, aunque difícil.",null,null,"Es fácil identificar los productos\nilegales de imitación. La detección de\nun uso ilegal de un procedimiento, un\nmétodo o el uso de un compuesto es\nfácil.",null," "]
[null,null,"Criterio 2.2 Capacidad de imitación"]
[null,null,null,"Desfavorable",null,null,"Neutro",null,null,"Favorable",null,"Comentarios"]
[null,null,null,"La tecnología patentada es fácil de identificar, copiar y producir.",null,null,"Es posible copiar y producir la tecnología patentada por ejemplo mediante ingeniería inversa.",null,null,"La tecnología patentada es muy difícil de copiar y producir."]
[null,null,"Criterio 2.3 Estado de desarrollo (TRL)"]
[null,null,null,"Desfavorable",null,null,"Neutro",null,null,"Favorable",null,"Comentarios"]
[null,null,null,"Entrono laboratorio: la invención ha sido probada, en teoría, de acuerdo con cálculos (TRL 1-2).",null,null,"Se han realizado experimentos, se han desarrollado prototipos (TRL 3-4).",null,null,"Demostración de la invención en un entorno real (TRL ≥5)."]
[null,null,"Criterio 2.4 Proceso de producción"]
[null,null,null,"Desfavorable",null,null,"Neutro",null,null,"Favorable",null,"Comentarios"]
[null,null,null,"La tecnología patentada requiere un proceso de producción completamente nuevo o modifica fundamentalmente el procedimiento actualmente en uso.",null,null,"Se requiere el desarrollo de los procesos de producción actualmente aplicados antes de poder utilizar o producir la tecnología patentada.",null,null,"La tecnología patentada puede utilizarse o producirse con el proceso de producción actualmente aplicado."]
[]
[null,"3. Criterios de mercado"]
[null,null,"Criterio 3.1 Compromiso con la comercialización (Criterio de exclusión y madurez)"]
[null,null,null,"Desfavorable",null,null,"Neutro",null,null,"Favorable",null,"Comentarios"]
[null,null,null,"Recursos no asignados, la tecnología patentada no es clave para el equipo o el grupo.",null,null,"Personas asignadas a la tecnología patentada, pero sin funciones definidas. El proceso de transferencia no es una prioridad. ",null,null,"Proyecto clave dentro de la estrategia de transferencia del grupo o equipo. Hay personas asignadas para participar en el proceso con roles establecidos."]
[null,null,"Criterio 3.2 Mercado potencial / Aplicaciones"]
[null,null,null,"Desfavorable",null,null,"Neutro",null,null,"Favorable",null,"Comentarios"]
[null,null,null,"La tecnología patentada aún no se ha dirigido a un mercado concreto o se dirige a un mercado pequeño. No está confirmado el sector de aplicación.",null,null,"Existe un mercado conocido para la tecnología patentada con un tamaño significativo dentro del -ámbito tecnológico. La aplicación se limita a un sector industrial.",null,null,"Existe un mercado conocido y grande, así como otros mercados significativos. Se han identificado numerosos ámbitos de aplicación."]
[null,null,"Criterio 3.3 Evolución del mercado"]
[null,null,null,"Desfavorable",null,null,"Neutro",null,null,"Favorable",null,"Comentarios"]
[null,null,null,"Bajo (CAGR < 4%).",null,null,"Medio (CAGR 4-8%).",null,null,"Alto (CAGR >8%)."]
[null,null,"Criterio 3.4 Esperanza de vida en el mercado"]
[null,null,null,"Desfavorable",null,null,"Neutro",null,null,"Favorable",null,"Comentarios"]
[null,null,null,"Inferior a 2 años.",null,null,"Entre 2 -5 años.",null,null,"Más de 5 años."]
[null,null,"Criterio 3.5 Entorno competitivo"]
[null,null,null,"Desfavorable",null,null,"Neutro",null,null,"Favorable",null,"Comentarios"]
[null,null,null,"No se identificaron los competidores ni productos sustitutivos.",null,null,"Situación dominante de un grupo restringido de empresas o limitado a un número escaso de empresas.",null,null,"Entorno competitivo detectado y definido. Mercado accesible y abierto."]
[null,null,"Criterio 3.6 Permisos y estándares de mercado"]
[null,null,null,"Desfavorable",null,null,"Neutro",null,null,"Favorable",null,"Comentarios"]
[null,null,null,"Se necesitan permisos o/y se tienen\nque cumplir estándares para vender\nproductos en el mercado, pero aún\nno se han identificado y analizado los\nrequisitos.",null,null,"Permisos y/o estándares necesarios\ndetectados y analizados o aplicación\nde permisos en proceso.",null,null,"No es necesario un permiso ni se\ntienen que cumplir estándares para la\nventa de productos en el mercado."]
[null,null,"Criterio 3.7 Ventajas competitivas"]
[null,null,null,"Desfavorable",null,null,"Neutro",null,null,"Favorable",null,"Comentarios"]
[null,null,null,"No se han detectado las ventajas competitivas.",null,null,"Se han definido las ventajas competitivas. La tecnología patentada ofrece al menos 1-2 ventajas sobre las tecnologías y productos existentes.",null,null,"La tecnología patentada proporciona características realmente innovadoras y distintivas que pueden utilizarse para la comercialización y la venta de posibles productos."]
[null,null,"Criterio 3.8 Plazo de comercialización"]
[null,null,null,"Desfavorable",null,null,"Neutro",null,null,"Favorable",null,"Comentarios"]
[null,null,null,"Superior a 3 años.",null,null,"Entre 2-3 años.",null,null,"Inferior a 2 años."]
[null,null,"Criterio 3.9 Oportunidades comerciales y feedback"]
[null,null,null,"Desfavorable",null,null,"Neutro",null,null,"Favorable",null,"Comentarios"]
[null,null,null,"El equipo investigador no tiene\nconocimiento sobre el entorno\ncomercial de la tecnología patentada.\nNo existe feedback por parte de\nempresas interesadas, o solo feedback\nnegativo.",null,null,"El equipo investigador tiene\noportunidades comerciales detectadas\ny conoce empresas y entidades\ninteresadas. Existe feedback por parte\nde empresas interesadas, pero sin\nintención para una cooperación.",null,null,"El equipo investigador ya ha tenido\ncontacto con empresas y entidades\ninteresadas y tiene varias oportunidades\ncomerciales detectadas. Existe feedback\npor parte de empresas interesadas, con\nintención para una cooperación."]

{"sheet":"InformePatente18","index":39,"n_rows":146,"n_cols":17,"rows_kept":146,"cut":false,"hidden":false,"merged":[[145,5,145,9],[46,2,46,8],[47,2,47,8],[48,2,48,8],[49,2,49,8],[50,2,50,8],[144,5,144,9],[28,0,31,0],[28,2,28,8],[29,2,29,8],[30,2,30,8],[31,2,31,8],[42,0,50,0],[42,2,42,8],[43,2,43,8],[44,2,44,8],[45,2,45,8],[14,0,14,9],[21,0,21,1],[22,0,27,0],[22,2,22,8],[23,2,23,8],[24,2,24,8],[25,2,25,8],[26,2,26,8],[27,2,27,8]]}
[]
[null,null,null,null,null,null,null,null,null,null,null,null,null,null,null,"Promedio"]
[null,null,null,null,null,null,null,null,null,null,null,null,null,null,null,"Criterios legales",{"$f":"IF(COUNT(SUM(J25,J26,J27,J28))>0,SUM(J25,J26,J27,J28)/8,-9999999999)","v":0}]
[null,null,null,null,null,null,null,null,null,null,null,null,null,null,null,"Criterios tecnológicos ",{"$f":"IF(COUNT(SUM(J29,J30,J31,J32))>0,SUM(J29,J30,J31,J32)/8,-9999999999)","v":0}]
[null,null,null,null,null,null,null,null,null,null,null,null,null,null,null,"Criterios de mercado",{"$f":"IF(COUNT(SUM(J43,J45,J44,J46,J47,J48,J49,J50,J51))>0,SUM(J43,J45,J44,J46,J47,J48,J49,J50,J51)/18,-9999999999)","v":0}]
[]
[]
[null,null,null,null,null,null,null,null,null,null,null,"Cubrir solo donde esté indicado"]
[]
[]
["INFORME DE EVALUACIÓN"]
[]
["1. Título"]
[]
[{"$f":"IF(COUNTA(EvaluaciónPatente18!F11)>0,EvaluaciónPatente18!F11,\"\")","v":""}]
[]
[]
["2. Evaluación"]
[]
["      2.1 Evaluación de criterios "]
[]
["Criterios",null,"Observaciones",null,null,null,null,null,null,"E"]
["1. Criterios legales","1.1 Estado legal ",{"$f":"IF(COUNTA(EvaluaciónPatente18!L20)>0,EvaluaciónPatente18!L20,\"\")","v":""},null,null,null,null,null,null,{"$f":"IF(COUNTA(EvaluaciónPatente18!C19)>0,0,IF(COUNTA(EvaluaciónPatente18!F19)>0,1,IF(COUNTA(EvaluaciónPatente18!I19)>0,2,\"\")))","v":""}]
[null,"1.2  Alcance territorial ",{"$f":"IF(COUNTA(EvaluaciónPatente18!L23)>0,EvaluaciónPatente18!L23,\"\")","v":""},null,null,null,null,null,null,{"$f":"IF(COUNTA(EvaluaciónPatente18!C22)>0,0,IF(COUNTA(EvaluaciónPatente18!F22)>0,1,IF(COUNTA(EvaluaciónPatente18!I22)>0,2,\"\")))","v":""}]
[null,"1.3 Fuerza de la protección",{"$f":"IF(COUNTA(EvaluaciónPatente18!L26)>0,EvaluaciónPatente18!L26,\"\")","v":""},null,null,null,null,null,null,{"$f":"IF(COUNTA(EvaluaciónPatente18!C25)>0,0,IF(COUNTA(EvaluaciónPatente18!F25)>0,1,IF(COUNTA(EvaluaciónPatente18!I25)>0,2,\"\")))","v":""}]
[null,"1.4 Duración de la protección",{"$f":"IF(COUNTA(EvaluaciónPatente18!L29)>0,EvaluaciónPatente18!L29,\"\")","v":""},null,null,null,null,null,null,{"$f":"IF(COUNTA(EvaluaciónPatente18!C28)>0,0,IF(COUNTA(EvaluaciónPatente18!F28)>0,1,IF(COUNTA(EvaluaciónPatente18!I28)>0,2,\"\")))","v":""}]
[null,"1.5 Alcance de la protección",{"$f":"IF(COUNTA(EvaluaciónPatente18!L32)>0,EvaluaciónPatente18!L32,\"\")","v":""},null,null,null,null,null,null,{"$f":"IF(COUNTA(EvaluaciónPatente18!C31)>0,0,IF(COUNTA(EvaluaciónPatente18!F31)>0,1,IF(COUNTA(EvaluaciónPatente18!I31)>0,2,\"\")))","v":""}]
[null,"1.6 (In)dependencia",{"$f":"IF(COUNTA(EvaluaciónPatente18!L35)>0,EvaluaciónPatente18!L35,\"\")","v":""},null,null,null,null,null,null,{"$f":"IF(COUNTA(EvaluaciónPatente18!C34)>0,0,IF(COUNTA(EvaluaciónPatente18!F34)>0,1,IF(COUNTA(EvaluaciónPatente18!I34)>0,2,\"\")))","v":""}]
["2. Criterios tecnológicos  ","2.1 Capacidad de detección",{"$f":"IF(COUNTA(EvaluaciónPatente18!L40)>0,EvaluaciónPatente18!L40,\"\")","v":" "},null,null,null,null,null,null,{"$f":"IF(COUNTA(EvaluaciónPatente18!C39)>0,0,IF(COUNTA(EvaluaciónPatente18!F39)>0,1,IF(COUNTA(EvaluaciónPatente18!I39)>0,2,\"\")))","v":""}]
[null,"2.2 Capacidad de imitación",{"$f":"IF(COUNTA(EvaluaciónPatente18!L43)>0,EvaluaciónPatente18!L43,\"\")","v":""},null,null,null,null,null,null,{"$f":"IF(COUNTA(EvaluaciónPatente18!C42)>0,0,IF(COUNTA(EvaluaciónPatente18!F42)>0,1,IF(COUNTA(EvaluaciónPatente18!I42)>0,2,\"\")))","v":""}]
[null,"2.3 Estado de desarrollo (TRL)",{"$f":"IF(COUNTA(EvaluaciónPatente18!L46)>0,EvaluaciónPatente18!L46,\"\")","v":""},null,null,null,null,null,null,{"$f":"IF(COUNTA(EvaluaciónPatente18!C45)>0,0,IF(COUNTA(EvaluaciónPatente18!F45)>0,1,IF(COUNTA(EvaluaciónPatente18!I45)>0,2,\"\")))","v":""}]
[null,"2.4 Proceso de producción / competencias ",{"$f":"IF(COUNTA(EvaluaciónPatente18!L49)>0,EvaluaciónPatente18!L49,\"\")","v":""},null,null,null,null,null,null,{"$f":"IF(COUNTA(EvaluaciónPatente18!C48)>0,0,IF(COUNTA(EvaluaciónPatente18!F48)>0,1,IF(COUNTA(EvaluaciónPatente18!I48)>0,2,\"\")))","v":""}]
[]
[null,null,"E = Evaluación",null,null,null,null,null,null,null,null,"Cubrir solo donde esté indicado"]
[]
[]
[]
[]
[]
[]
[]
["Criterios",null,"Observaciones",null,null,null,null,null,null,"E"]
["3. Criterios de mercado","3.1 Compromiso con la comercialización",{"$f":"IF(COUNTA(EvaluaciónPatente18!L54)>0,EvaluaciónPatente18!L54,\"\")","v":""},null,null,null,null,null,null,{"$f":"IF(COUNTA(EvaluaciónPatente18!C53)>0,0,IF(COUNTA(EvaluaciónPatente18!F53)>0,1,IF(COUNTA(EvaluaciónPatente18!I53)>0,2,\"\")))","v":""}]
[null,"3.2 Mercado potencial / Aplicaciones ",{"$f":"IF(COUNTA(EvaluaciónPatente18!L57)>0,EvaluaciónPatente18!L57,\"\")","v":""},null,null,null,null,null,null,{"$f":"IF(COUNTA(EvaluaciónPatente18!C56)>0,0,IF(COUNTA(EvaluaciónPatente18!F56)>0,1,IF(COUNTA(EvaluaciónPatente18!I56)>0,2,\"\")))","v":""}]
[null,"3.3 Evolución del mercado",{"$f":"IF(COUNTA(EvaluaciónPatente18!L60)>0,EvaluaciónPatente18!L60,\"\")","v":""},null,null,null,null,null,null,{"$f":"IF(COUNTA(EvaluaciónPatente18!C59)>0,0,IF(COUNTA(EvaluaciónPatente18!F59)>0,1,IF(COUNTA(EvaluaciónPatente18!I59)>0,2,\"\")))","v":""}]
[null,"3.4 Esperanza de vida en el mercado ",{"$f":"IF(COUNTA(EvaluaciónPatente18!L63)>0,EvaluaciónPatente18!L63,\"\")","v":""},null,null,null,null,null,null,{"$f":"IF(COUNTA(EvaluaciónPatente18!C62)>0,0,IF(COUNTA(EvaluaciónPatente18!F62)>0,1,IF(COUNTA(EvaluaciónPatente18!I62)>0,2,\"\")))","v":""}]
[null,"3.5 Entorno competitiva ",{"$f":"IF(COUNTA(EvaluaciónPatente18!L66)>0,EvaluaciónPatente18!L66,\"\")","v":""},null,null,null,null,null,null,{"$f":"IF(COUNTA(EvaluaciónPatente18!C65)>0,0,IF(COUNTA(EvaluaciónPatente18!F65)>0,1,IF(COUNTA(EvaluaciónPatente18!I65)>0,2,\"\")))","v":""}]
[null,"3.6 Permisos",{"$f":"IF(COUNTA(EvaluaciónPatente18!L69)>0,EvaluaciónPatente18!L69,\"\")","v":""},null,null,null,null,null,null,{"$f":"IF(COUNTA(EvaluaciónPatente18!C68)>0,0,IF(COUNTA(EvaluaciónPatente18!F68)>0,1,IF(COUNTA(EvaluaciónPatente18!I68)>0,2,\"\")))","v":""}]
[null,"3.7  Ventajas competitivas",{"$f":"IF(COUNTA(EvaluaciónPatente18!L72)>0,EvaluaciónPatente18!L72,\"\")","v":""},null,null,null,null,null,null,{"$f":"IF(COUNTA(EvaluaciónPatente18!C71)>0,0,IF(COUNTA(EvaluaciónPatente18!F71)>0,1,IF(COUNTA(EvaluaciónPatente18!I71)>0,2,\"\")))","v":""}]
[null,"3.8 Plazo de comercialización",{"$f":"IF(COUNTA(EvaluaciónPatente18!L75)>0,EvaluaciónPatente18!L75,\"\")","v":""},null,null,null,null,null,null,{"$f":"IF(COUNTA(EvaluaciónPatente18!C74)>0,0,IF(COUNTA(EvaluaciónPatente18!F74)>0,1,IF(COUNTA(EvaluaciónPatente18!I74)>0,2,\"\")))","v":""}]
[null,"3.9 Oportunidades comerciales y feedback",{"$f":"IF(COUNTA(EvaluaciónPatente18!L78)>0,EvaluaciónPatente18!L78,\"\")","v":""},null,null,null,null,null,null,{"$f":"IF(COUNTA(EvaluaciónPatente18!C77)>0,0,IF(COUNTA(EvaluaciónPatente18!F77)>0,1,IF(COUNTA(EvaluaciónPatente18!I77)>0,2,\"\")))","v":""}]
[null,null,null,null,null,null,null,null,null,null,null,"Cubrir solo donde esté indicado"]
[null,null,"E = Evaluación"]
[]
[]
[]
[]
[]
[]
[]
[]
["      2.2 Valoración general"]
[]
[]
[]
[]
[]
[]
[]
[]
[]
[]
[]
[]
[]
[]
[]
[]
[]
[]
[null,null,null,null,null,null,null,null,null,null,null,null,null,null,null,null," "]
[]
[]
[]
[]
["3. Conclusiones y observaciones"]
[]
["      3.1 Situación de la tecnología patentada de cara al proceso de una posible comercialización "]
[]
[null,"Tecnología patentada con alto potencial de transferencia o lista para transferir.",null,null,null,null,null,null,null,null,null,"Marcar una opción"]
[null,"Tecnología patentada pendiente de completar proceso de evaluación."]
[null,"Tecnología patentada con un grado de madurez que no es suficiente para iniciar un proceso de comercialización."]
[null,"Con la información aportada, la tecnología patentada no es de interés para un proceso de comercialización."]
[]
["         Justificación de la evaluación"]
[]
[null,null,null,null,null,null,null,null,null,null,null,"Indicar justificación de la evaluación"]
[{"$f":"IF(EvaluaciónPatente18!C19=\"x\", \"Patente no cumple con los requisitos mínimos. Patente revocada, expirada o caducada.\", \"\")","v":""}]
[{"$f":"IF(EvaluaciónPatente18!C22=\"x\", \"Patente no cumple con los requisitos mínimos. La protección de la patente es limitado a un mercado que no es su mercado principal. \", \"\")","v":""}]
[{"$f":"IF(EvaluaciónPatente18!C39=\"x\", \"Patente no cumple con los requisitos mínimos. Es muy difícil identificar los productos de imitación. \", \"\")","v":""}]
[{"$f":"IF(EvaluaciónPatente18!C53=\"x\", \"Patente no cumple con los requisitos mínimos. Recursos no asignados, la tecnología patentada no es clave para el equipo o el grupo. \", \"\")","v":""}]
[]
[]
[null,null,null,"   "]
["      3.2 Observaciones"]
[]
[null,null,null,null,null,null,null,null,null,null,null,"Indicar observaciones"]
[]
[]
[]
[]
[]
[]
[]
[]
[]
[]
[]
[]
[]
[]
[]
[]
[]
["      3.3 Implantación"]
[]
["Acciones",null,null,"Responsable",1,2,3,4,5,6,null,"Indicar proceso de implantación"]
[]
[]
[]
[]
[]
[]
[]
[]
[]
[]
[]
[]
[]
[]
[]
["4. Datos de la evaluación"]
[]
["Autor",null,null,null,null,"Fecha de realización"]
[{"$f":"IF(COUNTA(EvaluaciónPatente18!F12)>0,EvaluaciónPatente18!F12,\"\")","v":""},null,null,null,null,{"$f":"IF(COUNTA(EvaluaciónPatente18!F13)>0,EvaluaciónPatente18!F13,\"\")","v":""}]

{"sheet":"EvaluaciónPatente19","index":40,"n_rows":78,"n_cols":12,"rows_kept":78,"cut":false,"hidden":false,"merged":[[75,2,75,3],[57,2,57,3],[60,2,60,3],[63,2,63,3],[66,2,66,3],[69,2,69,3],[72,2,72,3],[54,2,54,3],[17,2,17,3],[20,2,20,8],[23,2,23,8],[26,2,26,8],[29,2,29,8],[32,2,32,8],[37,2,37,8],[40,2,40,8],[43,2,43,8],[46,2,46,8],[51,2,51,8],[10,1,10,3],[10,5,10,6],[11,1,11,3],[11,5,11,6],[12,1,12,3],[12,5,12,6]]}
[]
[]
[]
[]
[]
[]
[]
[]
[]
[]
[null,"Denominación de la tecnología patentada",null,null,null,null,null,null,null,"1. Incluir la denominación de la tecnología, el nombre del evaluador y la fecha de la evaluación"]
[null,"Nombre del evaluador",null,null,null,null,null,null,null,"2. Marcar con una «X» el nivel para cada criterio y los comentarios que justifiquen la elección"]
[null,"Fecha de evaluación de la tecnología patentada"]
[]
[null,"Criterios de evaluación"]
[]
[null,"1. Criterios legales"]
[null,null,"Criterio 1.1 Estado legal (Criterio de exclusión)"]
[null,null,null,"Desfavorable",null,null,"Neutro",null,null,"Favorable",null,"Comentarios"]
[null,null,null,"Patente revocada, expirada o caducada.",null,null,"-",null,null,"Por lo menos una solicitud de patente pendiente o patente concedida."]
[null,null,"Criterio 1.2 Alcance territorial (Criterio de exclusión)"]
[null,null,null,"Desfavorable",null,null,"Neutro",null,null,"Favorable",null,"Comentarios"]
[null,null,null,"La protección de la patente esta limitada a un mercado que no es su mercado principal. ",null,null,"-",null,null,"Protección en un país que es su mercado principal o en más de un país de la zona de mercado, o si la protección todavía está disponible para su elección (periodo de prioridad, PCT, EP)."]
[null,null,"Criterio 1.3 Fuerza de la protección"]
[null,null,null,"Desfavorable",null,null,"Neutro",null,null,"Favorable",null,"Comentarios"]
[null,null,null,"(PATENTES NO PUBLICADAS)\nNo se ha identificado el estado de\nla técnica o se ha identificado que\nel estado de la técnica no supone\nuna amenaza para la novedad y/o la\nactividad inventiva.\n(PATENTES PUBLICADAS)\nEvaluación de la patentabilidad por la\noficina nacional o similar existente, con\n2 o más documentos X.",null,null,"(PATENTES NO PUBLICADAS)\nSe ha identificado el estado de la\ntécnica y los documentos encontrados\nno suponen una amenaza para la\nnovedad. Sin embargo, la actividad\ninventiva es una cuestión de\ninterpretación.\n(PATENTES PUBLICADAS)\nExamen de la novedad por la oficina\nnacional o similar existente, con\ndocumentos X o Y, pero con potencial\nde conceder la patente.",null,null,"PATENTES NO PUBLICADAS)\nSe ha identificado el estado de la\ntécnica que no supone por el momento\nninguna amenaza para la novedad y la\nactividad inventiva.\n(PATENTES PUBLICADAS)\nExamen de la novedad por la oficina\nnacional o similar existente, sin\ndocumentos X o patente concedida."]
[null,null,"Criterio 1.4 Duración de la protección"]
[null,null,null,"Desfavorable",null,null,"Neutro",null,null,"Favorable",null,"Comentarios"]
[null,null,null,"A la patente le quedan menos de 6 años.",null,null,"A la patente le quedan 6-12 años",null,null,"A la patente le quedan más de 12 años"]
[null,null,"Criterio 1.5 Alcance de la protección "]
[null,null,null,"Desfavorable",null,null,"Neutro",null,null,"Favorable",null,"Comentarios"]
[null,null,null,"Las reivindicaciones son muy concretas y específicas.",null,null,"Las reivindicaciones son razonablemente amplias.",null,null,"Las reivindicaciones comprenden un principio general."]
[null,null,"Criterio 1.6 (In)dependencia"]
[null,null,null,"Desfavorable",null,null,"Neutro",null,null,"Favorable",null,"Comentarios"]
[null,null,null,"El uso de la patente depende de cotitulares fuera del ámbito habitual o de cotitulares con menos de 5% cotitularidad dentro del ámbito habitual.",null,null,"El uso de la patente depende de cotitulares, pero dentro del ámbito habitual.",null,null,"La patente no tiene cotitulares. El uso y la explotación de la patente es independiente de acuerdos con cotitulares."]
[]
[null,"2. Criterios tecnológicos "]
[null,null,"Criterio 2.1 Capacidad de detección (Criterio de exclusión y madurez)"]
[null,null,null,"Desfavorable",null,null,"Neutro",null,null,"Favorable",null,"Comentarios"]
[null,null,null,"Es muy difícil identificar los productos\nde imitación. Es prácticamente\nimposible de detectar el uso ilegal de\nun procedimiento, un método o el uso\nde un compuesto.",null,null,"Es difícil pero no imposible identificar\nproductos de imitación. La detección\nde un uso ilegal de un procedimiento,\nun método o el uso de un compuesto\nes posible, aunque difícil.",null,null,"Es fácil identificar los productos\nilegales de imitación. La detección de\nun uso ilegal de un procedimiento, un\nmétodo o el uso de un compuesto es\nfácil.",null," "]
[null,null,"Criterio 2.2 Capacidad de imitación"]
[null,null,null,"Desfavorable",null,null,"Neutro",null,null,"Favorable",null,"Comentarios"]
[null,null,null,"La tecnología patentada es fácil de identificar, copiar y producir.",null,null,"Es posible copiar y producir la tecnología patentada por ejemplo mediante ingeniería inversa.",null,null,"La tecnología patentada es muy difícil de copiar y producir."]
[null,null,"Criterio 2.3 Estado de desarrollo (TRL)"]
[null,null,null,"Desfavorable",null,null,"Neutro",null,null,"Favorable",null,"Comentarios"]
[null,null,null,"Entrono laboratorio: la invención ha sido probada, en teoría, de acuerdo con cálculos (TRL 1-2).",null,null,"Se han realizado experimentos, se han desarrollado prototipos (TRL 3-4).",null,null,"Demostración de la invención en un entorno real (TRL ≥5)."]
[null,null,"Criterio 2.4 Proceso de producción"]
[null,null,null,"Desfavorable",null,null,"Neutro",null,null,"Favorable",null,"Comentarios"]
[null,null,null,"La tecnología patentada requiere un proceso de producción completamente nuevo o modifica fundamentalmente el procedimiento actualmente en uso.",null,null,"Se requiere el desarrollo de los procesos de producción actualmente aplicados antes de poder utilizar o producir la tecnología patentada.",null,null,"La tecnología patentada puede utilizarse o producirse con el proceso de producción actualmente aplicado."]
[]
[null,"3. Criterios de mercado"]
[null,null,"Criterio 3.1 Compromiso con la comercialización (Criterio de exclusión y madurez)"]
[null,null,null,"Desfavorable",null,null,"Neutro",null,null,"Favorable",null,"Comentarios"]
[null,null,null,"Recursos no asignados, la tecnología patentada no es clave para el equipo o el grupo.",null,null,"Personas asignadas a la tecnología patentada, pero sin funciones definidas. El proceso de transferencia no es una prioridad. ",null,null,"Proyecto clave dentro de la estrategia de transferencia del grupo o equipo. Hay personas asignadas para participar en el proceso con roles establecidos."]
[null,null,"Criterio 3.2 Mercado potencial / Aplicaciones"]
[null,null,null,"Desfavorable",null,null,"Neutro",null,null,"Favorable",null,"Comentarios"]
[null,null,null,"La tecnología patentada aún no se ha dirigido a un mercado concreto o se dirige a un mercado pequeño. No está confirmado el sector de aplicación.",null,null,"Existe un mercado conocido para la tecnología patentada con un tamaño significativo dentro del -ámbito tecnológico. La aplicación se limita a un sector industrial.",null,null,"Existe un mercado conocido y grande, así como otros mercados significativos. Se han identificado numerosos ámbitos de aplicación."]
[null,null,"Criterio 3.3 Evolución del mercado"]
[null,null,null,"Desfavorable",null,null,"Neutro",null,null,"Favorable",null,"Comentarios"]
[null,null,null,"Bajo (CAGR < 4%).",null,null,"Medio (CAGR 4-8%).",null,null,"Alto (CAGR >8%)."]
[null,null,"Criterio 3.4 Esperanza de vida en el mercado"]
[null,null,null,"Desfavorable",null,null,"Neutro",null,null,"Favorable",null,"Comentarios"]
[null,null,null,"Inferior a 2 años.",null,null,"Entre 2 -5 años.",null,null,"Más de 5 años."]
[null,null,"Criterio 3.5 Entorno competitivo"]
[null,null,null,"Desfavorable",null,null,"Neutro",null,null,"Favorable",null,"Comentarios"]
[null,null,null,"No se identificaron los competidores ni productos sustitutivos.",null,null,"Situación dominante de un grupo restringido de empresas o limitado a un número escaso de empresas.",null,null,"Entorno competitivo detectado y definido. Mercado accesible y abierto."]
[null,null,"Criterio 3.6 Permisos y estándares de mercado"]
[null,null,null,"Desfavorable",null,null,"Neutro",null,null,"Favorable",null,"Comentarios"]
[null,null,null,"Se necesitan permisos o/y se tienen\nque cumplir estándares para vender\nproductos en el mercado, pero aún\nno se han identificado y analizado los\nrequisitos.",null,null,"Permisos y/o estándares necesarios\ndetectados y analizados o aplicación\nde permisos en proceso.",null,null,"No es necesario un permiso ni se\ntienen que cumplir estándares para la\nventa de productos en el mercado."]
[null,null,"Criterio 3.7 Ventajas competitivas"]
[null,null,null,"Desfavorable",null,null,"Neutro",null,null,"Favorable",null,"Comentarios"]
[null,null,null,"No se han detectado las ventajas competitivas.",null,null,"Se han definido las ventajas competitivas. La tecnología patentada ofrece al menos 1-2 ventajas sobre las tecnologías y productos existentes.",null,null,"La tecnología patentada proporciona características realmente innovadoras y distintivas que pueden utilizarse para la comercialización y la venta de posibles productos."]
[null,null,"Criterio 3.8 Plazo de comercialización"]
[null,null,null,"Desfavorable",null,null,"Neutro",null,null,"Favorable",null,"Comentarios"]
[null,null,null,"Superior a 3 años.",null,null,"Entre 2-3 años.",null,null,"Inferior a 2 años."]
[null,null,"Criterio 3.9 Oportunidades comerciales y feedback"]
[null,null,null,"Desfavorable",null,null,"Neutro",null,null,"Favorable",null,"Comentarios"]
[null,null,null,"El equipo investigador no tiene\nconocimiento sobre el entorno\ncomercial de la tecnología patentada.\nNo existe feedback por parte de\nempresas interesadas, o solo feedback\nnegativo.",null,null,"El equipo investigador tiene\noportunidades comerciales detectadas\ny conoce empresas y entidades\ninteresadas. Existe feedback por parte\nde empresas interesadas, pero sin\nintención para una cooperación.",null,null,"El equipo investigador ya ha tenido\ncontacto con empresas y entidades\ninteresadas y tiene varias oportunidades\ncomerciales detectadas. Existe feedback\npor parte de empresas interesadas, con\nintención para una cooperación."]

{"sheet":"InformePatente19","index":41,"n_rows":146,"n_cols":17,"rows_kept":146,"cut":false,"hidden":false,"merged":[[145,5,145,9],[46,2,46,8],[47,2,47,8],[48,2,48,8],[49,2,49,8],[50,2,50,8],[144,5,144,9],[28,0,31,0],[28,2,28,8],[29,2,29,8],[30,2,30,8],[31,2,31,8],[42,0,50,0],[42,2,42,8],[43,2,43,8],[44,2,44,8],[45,2,45,8],[14,0,14,9],[21,0,21,1],[22,0,27,0],[22,2,22,8],[23,2,23,8],[24,2,24,8],[25,2,25,8],[26,2,26,8],[27,2,27,8]]}
[]
[null,null,null,null,null,null,null,null,null,null,null,null,null,null,null,"Promedio"]
[null,null,null,null,null,null,null,null,null,null,null,null,null,null,null,"Criterios legales",{"$f":"IF(COUNT(SUM(J25,J26,J27,J28))>0,SUM(J25,J26,J27,J28)/8,-9999999999)","v":0}]
[null,null,null,null,null,null,null,null,null,null,null,null,null,null,null,"Criterios tecnológicos ",{"$f":"IF(COUNT(SUM(J29,J30,J31,J32))>0,SUM(J29,J30,J31,J32)/8,-9999999999)","v":0}]
[null,null,null,null,null,null,null,null,null,null,null,null,null,null,null,"Criterios de mercado",{"$f":"IF(COUNT(SUM(J43,J45,J44,J46,J47,J48,J49,J50,J51))>0,SUM(J43,J45,J44,J46,J47,J48,J49,J50,J51)/18,-9999999999)","v":0}]
[]
[]
[null,null,null,null,null,null,null,null,null,null,null,"Cubrir solo donde esté indicado"]
[]
[]
["INFORME DE EVALUACIÓN"]
[]
["1. Título"]
[]
[{"$f":"IF(COUNTA(EvaluaciónPatente19!F11)>0,EvaluaciónPatente19!F11,\"\")","v":""}]
[]
[]
["2. Evaluación"]
[]
["      2.1 Evaluación de criterios "]
[]
["Criterios",null,"Observaciones",null,null,null,null,null,null,"E"]
["1. Criterios legales","1.1 Estado legal ",{"$f":"IF(COUNTA(EvaluaciónPatente19!L20)>0,EvaluaciónPatente19!L20,\"\")","v":""},null,null,null,null,null,null,{"$f":"IF(COUNTA(EvaluaciónPatente19!C19)>0,0,IF(COUNTA(EvaluaciónPatente19!F19)>0,1,IF(COUNTA(EvaluaciónPatente19!I19)>0,2,\"\")))","v":""}]
[null,"1.2  Alcance territorial ",{"$f":"IF(COUNTA(EvaluaciónPatente19!L23)>0,EvaluaciónPatente19!L23,\"\")","v":""},null,null,null,null,null,null,{"$f":"IF(COUNTA(EvaluaciónPatente19!C22)>0,0,IF(COUNTA(EvaluaciónPatente19!F22)>0,1,IF(COUNTA(EvaluaciónPatente19!I22)>0,2,\"\")))","v":""}]
[null,"1.3 Fuerza de la protección",{"$f":"IF(COUNTA(EvaluaciónPatente19!L26)>0,EvaluaciónPatente19!L26,\"\")","v":""},null,null,null,null,null,null,{"$f":"IF(COUNTA(EvaluaciónPatente19!C25)>0,0,IF(COUNTA(EvaluaciónPatente19!F25)>0,1,IF(COUNTA(EvaluaciónPatente19!I25)>0,2,\"\")))","v":""}]
[null,"1.4 Duración de la protección",{"$f":"IF(COUNTA(EvaluaciónPatente19!L29)>0,EvaluaciónPatente19!L29,\"\")","v":""},null,null,null,null,null,null,{"$f":"IF(COUNTA(EvaluaciónPatente19!C28)>0,0,IF(COUNTA(EvaluaciónPatente19!F28)>0,1,IF(COUNTA(EvaluaciónPatente19!I28)>0,2,\"\")))","v":""}]
[null,"1.5 Alcance de la protección",{"$f":"IF(COUNTA(EvaluaciónPatente19!L32)>0,EvaluaciónPatente19!L32,\"\")","v":""},null,null,null,null,null,null,{"$f":"IF(COUNTA(EvaluaciónPatente19!C31)>0,0,IF(COUNTA(EvaluaciónPatente19!F31)>0,1,IF(COUNTA(EvaluaciónPatente19!I31)>0,2,\"\")))","v":""}]
[null,"1.6 (In)dependencia",{"$f":"IF(COUNTA(EvaluaciónPatente19!L35)>0,EvaluaciónPatente19!L35,\"\")","v":""},null,null,null,null,null,null,{"$f":"IF(COUNTA(EvaluaciónPatente19!C34)>0,0,IF(COUNTA(EvaluaciónPatente19!F34)>0,1,IF(COUNTA(EvaluaciónPatente19!I34)>0,2,\"\")))","v":""}]
["2. Criterios tecnológicos  ","2.1 Capacidad de detección",{"$f":"IF(COUNTA(EvaluaciónPatente19!L40)>0,EvaluaciónPatente19!L40,\"\")","v":" "},null,null,null,null,null,null,{"$f":"IF(COUNTA(EvaluaciónPatente19!C39)>0,0,IF(COUNTA(EvaluaciónPatente19!F39)>0,1,IF(COUNTA(EvaluaciónPatente19!I39)>0,2,\"\")))","v":""}]
[null,"2.2 Capacidad de imitación",{"$f":"IF(COUNTA(EvaluaciónPatente19!L43)>0,EvaluaciónPatente19!L43,\"\")","v":""},null,null,null,null,null,null,{"$f":"IF(COUNTA(EvaluaciónPatente19!C42)>0,0,IF(COUNTA(EvaluaciónPatente19!F42)>0,1,IF(COUNTA(EvaluaciónPatente19!I42)>0,2,\"\")))","v":""}]
[null,"2.3 Estado de desarrollo (TRL)",{"$f":"IF(COUNTA(EvaluaciónPatente19!L46)>0,EvaluaciónPatente19!L46,\"\")","v":""},null,null,null,null,null,null,{"$f":"IF(COUNTA(EvaluaciónPatente19!C45)>0,0,IF(COUNTA(EvaluaciónPatente19!F45)>0,1,IF(COUNTA(EvaluaciónPatente19!I45)>0,2,\"\")))","v":""}]
[null,"2.4 Proceso de producción / competencias ",{"$f":"IF(COUNTA(EvaluaciónPatente19!L49)>0,EvaluaciónPatente19!L49,\"\")","v":""},null,null,null,null,null,null,{"$f":"IF(COUNTA(EvaluaciónPatente19!C48)>0,0,IF(COUNTA(EvaluaciónPatente19!F48)>0,1,IF(COUNTA(EvaluaciónPatente19!I48)>0,2,\"\")))","v":""}]
[]
[null,null,"E = Evaluación",null,null,null,null,null,null,null,null,"Cubrir solo donde esté indicado"]
[]
[]
[]
[]
[]
[]
[]
["Criterios",null,"Observaciones",null,null,null,null,null,null,"E"]
["3. Criterios de mercado","3.1 Compromiso con la comercialización",{"$f":"IF(COUNTA(EvaluaciónPatente19!L54)>0,EvaluaciónPatente19!L54,\"\")","v":""},null,null,null,null,null,null,{"$f":"IF(COUNTA(EvaluaciónPatente19!C53)>0,0,IF(COUNTA(EvaluaciónPatente19!F53)>0,1,IF(COUNTA(EvaluaciónPatente19!I53)>0,2,\"\")))","v":""}]
[null,"3.2 Mercado potencial / Aplicaciones ",{"$f":"IF(COUNTA(EvaluaciónPatente19!L57)>0,EvaluaciónPatente19!L57,\"\")","v":""},null,null,null,null,null,null,{"$f":"IF(COUNTA(EvaluaciónPatente19!C56)>0,0,IF(COUNTA(EvaluaciónPatente19!F56)>0,1,IF(COUNTA(EvaluaciónPatente19!I56)>0,2,\"\")))","v":""}]
[null,"3.3 Evolución del mercado",{"$f":"IF(COUNTA(EvaluaciónPatente19!L60)>0,EvaluaciónPatente19!L60,\"\")","v":""},null,null,null,null,null,null,{"$f":"IF(COUNTA(EvaluaciónPatente19!C59)>0,0,IF(COUNTA(EvaluaciónPatente19!F59)>0,1,IF(COUNTA(EvaluaciónPatente19!I59)>0,2,\"\")))","v":""}]
[null,"3.4 Esperanza de vida en el mercado ",{"$f":"IF(COUNTA(EvaluaciónPatente19!L63)>0,EvaluaciónPatente19!L63,\"\")","v":""},null,null,null,null,null,null,{"$f":"IF(COUNTA(EvaluaciónPatente19!C62)>0,0,IF(COUNTA(EvaluaciónPatente19!F62)>0,1,IF(COUNTA(EvaluaciónPatente19!I62)>0,2,\"\")))","v":""}]
[null,"3.5 Entorno competitiva ",{"$f":"IF(COUNTA(EvaluaciónPatente19!L66)>0,EvaluaciónPatente19!L66,\"\")","v":""},null,null,null,null,null,null,{"$f":"IF(COUNTA(EvaluaciónPatente19!C65)>0,0,IF(COUNTA(EvaluaciónPatente19!F65)>0,1,IF(COUNTA(EvaluaciónPatente19!I65)>0,2,\"\")))","v":""}]
[null,"3.6 Permisos",{"$f":"IF(COUNTA(EvaluaciónPatente19!L69)>0,EvaluaciónPatente19!L69,\"\")","v":""},null,null,null,null,null,null,{"$f":"IF(COUNTA(EvaluaciónPatente19!C68)>0,0,IF(COUNTA(EvaluaciónPatente19!F68)>0,1,IF(COUNTA(EvaluaciónPatente19!I68)>0,2,\"\")))","v":""}]
[null,"3.7  Ventajas competitivas",{"$f":"IF(COUNTA(EvaluaciónPatente19!L72)>0,EvaluaciónPatente19!L72,\"\")","v":""},null,null,null,null,null,null,{"$f":"IF(COUNTA(EvaluaciónPatente19!C71)>0,0,IF(COUNTA(EvaluaciónPatente19!F71)>0,1,IF(COUNTA(EvaluaciónPatente19!I71)>0,2,\"\")))","v":""}]
[null,"3.8 Plazo de comercialización",{"$f":"IF(COUNTA(EvaluaciónPatente19!L75)>0,EvaluaciónPatente19!L75,\"\")","v":""},null,null,null,null,null,null,{"$f":"IF(COUNTA(EvaluaciónPatente19!C74)>0,0,IF(COUNTA(EvaluaciónPatente19!F74)>0,1,IF(COUNTA(EvaluaciónPatente19!I74)>0,2,\"\")))","v":""}]
[null,"3.9 Oportunidades comerciales y feedback",{"$f":"IF(COUNTA(EvaluaciónPatente19!L78)>0,EvaluaciónPatente19!L78,\"\")","v":""},null,null,null,null,null,null,{"$f":"IF(COUNTA(EvaluaciónPatente19!C77)>0,0,IF(COUNTA(EvaluaciónPatente19!F77)>0,1,IF(COUNTA(EvaluaciónPatente19!I77)>0,2,\"\")))","v":""}]
[null,null,null,null,null,null,null,null,null,null,null,"Cubrir solo donde esté indicado"]
[null,null,"E = Evaluación"]
[]
[]
[]
[]
[]
[]
[]
[]
["      2.2 Valoración general"]
[]
[]
[]
[]
[]
[]
[]
[]
[]
[]
[]
[]
[]
[]
[]
[]
[]
[]
[null,null,null,null,null,null,null,null,null,null,null,null,null,null,null,null," "]
[]
[]
[]
[]
["3. Conclusiones y observaciones"]
[]
["      3.1 Situación de la tecnología patentada de cara al proceso de una posible comercialización "]
[]
[null,"Tecnología patentada con alto potencial de transferencia o lista para transferir.",null,null,null,null,null,null,null,null,null,"Marcar una opción"]
[null,"Tecnología patentada pendiente de completar proceso de evaluación."]
[null,"Tecnología patentada con un grado de madurez que no es suficiente para iniciar un proceso de comercialización."]
[null,"Con la información aportada, la tecnología patentada no es de interés para un proceso de comercialización."]
[]
["         Justificación de la evaluación"]
[]
[null,null,null,null,null,null,null,null,null,null,null,"Indicar justificación de la evaluación"]
[{"$f":"IF(EvaluaciónPatente19!C19=\"x\", \"Patente no cumple con los requisitos mínimos. Patente revocada, expirada o caducada.\", \"\")","v":""}]
[{"$f":"IF(EvaluaciónPatente19!C22=\"x\", \"Patente no cumple con los requisitos mínimos. La protección de la patente es limitado a un mercado que no es su mercado principal. \", \"\")","v":""}]
[{"$f":"IF(EvaluaciónPatente19!C39=\"x\", \"Patente no cumple con los requisitos mínimos. Es muy difícil identificar los productos de imitación. \", \"\")","v":""}]
[{"$f":"IF(EvaluaciónPatente19!C53=\"x\", \"Patente no cumple con los requisitos mínimos. Recursos no asignados, la tecnología patentada no es clave para el equipo o el grupo. \", \"\")","v":""}]
[]
[]
[null,null,null,"   "]
["      3.2 Observaciones"]
[]
[null,null,null,null,null,null,null,null,null,null,null,"Indicar observaciones"]
[]
[]
[]
[]
[]
[]
[]
[]
[]
[]
[]
[]
[]
[]
[]
[]
[]
["      3.3 Implantación"]
[]
["Acciones",null,null,"Responsable",1,2,3,4,5,6,null,"Indicar proceso de implantación"]
[]
[]
[]
[]
[]
[]
[]
[]
[]
[]
[]
[]
[]
[]
[]
["4. Datos de la evaluación"]
[]
["Autor",null,null,null,null,"Fecha de realización"]
[{"$f":"IF(COUNTA(EvaluaciónPatente19!F12)>0,EvaluaciónPatente19!F12,\"\")","v":""},null,null,null,null,{"$f":"IF(COUNTA(EvaluaciónPatente19!F13)>0,EvaluaciónPatente19!F13,\"\")","v":""}]

{"sheet":"EvaluaciónPatente20","index":42,"n_rows":78,"n_cols":12,"rows_kept":78,"cut":false,"hidden":false,"merged":[[75,2,75,3],[57,2,57,3],[60,2,60,3],[63,2,63,3],[66,2,66,3],[69,2,69,3],[72,2,72,3],[54,2,54,3],[17,2,17,3],[20,2,20,8],[23,2,23,8],[26,2,26,8],[29,2,29,8],[32,2,32,8],[37,2,37,8],[40,2,40,8],[43,2,43,8],[46,2,46,8],[51,2,51,8],[10,1,10,3],[10,5,10,6],[11,1,11,3],[11,5,11,6],[12,1,12,3],[12,5,12,6]]}
[]
[]
[]
[]
[]
[]
[]
[]
[]
[]
[null,"Denominación de la tecnología patentada",null,null,null,null,null,null,null,"1. Incluir la denominación de la tecnología, el nombre del evaluador y la fecha de la evaluación"]
[null,"Nombre del evaluador",null,null,null,null,null,null,null,"2. Marcar con una «X» el nivel para cada criterio y los comentarios que justifiquen la elección"]
[null,"Fecha de evaluación de la tecnología patentada"]
[]
[null,"Criterios de evaluación"]
[]
[null,"1. Criterios legales"]
[null,null,"Criterio 1.1 Estado legal (Criterio de exclusión)"]
[null,null,null,"Desfavorable",null,null,"Neutro",null,null,"Favorable",null,"Comentarios"]
[null,null,null,"Patente revocada, expirada o caducada.",null,null,"-",null,null,"Por lo menos una solicitud de patente pendiente o patente concedida."]
[null,null,"Criterio 1.2 Alcance territorial (Criterio de exclusión)"]
[null,null,null,"Desfavorable",null,null,"Neutro",null,null,"Favorable",null,"Comentarios"]
[null,null,null,"La protección de la patente esta limitada a un mercado que no es su mercado principal. ",null,null,"-",null,null,"Protección en un país que es su mercado principal o en más de un país de la zona de mercado, o si la protección todavía está disponible para su elección (periodo de prioridad, PCT, EP)."]
[null,null,"Criterio 1.3 Fuerza de la protección"]
[null,null,null,"Desfavorable",null,null,"Neutro",null,null,"Favorable",null,"Comentarios"]
[null,null,null,"(PATENTES NO PUBLICADAS)\nNo se ha identificado el estado de\nla técnica o se ha identificado que\nel estado de la técnica no supone\nuna amenaza para la novedad y/o la\nactividad inventiva.\n(PATENTES PUBLICADAS)\nEvaluación de la patentabilidad por la\noficina nacional o similar existente, con\n2 o más documentos X.",null,null,"(PATENTES NO PUBLICADAS)\nSe ha identificado el estado de la\ntécnica y los documentos encontrados\nno suponen una amenaza para la\nnovedad. Sin embargo, la actividad\ninventiva es una cuestión de\ninterpretación.\n(PATENTES PUBLICADAS)\nExamen de la novedad por la oficina\nnacional o similar existente, con\ndocumentos X o Y, pero con potencial\nde conceder la patente.",null,null,"PATENTES NO PUBLICADAS)\nSe ha identificado el estado de la\ntécnica que no supone por el momento\nninguna amenaza para la novedad y la\nactividad inventiva.\n(PATENTES PUBLICADAS)\nExamen de la novedad por la oficina\nnacional o similar existente, sin\ndocumentos X o patente concedida."]
[null,null,"Criterio 1.4 Duración de la protección"]
[null,null,null,"Desfavorable",null,null,"Neutro",null,null,"Favorable",null,"Comentarios"]
[null,null,null,"A la patente le quedan menos de 6 años.",null,null,"A la patente le quedan 6-12 años",null,null,"A la patente le quedan más de 12 años"]
[null,null,"Criterio 1.5 Alcance de la protección "]
[null,null,null,"Desfavorable",null,null,"Neutro",null,null,"Favorable",null,"Comentarios"]
[null,null,null,"Las reivindicaciones son muy concretas y específicas.",null,null,"Las reivindicaciones son razonablemente amplias.",null,null,"Las reivindicaciones comprenden un principio general."]
[null,null,"Criterio 1.6 (In)dependencia"]
[null,null,null,"Desfavorable",null,null,"Neutro",null,null,"Favorable",null,"Comentarios"]
[null,null,null,"El uso de la patente depende de cotitulares fuera del ámbito habitual o de cotitulares con menos de 5% cotitularidad dentro del ámbito habitual.",null,null,"El uso de la patente depende de cotitulares, pero dentro del ámbito habitual.",null,null,"La patente no tiene cotitulares. El uso y la explotación de la patente es independiente de acuerdos con cotitulares."]
[]
[null,"2. Criterios tecnológicos "]
[null,null,"Criterio 2.1 Capacidad de detección (Criterio de exclusión y madurez)"]
[null,null,null,"Desfavorable",null,null,"Neutro",null,null,"Favorable",null,"Comentarios"]
[null,null,null,"Es muy difícil identificar los productos\nde imitación. Es prácticamente\nimposible de detectar el uso ilegal de\nun procedimiento, un método o el uso\nde un compuesto.",null,null,"Es difícil pero no imposible identificar\nproductos de imitación. La detección\nde un uso ilegal de un procedimiento,\nun método o el uso de un compuesto\nes posible, aunque difícil.",null,null,"Es fácil identificar los productos\nilegales de imitación. La detección de\nun uso ilegal de un procedimiento, un\nmétodo o el uso de un compuesto es\nfácil.",null," "]
[null,null,"Criterio 2.2 Capacidad de imitación"]
[null,null,null,"Desfavorable",null,null,"Neutro",null,null,"Favorable",null,"Comentarios"]
[null,null,null,"La tecnología patentada es fácil de identificar, copiar y producir.",null,null,"Es posible copiar y producir la tecnología patentada por ejemplo mediante ingeniería inversa.",null,null,"La tecnología patentada es muy difícil de copiar y producir."]
[null,null,"Criterio 2.3 Estado de desarrollo (TRL)"]
[null,null,null,"Desfavorable",null,null,"Neutro",null,null,"Favorable",null,"Comentarios"]
[null,null,null,"Entrono laboratorio: la invención ha sido probada, en teoría, de acuerdo con cálculos (TRL 1-2).",null,null,"Se han realizado experimentos, se han desarrollado prototipos (TRL 3-4).",null,null,"Demostración de la invención en un entorno real (TRL ≥5)."]
[null,null,"Criterio 2.4 Proceso de producción"]
[null,null,null,"Desfavorable",null,null,"Neutro",null,null,"Favorable",null,"Comentarios"]
[null,null,null,"La tecnología patentada requiere un proceso de producción completamente nuevo o modifica fundamentalmente el procedimiento actualmente en uso.",null,null,"Se requiere el desarrollo de los procesos de producción actualmente aplicados antes de poder utilizar o producir la tecnología patentada.",null,null,"La tecnología patentada puede utilizarse o producirse con el proceso de producción actualmente aplicado."]
[]
[null,"3. Criterios de mercado"]
[null,null,"Criterio 3.1 Compromiso con la comercialización (Criterio de exclusión y madurez)"]
[null,null,null,"Desfavorable",null,null,"Neutro",null,null,"Favorable",null,"Comentarios"]
[null,null,null,"Recursos no asignados, la tecnología patentada no es clave para el equipo o el grupo.",null,null,"Personas asignadas a la tecnología patentada, pero sin funciones definidas. El proceso de transferencia no es una prioridad. ",null,null,"Proyecto clave dentro de la estrategia de transferencia del grupo o equipo. Hay personas asignadas para participar en el proceso con roles establecidos."]
[null,null,"Criterio 3.2 Mercado potencial / Aplicaciones"]
[null,null,null,"Desfavorable",null,null,"Neutro",null,null,"Favorable",null,"Comentarios"]
[null,null,null,"La tecnología patentada aún no se ha dirigido a un mercado concreto o se dirige a un mercado pequeño. No está confirmado el sector de aplicación.",null,null,"Existe un mercado conocido para la tecnología patentada con un tamaño significativo dentro del -ámbito tecnológico. La aplicación se limita a un sector industrial.",null,null,"Existe un mercado conocido y grande, así como otros mercados significativos. Se han identificado numerosos ámbitos de aplicación."]
[null,null,"Criterio 3.3 Evolución del mercado"]
[null,null,null,"Desfavorable",null,null,"Neutro",null,null,"Favorable",null,"Comentarios"]
[null,null,null,"Bajo (CAGR < 4%).",null,null,"Medio (CAGR 4-8%).",null,null,"Alto (CAGR >8%)."]
[null,null,"Criterio 3.4 Esperanza de vida en el mercado"]
[null,null,null,"Desfavorable",null,null,"Neutro",null,null,"Favorable",null,"Comentarios"]
[null,null,null,"Inferior a 2 años.",null,null,"Entre 2 -5 años.",null,null,"Más de 5 años."]
[null,null,"Criterio 3.5 Entorno competitivo"]
[null,null,null,"Desfavorable",null,null,"Neutro",null,null,"Favorable",null,"Comentarios"]
[null,null,null,"No se identificaron los competidores ni productos sustitutivos.",null,null,"Situación dominante de un grupo restringido de empresas o limitado a un número escaso de empresas.",null,null,"Entorno competitivo detectado y definido. Mercado accesible y abierto."]
[null,null,"Criterio 3.6 Permisos y estándares de mercado"]
[null,null,null,"Desfavorable",null,null,"Neutro",null,null,"Favorable",null,"Comentarios"]
[null,null,null,"Se necesitan permisos o/y se tienen\nque cumplir estándares para vender\nproductos en el mercado, pero aún\nno se han identificado y analizado los\nrequisitos.",null,null,"Permisos y/o estándares necesarios\ndetectados y analizados o aplicación\nde permisos en proceso.",null,null,"No es necesario un permiso ni se\ntienen que cumplir estándares para la\nventa de productos en el mercado."]
[null,null,"Criterio 3.7 Ventajas competitivas"]
[null,null,null,"Desfavorable",null,null,"Neutro",null,null,"Favorable",null,"Comentarios"]
[null,null,null,"No se han detectado las ventajas competitivas.",null,null,"Se han definido las ventajas competitivas. La tecnología patentada ofrece al menos 1-2 ventajas sobre las tecnologías y productos existentes.",null,null,"La tecnología patentada proporciona características realmente innovadoras y distintivas que pueden utilizarse para la comercialización y la venta de posibles productos."]
[null,null,"Criterio 3.8 Plazo de comercialización"]
[null,null,null,"Desfavorable",null,null,"Neutro",null,null,"Favorable",null,"Comentarios"]
[null,null,null,"Superior a 3 años.",null,null,"Entre 2-3 años.",null,null,"Inferior a 2 años."]
[null,null,"Criterio 3.9 Oportunidades comerciales y feedback"]
[null,null,null,"Desfavorable",null,null,"Neutro",null,null,"Favorable",null,"Comentarios"]
[null,null,null,"El equipo investigador no tiene\nconocimiento sobre el entorno\ncomercial de la tecnología patentada.\nNo existe feedback por parte de\nempresas interesadas, o solo feedback\nnegativo.",null,null,"El equipo investigador tiene\noportunidades comerciales detectadas\ny conoce empresas y entidades\ninteresadas. Existe feedback por parte\nde empresas interesadas, pero sin\nintención para una cooperación.",null,null,"El equipo investigador ya ha tenido\ncontacto con empresas y entidades\ninteresadas y tiene varias oportunidades\ncomerciales detectadas. Existe feedback\npor parte de empresas interesadas, con\nintención para una cooperación."]

{"sheet":"InformePatente20","index":43,"n_rows":146,"n_cols":17,"rows_kept":146,"cut":false,"hidden":false,"merged":[[145,5,145,9],[46,2,46,8],[47,2,47,8],[48,2,48,8],[49,2,49,8],[50,2,50,8],[144,5,144,9],[28,0,31,0],[28,2,28,8],[29,2,29,8],[30,2,30,8],[31,2,31,8],[42,0,50,0],[42,2,42,8],[43,2,43,8],[44,2,44,8],[45,2,45,8],[14,0,14,9],[21,0,21,1],[22,0,27,0],[22,2,22,8],[23,2,23,8],[24,2,24,8],[25,2,25,8],[26,2,26,8],[27,2,27,8]]}
[]
[null,null,null,null,null,null,null,null,null,null,null,null,null,null,null,"Promedio"]
[null,null,null,null,null,null,null,null,null,null,null,null,null,null,null,"Criterios legales",{"$f":"IF(COUNT(SUM(J25,J26,J27,J28))>0,SUM(J25,J26,J27,J28)/8,-9999999999)","v":0}]
[null,null,null,null,null,null,null,null,null,null,null,null,null,null,null,"Criterios tecnológicos ",{"$f":"IF(COUNT(SUM(J29,J30,J31,J32))>0,SUM(J29,J30,J31,J32)/8,-9999999999)","v":0}]
[null,null,null,null,null,null,null,null,null,null,null,null,null,null,null,"Criterios de mercado",{"$f":"IF(COUNT(SUM(J43,J45,J44,J46,J47,J48,J49,J50,J51))>0,SUM(J43,J45,J44,J46,J47,J48,J49,J50,J51)/18,-9999999999)","v":0}]
[]
[]
[null,null,null,null,null,null,null,null,null,null,null,"Cubrir solo donde esté indicado"]
[]
[]
["INFORME DE EVALUACIÓN"]
[]
["1. Título"]
[]
[{"$f":"IF(COUNTA(EvaluaciónPatente20!F11)>0,EvaluaciónPatente20!F11,\"\")","v":""}]
[]
[]
["2. Evaluación"]
[]
["      2.1 Evaluación de criterios "]
[]
["Criterios",null,"Observaciones",null,null,null,null,null,null,"E"]
["1. Criterios legales","1.1 Estado legal ",{"$f":"IF(COUNTA(EvaluaciónPatente20!L20)>0,EvaluaciónPatente20!L20,\"\")","v":""},null,null,null,null,null,null,{"$f":"IF(COUNTA(EvaluaciónPatente20!C19)>0,0,IF(COUNTA(EvaluaciónPatente20!F19)>0,1,IF(COUNTA(EvaluaciónPatente20!I19)>0,2,\"\")))","v":""}]
[null,"1.2  Alcance territorial ",{"$f":"IF(COUNTA(EvaluaciónPatente20!L23)>0,EvaluaciónPatente20!L23,\"\")","v":""},null,null,null,null,null,null,{"$f":"IF(COUNTA(EvaluaciónPatente20!C22)>0,0,IF(COUNTA(EvaluaciónPatente20!F22)>0,1,IF(COUNTA(EvaluaciónPatente20!I22)>0,2,\"\")))","v":""}]
[null,"1.3 Fuerza de la protección",{"$f":"IF(COUNTA(EvaluaciónPatente20!L26)>0,EvaluaciónPatente20!L26,\"\")","v":""},null,null,null,null,null,null,{"$f":"IF(COUNTA(EvaluaciónPatente20!C25)>0,0,IF(COUNTA(EvaluaciónPatente20!F25)>0,1,IF(COUNTA(EvaluaciónPatente20!I25)>0,2,\"\")))","v":""}]
[null,"1.4 Duración de la protección",{"$f":"IF(COUNTA(EvaluaciónPatente20!L29)>0,EvaluaciónPatente20!L29,\"\")","v":""},null,null,null,null,null,null,{"$f":"IF(COUNTA(EvaluaciónPatente20!C28)>0,0,IF(COUNTA(EvaluaciónPatente20!F28)>0,1,IF(COUNTA(EvaluaciónPatente20!I28)>0,2,\"\")))","v":""}]
[null,"1.5 Alcance de la protección",{"$f":"IF(COUNTA(EvaluaciónPatente20!L32)>0,EvaluaciónPatente20!L32,\"\")","v":""},null,null,null,null,null,null,{"$f":"IF(COUNTA(EvaluaciónPatente20!C31)>0,0,IF(COUNTA(EvaluaciónPatente20!F31)>0,1,IF(COUNTA(EvaluaciónPatente20!I31)>0,2,\"\")))","v":""}]
[null,"1.6 (In)dependencia",{"$f":"IF(COUNTA(EvaluaciónPatente20!L35)>0,EvaluaciónPatente20!L35,\"\")","v":""},null,null,null,null,null,null,{"$f":"IF(COUNTA(EvaluaciónPatente20!C34)>0,0,IF(COUNTA(EvaluaciónPatente20!F34)>0,1,IF(COUNTA(EvaluaciónPatente20!I34)>0,2,\"\")))","v":""}]
["2. Criterios tecnológicos  ","2.1 Capacidad de detección",{"$f":"IF(COUNTA(EvaluaciónPatente20!L40)>0,EvaluaciónPatente20!L40,\"\")","v":" "},null,null,null,null,null,null,{"$f":"IF(COUNTA(EvaluaciónPatente20!C39)>0,0,IF(COUNTA(EvaluaciónPatente20!F39)>0,1,IF(COUNTA(EvaluaciónPatente20!I39)>0,2,\"\")))","v":""}]
[null,"2.2 Capacidad de imitación",{"$f":"IF(COUNTA(EvaluaciónPatente20!L43)>0,EvaluaciónPatente20!L43,\"\")","v":""},null,null,null,null,null,null,{"$f":"IF(COUNTA(EvaluaciónPatente20!C42)>0,0,IF(COUNTA(EvaluaciónPatente20!F42)>0,1,IF(COUNTA(EvaluaciónPatente20!I42)>0,2,\"\")))","v":""}]
[null,"2.3 Estado de desarrollo (TRL)",{"$f":"IF(COUNTA(EvaluaciónPatente20!L46)>0,EvaluaciónPatente20!L46,\"\")","v":""},null,null,null,null,null,null,{"$f":"IF(COUNTA(EvaluaciónPatente20!C45)>0,0,IF(COUNTA(EvaluaciónPatente20!F45)>0,1,IF(COUNTA(EvaluaciónPatente20!I45)>0,2,\"\")))","v":""}]
[null,"2.4 Proceso de producción / competencias ",{"$f":"IF(COUNTA(EvaluaciónPatente20!L49)>0,EvaluaciónPatente20!L49,\"\")","v":""},null,null,null,null,null,null,{"$f":"IF(COUNTA(EvaluaciónPatente20!C48)>0,0,IF(COUNTA(EvaluaciónPatente20!F48)>0,1,IF(COUNTA(EvaluaciónPatente20!I48)>0,2,\"\")))","v":""}]
[]
[null,null,"E = Evaluación",null,null,null,null,null,null,null,null,"Cubrir solo donde esté indicado"]
[]
[]
[]
[]
[]
[]
[]
["Criterios",null,"Observaciones",null,null,null,null,null,null,"E"]
["3. Criterios de mercado","3.1 Compromiso con la comercialización",{"$f":"IF(COUNTA(EvaluaciónPatente20!L54)>0,EvaluaciónPatente20!L54,\"\")","v":""},null,null,null,null,null,null,{"$f":"IF(COUNTA(EvaluaciónPatente20!C53)>0,0,IF(COUNTA(EvaluaciónPatente20!F53)>0,1,IF(COUNTA(EvaluaciónPatente20!I53)>0,2,\"\")))","v":""}]
[null,"3.2 Mercado potencial / Aplicaciones ",{"$f":"IF(COUNTA(EvaluaciónPatente20!L57)>0,EvaluaciónPatente20!L57,\"\")","v":""},null,null,null,null,null,null,{"$f":"IF(COUNTA(EvaluaciónPatente20!C56)>0,0,IF(COUNTA(EvaluaciónPatente20!F56)>0,1,IF(COUNTA(EvaluaciónPatente20!I56)>0,2,\"\")))","v":""}]
[null,"3.3 Evolución del mercado",{"$f":"IF(COUNTA(EvaluaciónPatente20!L60)>0,EvaluaciónPatente20!L60,\"\")","v":""},null,null,null,null,null,null,{"$f":"IF(COUNTA(EvaluaciónPatente20!C59)>0,0,IF(COUNTA(EvaluaciónPatente20!F59)>0,1,IF(COUNTA(EvaluaciónPatente20!I59)>0,2,\"\")))","v":""}]
[null,"3.4 Esperanza de vida en el mercado ",{"$f":"IF(COUNTA(EvaluaciónPatente20!L63)>0,EvaluaciónPatente20!L63,\"\")","v":""},null,null,null,null,null,null,{"$f":"IF(COUNTA(EvaluaciónPatente20!C62)>0,0,IF(COUNTA(EvaluaciónPatente20!F62)>0,1,IF(COUNTA(EvaluaciónPatente20!I62)>0,2,\"\")))","v":""}]
[null,"3.5 Entorno competitiva ",{"$f":"IF(COUNTA(EvaluaciónPatente20!L66)>0,EvaluaciónPatente20!L66,\"\")","v":""},null,null,null,null,null,null,{"$f":"IF(COUNTA(EvaluaciónPatente20!C65)>0,0,IF(COUNTA(EvaluaciónPatente20!F65)>0,1,IF(COUNTA(EvaluaciónPatente20!I65)>0,2,\"\")))","v":""}]
[null,"3.6 Permisos",{"$f":"IF(COUNTA(EvaluaciónPatente20!L69)>0,EvaluaciónPatente20!L69,\"\")","v":""},null,null,null,null,null,null,{"$f":"IF(COUNTA(EvaluaciónPatente20!C68)>0,0,IF(COUNTA(EvaluaciónPatente20!F68)>0,1,IF(COUNTA(EvaluaciónPatente20!I68)>0,2,\"\")))","v":""}]
[null,"3.7  Ventajas competitivas",{"$f":"IF(COUNTA(EvaluaciónPatente20!L72)>0,EvaluaciónPatente20!L72,\"\")","v":""},null,null,null,null,null,null,{"$f":"IF(COUNTA(EvaluaciónPatente20!C71)>0,0,IF(COUNTA(EvaluaciónPatente20!F71)>0,1,IF(COUNTA(EvaluaciónPatente20!I71)>0,2,\"\")))","v":""}]
[null,"3.8 Plazo de comercialización",{"$f":"IF(COUNTA(EvaluaciónPatente20!L75)>0,EvaluaciónPatente20!L75,\"\")","v":""},null,null,null,null,null,null,{"$f":"IF(COUNTA(EvaluaciónPatente20!C74)>0,0,IF(COUNTA(EvaluaciónPatente20!F74)>0,1,IF(COUNTA(EvaluaciónPatente20!I74)>0,2,\"\")))","v":""}]
[null,"3.9 Oportunidades comerciales y feedback",{"$f":"IF(COUNTA(EvaluaciónPatente20!L78)>0,EvaluaciónPatente20!L78,\"\")","v":""},null,null,null,null,null,null,{"$f":"IF(COUNTA(EvaluaciónPatente20!C77)>0,0,IF(COUNTA(EvaluaciónPatente20!F77)>0,1,IF(COUNTA(EvaluaciónPatente20!I77)>0,2,\"\")))","v":""}]
[null,null,null,null,null,null,null,null,null,null,null,"Cubrir solo donde esté indicado"]
[null,null,"E = Evaluación"]
[]
[]
[]
[]
[]
[]
[]
[]
["      2.2 Valoración general"]
[]
[]
[]
[]
[]
[]
[]
[]
[]
[]
[]
[]
[]
[]
[]
[]
[]
[]
[null,null,null,null,null,null,null,null,null,null,null,null,null,null,null,null," "]
[]
[]
[]
[]
["3. Conclusiones y observaciones"]
[]
["      3.1 Situación de la tecnología patentada de cara al proceso de una posible comercialización "]
[]
[null,"Tecnología patentada con alto potencial de transferencia o lista para transferir.",null,null,null,null,null,null,null,null,null,"Marcar una opción"]
[null,"Tecnología patentada pendiente de completar proceso de evaluación."]
[null,"Tecnología patentada con un grado de madurez que no es suficiente para iniciar un proceso de comercialización."]
[null,"Con la información aportada, la tecnología patentada no es de interés para un proceso de comercialización."]
[]
["         Justificación de la evaluación"]
[]
[null,null,null,null,null,null,null,null,null,null,null,"Indicar justificación de la evaluación"]
[{"$f":"IF(EvaluaciónPatente20!C19=\"x\", \"Patente no cumple con los requisitos mínimos. Patente revocada, expirada o caducada.\", \"\")","v":""}]
[{"$f":"IF(EvaluaciónPatente20!C22=\"x\", \"Patente no cumple con los requisitos mínimos. La protección de la patente es limitado a un mercado que no es su mercado principal. \", \"\")","v":""}]
[{"$f":"IF(EvaluaciónPatente20!C39=\"x\", \"Patente no cumple con los requisitos mínimos. Es muy difícil identificar los productos de imitación. \", \"\")","v":""}]
[{"$f":"IF(EvaluaciónPatente20!C53=\"x\", \"Patente no cumple con los requisitos mínimos. Recursos no asignados, la tecnología patentada no es clave para el equipo o el grupo. \", \"\")","v":""}]
[]
[]
[null,null,null,"   "]
["      3.2 Observaciones"]
[]
[null,null,null,null,null,null,null,null,null,null,null,"Indicar observaciones"]
[]
[]
[]
[]
[]
[]
[]
[]
[]
[]
[]
[]
[]
[]
[]
[]
[]
["      3.3 Implantación"]
[]
["Acciones",null,null,"Responsable",1,2,3,4,5,6,null,"Indicar proceso de implantación"]
[]
[]
[]
[]
[]
[]
[]
[]
[]
[]
[]
[]
[]
[]
[]
["4. Datos de la evaluación"]
[]
["Autor",null,null,null,null,"Fecha de realización"]
[{"$f":"IF(COUNTA(EvaluaciónPatente20!F12)>0,EvaluaciónPatente20!F12,\"\")","v":""},null,null,null,null,{"$f":"IF(COUNTA(EvaluaciónPatente20!F13)>0,EvaluaciónPatente20!F13,\"\")","v":""}]